Workbook

Sheet 集23
A1: 微电子学院（集成电路学院）集成电路设计与集成系统专业2023年级综合测评排名表
A2: 学院：微电子学院（集成电路学院） | C2: 盖章： | Q2: 学院分管学生工作领导签名：
A3: 学院 | B3: 专业年级 | C3: 专业年 级人数 | D3: 班级 | E3: 学号 | F3: 姓名 | G3: 德育 考评分 | H3: 德育 加减分 | I3: 德育 成绩 | J3: 智育 考试分 | K3: 智育 加减分 | L3: 智育 成绩 | M3: 体育 测评分 | N3: 体育 加减分 | O3: 体育 成绩 | P3: 综合 测评分 | Q3: 综合测评排名 | R3: 学习成绩排名 | S3: 是否有不及格 | T3: 奖学金 等级 | U3: 单项 奖学金 | V3: 荣誉称号 | W3: 学生签名
A4: 微电子学院（集成电路学院) | B4: 集成电路设计与集成系统 | C4: 109 | D4: 集231 | E4: 2330110248 | F4: 曲子研 | G4: 92 | H4: 3 | I4: =G4+H4 -> 95 | J4: 90.91 | K4: 11.75 | L4: 100 | M4: 88.3 | O4: =M4+N4 -> 88.3 | P4: =I4*0.15+L4*0.75+O4*0.1 -> 98.08 | Q4: 1 | R4: =VLOOKUP(F4,[1]Sheet12!A$2:C$110,3,0) -> 2 | S4: 否 | T4: 一等奖学金 | V4: 三好学生标兵
A5: 微电子学院（集成电路学院) | B5: 集成电路设计与集成系统 | C5: 109 | D5: 集232 | E5: 2330110286 | F5: 杨武溢 | G5: 92 | H5: 4.25 | I5: =SUM(G5,H5) -> 96.25 | J5: 90.728395 | K5: 10.5 | L5: 100 | M5: 81.6 | O5: 81.6 | P5: =I5*0.15+L5*0.75+O5*0.1 -> 97.5975 | Q5: 2 | R5: =VLOOKUP(F5,[1]Sheet12!A$2:C$110,3,0) -> 3 | S5: 否 | T5: 一等奖学金 | V5: 三好学生
A6: 微电子学院（集成电路学院) | B6: 集成电路设计与集成系统 | C6: 109 | D6: 集233 | E6: 2330110292 | F6: 荣蓉 | G6: 92 | H6: 10 | I6: 100 | J6: =VLOOKUP(F6,[2]导出计数_姓名!A$2:E$31,5,0) -> 90.48 | K6: 11.5 | L6: 100 | M6: =VLOOKUP(F6,[2]导出计数_姓名!A$2:G$31,7,0) -> 74.3 | O6: =M6+N6 -> 74.3 | P6: =I6*0.15+L6*0.75+O6*0.1 -> 97.43 | Q6: 3 | R6: =VLOOKUP(F6,[1]Sheet12!A$2:C$110,3,0) -> 4 | S6: 否 | T6: 一等奖学金 | V6: 优秀学生干部
A7: 微电子学院（集成电路学院) | B7: 集成电路设计与集成系统 | C7: 109 | D7: 集234 | E7: 2330110317 | F7: 邱苗苗 | G7: 92 | H7: 6 | I7: =G7+H7 -> 98 | J7: 89.34 | K7: 6.56 | L7: =J7+K7 -> 95.9 | M7: 76.4 | O7: 76.4 | P7: =I7*0.15+L7*0.75+O7*0.1 -> 94.265 | Q7: 4 | R7: =VLOOKUP(F7,[1]Sheet12!A$2:C$110,3,0) -> 8 | S7: 否 | T7: 一等奖学金 | V7: 三好学生
A8: 微电子学院（集成电路学院) | B8: 集成电路设计与集成系统 | C8: 109 | D8: 集231 | E8: 2330110235 | F8: 李诗雅 | G8: 92 | H8: 2 | I8: =G8+H8 -> 94 | J8: 90.98 | L8: =J8+K8 -> 90.98 | M8: 77.8 | O8: =M8+N8 -> 77.8 | P8: =I8*0.15+L8*0.75+O8*0.1 -> 90.115 | Q8: 5 | R8: =VLOOKUP(F8,[1]Sheet12!A$2:C$110,3,0) -> 1 | S8: 否 | T8: 一等奖学金 | V8: 三好学生标兵
A9: 微电子学院（集成电路学院) | B9: 集成电路设计与集成系统 | C9: 109 | D9: 集232 | E9: 2330110264 | F9: 王奕瑶 | G9: 92 | I9: =SUM(G9,H9) -> 92 | J9: 89.518519 | K9: 1.45 | L9: =SUM(J9:K9) -> 90.968519 | M9: 80 | O9: 80 | P9: =I9*0.15+L9*0.75+O9*0.1 -> 90.026389 | Q9: 6 | R9: =VLOOKUP(F9,[1]Sheet12!A$2:C$110,3,0) -> 6 | S9: 否 | T9: 二等奖学金 | V9: 三好学生
A10: 微电子学院（集成电路学院) | B10: 集成电路设计与集成系统 | C10: 109 | D10: 集231 | E10: 2333110043 | F10: 周璇 | G10: 92 | H10: 6.25 | I10: =G10+H10 -> 98.25 | J10: 87.69 | K10: 1.2 | L10: =J10+K10 -> 88.89 | M10: 82.8 | O10: =M10+N10 -> 82.8 | P10: =I10*0.15+L10*0.75+O10*0.1 -> 89.685 | Q10: 7 | R10: =VLOOKUP(F10,[1]Sheet12!A$2:C$110,3,0) -> 12 | S10: 否 | T10: 二等奖学金
A11: 微电子学院（集成电路学院) | B11: 集成电路设计与集成系统 | C11: 109 | D11: 集234 | E11: 2330110319 | F11: 岳诺言 | G11: 92 | H11: 0.95 | I11: =G11+H11 -> 92.95 | J11: 89.98 | L11: =J11+K11 -> 89.98 | M11: 80.5 | O11: 80.5 | P11: =I11*0.15+L11*0.75+O11*0.1 -> 89.4775 | Q11: 8 | R11: =VLOOKUP(F11,[1]Sheet12!A$2:C$110,3,0) -> 5 | S11: 否 | T11: 二等奖学金 | V11: 三好学生
A12: 微电子学院（集成电路学院) | B12: 集成电路设计与集成系统 | C12: 109 | D12: 集231 | E12: 2330110239 | F12: 朱静茹 | G12: 92 | H12: 1.25 | I12: =G12+H12 -> 93.25 | J12: 87.95 | K12: 1.2 | L12: =J12+K12 -> 89.15 | M12: 76.7 | O12: =M12+N12 -> 76.7 | P12: =I12*0.15+L12*0.75+O12*0.1 -> 88.52 | Q12: 9 | R12: =VLOOKUP(F12,[1]Sheet12!A$2:C$110,3,0) -> 10 | S12: 否 | T12: 二等奖学金 | V12: 三好学生
A13: 微电子学院（集成电路学院) | B13: 集成电路设计与集成系统 | C13: 109 | D13: 集232 | E13: 2330110270 | F13: 胡国际 | G13: 92 | H13: 2 | I13: =SUM(G13,H13) -> 94 | J13: 89.419753 | L13: =SUM(J13:K13) -> 89.419753 | M13: 70.8 | O13: 70.8 | P13: =I13*0.15+L13*0.75+O13*0.1 -> 88.244815 | Q13: 10 | R13: =VLOOKUP(F13,[1]Sheet12!A$2:C$110,3,0) -> 7 | S13: 否 | T13: 二等奖学金 | V13: 优秀学生干部
A14: 微电子学院（集成电路学院) | B14: 集成电路设计与集成系统 | C14: 109 | D14: 集231 | E14: 2330110254 | F14: 徐超 | G14: 92 | H14: 0.75 | I14: =G14+H14 -> 92.75 | J14: 86.28 | K14: 1.75 | L14: =J14+K14 -> 88.03 | M14: 82.15 | O14: =M14+N14 -> 82.15 | P14: =I14*0.15+L14*0.75+O14*0.1 -> 88.15 | Q14: 11 | R14: =VLOOKUP(F14,[1]Sheet12!A$2:C$110,3,0) -> 18 | S14: 否 | T14: 二等奖学金
A15: 微电子学院（集成电路学院) | B15: 集成电路设计与集成系统 | C15: 109 | D15: 集234 | E15: 2330110318 | F15: 吴婷 | G15: 92 | H15: 4.45 | I15: =G15+H15 -> 96.45 | J15: 88.56 | L15: =J15+K15 -> 88.56 | M15: 68.1 | O15: 68.1 | P15: =I15*0.15+L15*0.75+O15*0.1 -> 87.6975 | Q15: 12 | R15: =VLOOKUP(F15,[1]Sheet12!A$2:C$110,3,0) -> 9 | S15: 否 | T15: 二等奖学金 | U15: 社会工作奖 | V15: 优秀学生干部
A16: 微电子学院（集成电路学院) | B16: 集成电路设计与集成系统 | C16: 109 | D16: 集233 | E16: 2330110290 | F16: 龚梦琪 | G16: 92 | H16: 3.5 | I16: =G16+H16 -> 95.5 | J16: =VLOOKUP(F16,[2]导出计数_姓名!A$2:E$31,5,0) -> 87.8 | K16: 0.125 | L16: =J16+K16 -> 87.925 | M16: =VLOOKUP(F16,[2]导出计数_姓名!A$2:G$31,7,0) -> 70.7 | O16: =M16+N16 -> 70.7 | P16: =I16*0.15+L16*0.75+O16*0.1 -> 87.33875 | Q16: 13 | R16: =VLOOKUP(F16,[1]Sheet12!A$2:C$110,3,0) -> 11 | S16: 否 | T16: 二等奖学金
A17: 微电子学院（集成电路学院) | B17: 集成电路设计与集成系统 | C17: 109 | D17: 集233 | E17: 2330110315 | F17: 张晓东 | G17: 92 | H17: 3 | I17: =G17+H17 -> 95 | J17: =VLOOKUP(F17,[2]导出计数_姓名!A$2:E$31,5,0) -> 83.79 | K17: 2.3125 | L17: =J17+K17 -> 86.1025 | M17: =VLOOKUP(F17,[2]导出计数_姓名!A$2:G$31,7,0) -> 81 | O17: =M17+N17 -> 81 | P17: =I17*0.15+L17*0.75+O17*0.1 -> 86.926875 | Q17: 14 | R17: =VLOOKUP(F17,[1]Sheet12!A$2:C$110,3,0) -> 27 | S17: 否 | T17: 二等奖学金
A18: 微电子学院（集成电路学院) | B18: 集成电路设计与集成系统 | C18: 109 | D18: 集231 | E18: 2330110236 | F18: 钱雯婕 | G18: 92 | H18: 1.5 | I18: =G18+H18 -> 93.5 | J18: 86.67 | L18: =J18+K18 -> 86.67 | M18: 78.3 | O18: =M18+N18 -> 78.3 | P18: =I18*0.15+L18*0.75+O18*0.1 -> 86.8575 | Q18: 15 | R18: =VLOOKUP(F18,[1]Sheet12!A$2:C$110,3,0) -> 15 | S18: 否 | T18: 二等奖学金
A19: 微电子学院（集成电路学院) | B19: 集成电路设计与集成系统 | C19: 109 | D19: 集233 | E19: 2330110302 | F19: 刘军 | G19: 92 | H19: 1.25 | I19: =G19+H19 -> 93.25 | J19: =VLOOKUP(F19,[2]导出计数_姓名!A$2:E$31,5,0) -> 86.3 | L19: =J19+K19 -> 86.3 | M19: =VLOOKUP(F19,[2]导出计数_姓名!A$2:G$31,7,0) -> 79.8 | O19: =M19+N19 -> 79.8 | P19: =I19*0.15+L19*0.75+O19*0.1 -> 86.6925 | Q19: 16 | R19: =VLOOKUP(F19,[1]Sheet12!A$2:C$110,3,0) -> 17 | S19: 否 | T19: 二等奖学金
A20: 微电子学院（集成电路学院) | B20: 集成电路设计与集成系统 | C20: 109 | D20: 集232 | E20: 2330110273 | F20: 李奕琨 | G20: 92 | H20: 1.25 | I20: =SUM(G20,H20) -> 93.25 | J20: 82.444444 | K20: 6.2 | L20: =SUM(J20:K20) -> 88.644444 | M20: 53.2 | O20: 60 | P20: =I20*0.15+L20*0.75+O20*0.1 -> 86.470833 | Q20: 17 | R20: =VLOOKUP(F20,[1]Sheet12!A$2:C$110,3,0) -> 37 | S20: 否 | T20: 三等奖学金
A21: 微电子学院（集成电路学院) | B21: 集成电路设计与集成系统 | C21: 109 | D21: 集232 | E21: 2330110262 | F21: 邓蒨蒨 | G21: 92 | H21: 1.8 | I21: =SUM(G21,H21) -> 93.8 | J21: 84.876543 | K21: 1.2 | L21: =SUM(J21:K21) -> 86.076543 | M21: 76.2 | O21: 76.2 | P21: =I21*0.15+L21*0.75+O21*0.1 -> 86.247407 | Q21: 18 | R21: =VLOOKUP(F21,[1]Sheet12!A$2:C$110,3,0) -> 19 | S21: 否 | T21: 三等奖学金
A22: 微电子学院（集成电路学院) | B22: 集成电路设计与集成系统 | C22: 109 | D22: 集232 | E22: 2330110263 | F22: 钱美琪 | G22: 92 | I22: =SUM(G22,H22) -> 92 | J22: 87.234568 | L22: =SUM(J22:K22) -> 87.234568 | M22: 69.3 | O22: 69.3 | P22: =I22*0.15+L22*0.75+O22*0.1 -> 86.155926 | Q22: 19 | R22: =VLOOKUP(F22,[1]Sheet12!A$2:C$110,3,0) -> 13 | S22: 否 | T22: 三等奖学金
A23: 微电子学院（集成电路学院) | B23: 集成电路设计与集成系统 | C23: 109 | D23: 集232 | E23: 2330110284 | F23: 王子超 | G23: 92 | I23: =SUM(G23,H23) -> 92 | J23: 86.419753 | L23: =SUM(J23:K23) -> 86.419753 | M23: 66.7 | O23: 66.7 | P23: =I23*0.15+L23*0.75+O23*0.1 -> 85.284815 | Q23: 20 | R23: =VLOOKUP(F23,[1]Sheet12!A$2:C$110,3,0) -> 16 | S23: 否 | T23: 三等奖学金
A24: 微电子学院（集成电路学院) | B24: 集成电路设计与集成系统 | C24: 109 | D24: 集232 | E24: 2330110283 | F24: 汪涵 | G24: 92 | I24: =SUM(G24,H24) -> 92 | J24: 86.851852 | L24: =SUM(J24:K24) -> 86.851852 | M24: 63.2 | O24: 63.2 | P24: =I24*0.15+L24*0.75+O24*0.1 -> 85.258889 | Q24: 21 | R24: =VLOOKUP(F24,[1]Sheet12!A$2:C$110,3,0) -> 14 | S24: 否 | T24: 三等奖学金
A25: 微电子学院（集成电路学院) | B25: 集成电路设计与集成系统 | C25: 109 | D25: 集233 | E25: 2330110289 | F25: 付妍雪 | G25: 92 | H25: 5.5 | I25: =G25+H25 -> 97.5 | J25: =VLOOKUP(F25,[2]导出计数_姓名!A$2:E$31,5,0) -> 84.21 | L25: =J25+K25 -> 84.21 | M25: =VLOOKUP(F25,[2]导出计数_姓名!A$2:G$31,7,0) -> 74.2 | O25: =M25+N25 -> 74.2 | P25: =I25*0.15+L25*0.75+O25*0.1 -> 85.2025 | Q25: 22 | R25: =VLOOKUP(F25,[1]Sheet12!A$2:C$110,3,0) -> 22 | S25: 否 | T25: 三等奖学金
A26: 微电子学院（集成电路学院) | B26: 集成电路设计与集成系统 | C26: 109 | D26: 集233 | E26: 2330110293 | F26: 汪贝贝 | G26: 92 | H26: 2.25 | I26: =G26+H26 -> 94.25 | J26: =VLOOKUP(F26,[2]导出计数_姓名!A$2:E$31,5,0) -> 84.4 | K26: 0.5 | L26: =J26+K26 -> 84.9 | M26: =VLOOKUP(F26,[2]导出计数_姓名!A$2:G$31,7,0) -> 72.55 | O26: =M26+N26 -> 72.55 | P26: =I26*0.15+L26*0.75+O26*0.1 -> 85.0675 | Q26: 23 | R26: =VLOOKUP(F26,[1]Sheet12!A$2:C$110,3,0) -> 21 | S26: 否 | T26: 三等奖学金
A27: 微电子学院（集成电路学院) | B27: 集成电路设计与集成系统 | C27: 109 | D27: 集234 | E27: 2330110340 | F27: 张卫 | G27: 92 | H27: 1.5 | I27: =G27+H27 -> 93.5 | J27: 83.89 | K27: 1.2 | L27: =J27+K27 -> 85.09 | M27: 67.75 | O27: 67.75 | P27: =I27*0.15+L27*0.75+O27*0.1 -> 84.6175 | Q27: 24 | R27: =VLOOKUP(F27,[1]Sheet12!A$2:C$110,3,0) -> 26 | S27: 否 | T27: 三等奖学金
A28: 微电子学院（集成电路学院) | B28: 集成电路设计与集成系统 | C28: 109 | D28: 集233 | E28: 2330110291 | F28: 刘雁昕 | G28: 92 | H28: 1.5 | I28: =G28+H28 -> 93.5 | J28: =VLOOKUP(F28,[2]导出计数_姓名!A$2:E$31,5,0) -> 84.11 | L28: =J28+K28 -> 84.11 | M28: =VLOOKUP(F28,[2]导出计数_姓名!A$2:G$31,7,0) -> 71.75 | O28: =M28+N28 -> 71.75 | P28: =I28*0.15+L28*0.75+O28*0.1 -> 84.2825 | Q28: 25 | R28: =VLOOKUP(F28,[1]Sheet12!A$2:C$110,3,0) -> 24 | S28: 否 | T28: 三等奖学金
A29: 微电子学院（集成电路学院) | B29: 集成电路设计与集成系统 | C29: 109 | D29: 集234 | E29: 2330110323 | F29: 后琪琪 | G29: 92 | H29: 1.25 | I29: =G29+H29 -> 93.25 | J29: 80.38 | K29: 1.2 | L29: =J29+K29 -> 81.58 | M29: 90.4 | O29: 90.4 | P29: =I29*0.15+L29*0.75+O29*0.1 -> 84.2125 | Q29: 26 | R29: =VLOOKUP(F29,[1]Sheet12!A$2:C$110,3,0) -> 53 | S29: 否 | T29: 三等奖学金
A30: 微电子学院（集成电路学院) | B30: 集成电路设计与集成系统 | C30: 109 | D30: 集234 | E30: 2233110373 | F30: 王培志 | G30: 92 | H30: 1.75 | I30: =G30+H30 -> 93.75 | J30: 83 | L30: =J30+K30 -> 83 | M30: 78.7 | O30: 78.7 | P30: =I30*0.15+L30*0.75+O30*0.1 -> 84.1825 | Q30: 27 | R30: =VLOOKUP(F30,[1]Sheet12!A$2:C$110,3,0) -> 34 | S30: 否 | T30: 三等奖学金
A31: 微电子学院（集成电路学院) | B31: 集成电路设计与集成系统 | C31: 109 | D31: 集233 | E31: 2310110347 | F31: 徐子睿 | G31: 92 | H31: 1.5 | I31: =G31+H31 -> 93.5 | J31: =VLOOKUP(F31,[2]导出计数_姓名!A$2:E$31,5,0) -> 81.59 | K31: 1.2 | L31: =J31+K31 -> 82.79 | M31: =VLOOKUP(F31,[2]导出计数_姓名!A$2:G$31,7,0) -> 80.5 | O31: =M31+N31 -> 80.5 | P31: =I31*0.15+L31*0.75+O31*0.1 -> 84.1675 | Q31: 28 | R31: =VLOOKUP(F31,[1]Sheet12!A$2:C$110,3,0) -> 42 | S31: 否 | T31: 三等奖学金
A32: 微电子学院（集成电路学院) | B32: 集成电路设计与集成系统 | C32: 109 | D32: 集233 | E32: 2330110309 | F32: 王铮浩 | G32: 92 | H32: 0.75 | I32: =G32+H32 -> 92.75 | J32: =VLOOKUP(F32,[2]导出计数_姓名!A$2:E$31,5,0) -> 84.63 | L32: =J32+K32 -> 84.63 | M32: =VLOOKUP(F32,[2]导出计数_姓名!A$2:G$31,7,0) -> 67.3 | O32: =M32+N32 -> 67.3 | P32: =I32*0.15+L32*0.75+O32*0.1 -> 84.115 | Q32: 29 | R32: =VLOOKUP(F32,[1]Sheet12!A$2:C$110,3,0) -> 20 | S32: 否 | T32: 三等奖学金
A33: 微电子学院（集成电路学院) | B33: 集成电路设计与集成系统 | C33: 109 | D33: 集231 | E33: 2330110243 | F33: 黄浩 | G33: 92 | H33: 3 | I33: =G33+H33 -> 95 | J33: 83.7 | L33: =J33+K33 -> 83.7 | M33: 70.2 | O33: =M33+N33 -> 70.2 | P33: =I33*0.15+L33*0.75+O33*0.1 -> 84.045 | Q33: 30 | R33: =VLOOKUP(F33,[1]Sheet12!A$2:C$110,3,0) -> 29 | S33: 否 | T33: 三等奖学金
A34: 微电子学院（集成电路学院) | B34: 集成电路设计与集成系统 | C34: 109 | D34: 集234 | E34: 2330110334 | F34: 徐志超 | G34: 92 | H34: 0.75 | I34: =G34+H34 -> 92.75 | J34: 83.73 | L34: =J34+K34 -> 83.73 | M34: 72.9 | O34: 72.9 | P34: =I34*0.15+L34*0.75+O34*0.1 -> 84 | Q34: 31 | R34: =VLOOKUP(F34,[1]Sheet12!A$2:C$110,3,0) -> 28 | S34: 否 | T34: 三等奖学金
A35: 微电子学院（集成电路学院) | B35: 集成电路设计与集成系统 | C35: 109 | D35: 集231 | E35: 2330110237 | F35: 任蕊 | G35: 92 | H35: 2 | I35: =G35+H35 -> 94 | J35: 84.15 | L35: =J35+K35 -> 84.15 | M35: 66.55 | O35: =M35+N35 -> 66.55 | P35: =I35*0.15+L35*0.75+O35*0.1 -> 83.8675 | Q35: 32 | R35: =VLOOKUP(F35,[1]Sheet12!A$2:C$110,3,0) -> 23 | S35: 否 | T35: 三等奖学金
A36: 微电子学院（集成电路学院) | B36: 集成电路设计与集成系统 | C36: 109 | D36: 集231 | E36: 2330110246 | F36: 李宇翔 | G36: 92 | H36: 1.5 | I36: =G36+H36 -> 93.5 | J36: 84.09 | L36: =J36+K36 -> 84.09 | M36: 67.7 | O36: =M36+N36 -> 67.7 | P36: =I36*0.15+L36*0.75+O36*0.1 -> 83.8625 | Q36: 33 | R36: =VLOOKUP(F36,[1]Sheet12!A$2:C$110,3,0) -> 25 | S36: 否 | T36: 三等奖学金
A37: 微电子学院（集成电路学院) | B37: 集成电路设计与集成系统 | C37: 109 | D37: 集231 | E37: 2330110249 | F37: 宋瑞杰 | G37: 92 | H37: 1.25 | I37: =G37+H37 -> 93.25 | J37: 83.4 | L37: =J37+K37 -> 83.4 | M37: 71 | O37: =M37+N37 -> 71 | P37: =I37*0.15+L37*0.75+O37*0.1 -> 83.6375 | Q37: 34 | R37: =VLOOKUP(F37,[1]Sheet12!A$2:C$110,3,0) -> 33 | S37: 否 | T37: 三等奖学金
A38: 微电子学院（集成电路学院) | B38: 集成电路设计与集成系统 | C38: 109 | D38: 集232 | E38: 2330110278 | F38: 孙源 | G38: 92 | H38: 0.5 | I38: =SUM(G38,H38) -> 92.5 | J38: 82.641975 | K38: 1.5 | L38: =SUM(J38:K38) -> 84.141975 | M38: 63 | O38: 63 | P38: =I38*0.15+L38*0.75+O38*0.1 -> 83.281481 | Q38: 35 | R38: =VLOOKUP(F38,[1]Sheet12!A$2:C$110,3,0) -> 35 | S38: 否 | T38: 三等奖学金
A39: 微电子学院（集成电路学院) | B39: 集成电路设计与集成系统 | C39: 109 | D39: 集233 | E39: 2330110300 | F39: 匡筱曦 | G39: 92 | H39: 0.75 | I39: =G39+H39 -> 92.75 | J39: =VLOOKUP(F39,[2]导出计数_姓名!A$2:E$31,5,0) -> 83.48 | L39: =J39+K39 -> 83.48 | M39: =VLOOKUP(F39,[2]导出计数_姓名!A$2:G$31,7,0) -> 63.8 | O39: =M39+N39 -> 63.8 | P39: =I39*0.15+L39*0.75+O39*0.1 -> 82.9025 | Q39: 36 | R39: =VLOOKUP(F39,[1]Sheet12!A$2:C$110,3,0) -> 32 | S39: 否 | T39: 三等奖学金
A40: 微电子学院（集成电路学院) | B40: 集成电路设计与集成系统 | C40: 109 | D40: 集234 | E40: 2330110320 | F40: 张盼盼 | G40: 92 | H40: 0.75 | I40: =G40+H40 -> 92.75 | J40: 81.72 | L40: =J40+K40 -> 81.72 | M40: 76.1 | O40: 76.1 | P40: =I40*0.15+L40*0.75+O40*0.1 -> 82.8125 | Q40: 37 | R40: =VLOOKUP(F40,[1]Sheet12!A$2:C$110,3,0) -> 41 | S40: 否 | T40: 三等奖学金
A41: 微电子学院（集成电路学院) | B41: 集成电路设计与集成系统 | C41: 109 | D41: 集232 | E41: 2330110282 | F41: 陶威宇 | G41: 92 | H41: 0.75 | I41: =SUM(G41,H41) -> 92.75 | J41: 81.950617 | L41: =SUM(J41:K41) -> 81.950617 | M41: 73.6 | O41: 73.6 | P41: =I41*0.15+L41*0.75+O41*0.1 -> 82.735463 | Q41: 38 | R41: =VLOOKUP(F41,[1]Sheet12!A$2:C$110,3,0) -> 39 | S41: 否 | T41: 三等奖学金
A42: 微电子学院（集成电路学院) | B42: 集成电路设计与集成系统 | C42: 109 | D42: 集233 | E42: 2330110312 | F42: 肖健 | G42: 92 | H42: 0.75 | I42: =G42+H42 -> 92.75 | J42: =VLOOKUP(F42,[2]导出计数_姓名!A$2:E$31,5,0) -> 82.58 | L42: =J42+K42 -> 82.58 | M42: =VLOOKUP(F42,[2]导出计数_姓名!A$2:G$31,7,0) -> 64.5 | O42: =M42+N42 -> 64.5 | P42: =I42*0.15+L42*0.75+O42*0.1 -> 82.2975 | Q42: 39 | R42: =VLOOKUP(F42,[1]Sheet12!A$2:C$110,3,0) -> 36 | S42: 否 | T42: 三等奖学金
A43: 微电子学院（集成电路学院) | B43: 集成电路设计与集成系统 | C43: 109 | D43: 集232 | E43: 2330110276 | F43: 刘星凯 | G43: 92 | H43: 1.5 | I43: =SUM(G43,H43) -> 93.5 | J43: 80.469136 | K43: 2 | L43: =SUM(J43:K43) -> 82.469136 | M43: 63.4 | O43: 63.4 | P43: =I43*0.15+L43*0.75+O43*0.1 -> 82.216852 | Q43: 40 | R43: =VLOOKUP(F43,[1]Sheet12!A$2:C$110,3,0) -> 52 | S43: 否 | T43: 三等奖学金
A44: 微电子学院（集成电路学院) | B44: 集成电路设计与集成系统 | C44: 109 | D44: 集232 | E44: 2330110277 | F44: 宋雨乐 | G44: 92 | I44: =SUM(G44,H44) -> 92 | J44: 81.37037 | K44: 1.2 | L44: =SUM(J44:K44) -> 82.57037 | M44: 64 | O44: 64 | P44: =I44*0.15+L44*0.75+O44*0.1 -> 82.127778 | Q44: 41 | R44: =VLOOKUP(F44,[1]Sheet12!A$2:C$110,3,0) -> 44 | S44: 否 | T44: 三等奖学金
A45: 微电子学院（集成电路学院) | B45: 集成电路设计与集成系统 | C45: 109 | D45: 集231 | E45: 2330110247 | F45: 刘骐恺 | G45: 92 | H45: 1.5 | I45: =G45+H45 -> 93.5 | J45: 81.25 | L45: =J45+K45 -> 81.25 | M45: 71.4 | O45: =M45+N45 -> 71.4 | P45: =I45*0.15+L45*0.75+O45*0.1 -> 82.1025 | Q45: 42 | R45: =VLOOKUP(F45,[1]Sheet12!A$2:C$110,3,0) -> 45 | S45: 否 | T45: 三等奖学金
A46: 微电子学院（集成电路学院) | B46: 集成电路设计与集成系统 | C46: 109 | D46: 集231 | E46: 2330110251 | F46: 王春雷 | G46: 92 | H46: 0.75 | I46: =G46+H46 -> 92.75 | J46: 83.49 | L46: =J46+K46 -> 83.49 | M46: 54.8 | O46: =M46+N46 -> 54.8 | P46: =I46*0.15+L46*0.75+O46*0.1 -> 82.01 | Q46: 43 | R46: =VLOOKUP(F46,[1]Sheet12!A$2:C$110,3,0) -> 30 | S46: 是 | T46: 体测成绩不合格
A47: 微电子学院（集成电路学院) | B47: 集成电路设计与集成系统 | C47: 109 | D47: 集234 | E47: 2330110341 | F47: 朱林 | G47: 92 | H47: 0.75 | I47: =G47+H47 -> 92.75 | J47: 82.2 | L47: =J47+K47 -> 82.2 | M47: 63.7 | O47: 63.7 | P47: =I47*0.15+L47*0.75+O47*0.1 -> 81.9325 | Q47: 44 | R47: =VLOOKUP(F47,[1]Sheet12!A$2:C$110,3,0) -> 38 | S47: 否 | T47: 三等奖学金
A48: 微电子学院（集成电路学院) | B48: 集成电路设计与集成系统 | C48: 109 | D48: 集233 | E48: 2330110301 | F48: 李佳诺 | G48: 92 | H48: 0.75 | I48: =G48+H48 -> 92.75 | J48: =VLOOKUP(F48,[2]导出计数_姓名!A$2:E$31,5,0) -> 83.48 | L48: =J48+K48 -> 83.48 | M48: =VLOOKUP(F48,[2]导出计数_姓名!A$2:G$31,7,0) -> 52.6 | O48: =M48+N48 -> 52.6 | P48: =I48*0.15+L48*0.75+O48*0.1 -> 81.7825 | Q48: 45 | R48: =VLOOKUP(F48,[1]Sheet12!A$2:C$110,3,0) -> 31 | S48: 是
A49: 微电子学院（集成电路学院) | B49: 集成电路设计与集成系统 | C49: 109 | D49: 集234 | E49: 2330110333 | F49: 王培豪 | G49: 92 | H49: 0.75 | I49: =G49+H49 -> 92.75 | J49: 80.47 | L49: =J49+K49 -> 80.47 | M49: 74.7 | O49: 74.7 | P49: =I49*0.15+L49*0.75+O49*0.1 -> 81.735 | Q49: 46 | R49: =VLOOKUP(F49,[1]Sheet12!A$2:C$110,3,0) -> 51 | S49: 否
A50: 微电子学院（集成电路学院) | B50: 集成电路设计与集成系统 | C50: 109 | D50: 集234 | E50: 2330110316 | F50: 何格翊睿 | G50: 92 | H50: 4.45 | I50: =G50+H50 -> 96.45 | J50: 78.44 | L50: =J50+K50 -> 78.44 | M50: 84.3 | O50: 84.3 | P50: =I50*0.15+L50*0.75+O50*0.1 -> 81.7275 | Q50: 47 | R50: =VLOOKUP(F50,[1]Sheet12!A$2:C$110,3,0) -> 66 | S50: 否
A51: 微电子学院（集成电路学院) | B51: 集成电路设计与集成系统 | C51: 109 | D51: 集233 | E51: 2233110049 | F51: 任立航 | G51: 92 | H51: 3 | I51: =G51+H51 -> 95 | J51: =VLOOKUP(F51,[2]导出计数_姓名!A$2:E$31,5,0) -> 79.38 | L51: =J51+K51 -> 79.38 | M51: =VLOOKUP(F51,[2]导出计数_姓名!A$2:G$31,7,0) -> 77.6 | O51: =M51+N51 -> 77.6 | P51: =I51*0.15+L51*0.75+O51*0.1 -> 81.545 | Q51: 48 | R51: =VLOOKUP(F51,[1]Sheet12!A$2:C$110,3,0) -> 59 | S51: 否
A52: 微电子学院（集成电路学院) | B52: 集成电路设计与集成系统 | C52: 109 | D52: 集234 | E52: 2330110326 | F52: 冷璇 | G52: 92 | H52: 0.75 | I52: =G52+H52 -> 92.75 | J52: 80.89 | K52: 1.25 | L52: =J52+K52 -> 82.14 | M52: 57.6 | O52: 57.6 | P52: =I52*0.15+L52*0.75+O52*0.1 -> 81.2775 | Q52: 49 | R52: =VLOOKUP(F52,[1]Sheet12!A$2:C$110,3,0) -> 47 | S52: 是
A53: 微电子学院（集成电路学院) | B53: 集成电路设计与集成系统 | C53: 109 | D53: 集232 | E53: 2330110269 | F53: 冯江涛 | G53: 92 | I53: =SUM(G53,H53) -> 92 | J53: 79.283951 | L53: =SUM(J53:K53) -> 79.283951 | M53: 79.5 | O53: 79.5 | P53: =I53*0.15+L53*0.75+O53*0.1 -> 81.212963 | Q53: 50 | R53: =VLOOKUP(F53,[1]Sheet12!A$2:C$110,3,0) -> 60 | S53: 否
A54: 微电子学院（集成电路学院) | B54: 集成电路设计与集成系统 | C54: 109 | D54: 集231 | E54: 2208110088 | F54: 刘晨辉 | G54: 92 | H54: 1.75 | I54: =G54+H54 -> 93.75 | J54: 78.75 | L54: =J54+K54 -> 78.75 | M54: 80.4 | O54: =M54+N54 -> 80.4 | P54: =I54*0.15+L54*0.75+O54*0.1 -> 81.165 | Q54: 51 | R54: =VLOOKUP(F54,[1]Sheet12!A$2:C$110,3,0) -> 62 | S54: 否
A55: 微电子学院（集成电路学院) | B55: 集成电路设计与集成系统 | C55: 109 | D55: 集234 | E55: 2310110073 | F55: 陈奕铭 | G55: 92 | H55: 0.75 | I55: =G55+H55 -> 92.75 | J55: 81.87 | L55: =J55+K55 -> 81.87 | M55: 58.15 | O55: 58.15 | P55: =I55*0.15+L55*0.75+O55*0.1 -> 81.13 | Q55: 52 | R55: =VLOOKUP(F55,[1]Sheet12!A$2:C$110,3,0) -> 40 | S55: 是
A56: 微电子学院（集成电路学院) | B56: 集成电路设计与集成系统 | C56: 109 | D56: 集231 | E56: 2330110258 | F56: 叶贝然 | G56: 92 | H56: 0.75 | I56: =G56+H56 -> 92.75 | J56: 79.94 | L56: =J56+K56 -> 79.94 | M56: 69.5 | O56: =M56+N56 -> 69.5 | P56: =I56*0.15+L56*0.75+O56*0.1 -> 80.8175 | Q56: 53 | R56: =VLOOKUP(F56,[1]Sheet12!A$2:C$110,3,0) -> 54 | S56: 否
A57: 微电子学院（集成电路学院) | B57: 集成电路设计与集成系统 | C57: 109 | D57: 集232 | E57: 2330110288 | F57: 朱子旭 | G57: 92 | H57: 0.75 | I57: =SUM(G57,H57) -> 92.75 | J57: 80.703704 | L57: =SUM(J57:K57) -> 80.703704 | M57: 63.6 | O57: 63.6 | P57: =I57*0.15+L57*0.75+O57*0.1 -> 80.800278 | Q57: 54 | R57: =VLOOKUP(F57,[1]Sheet12!A$2:C$110,3,0) -> 48 | S57: 否
A58: 微电子学院（集成电路学院) | B58: 集成电路设计与集成系统 | C58: 109 | D58: 集233 | E58: 2333110093 | F58: 唐屹 | G58: 92 | H58: 0.75 | I58: =G58+H58 -> 92.75 | J58: =VLOOKUP(F58,[2]导出计数_姓名!A$2:E$31,5,0) -> 80.51 | L58: =J58+K58 -> 80.51 | M58: =VLOOKUP(F58,[2]导出计数_姓名!A$2:G$31,7,0) -> 64.8 | O58: =M58+N58 -> 64.8 | P58: =I58*0.15+L58*0.75+O58*0.1 -> 80.775 | Q58: 55 | R58: =VLOOKUP(F58,[1]Sheet12!A$2:C$110,3,0) -> 50 | S58: 否
A59: 微电子学院（集成电路学院) | B59: 集成电路设计与集成系统 | C59: 109 | D59: 集232 | E59: 2330110287 | F59: 赵乐洋 | G59: 92 | H59: 0.75 | I59: =SUM(G59,H59) -> 92.75 | J59: 79.91358 | L59: =SUM(J59:K59) -> 79.91358 | M59: 69.2 | O59: 69.2 | P59: =I59*0.15+L59*0.75+O59*0.1 -> 80.767685 | Q59: 56 | R59: =VLOOKUP(F59,[1]Sheet12!A$2:C$110,3,0) -> 55 | S59: 否
A60: 微电子学院（集成电路学院) | B60: 集成电路设计与集成系统 | C60: 109 | D60: 集231 | E60: 2330110250 | F60: 汤俊杰 | G60: 92 | H60: 0.75 | I60: =G60+H60 -> 92.75 | J60: 81.12 | L60: =J60+K60 -> 81.12 | M60: 60 | O60: =M60+N60 -> 60 | P60: =I60*0.15+L60*0.75+O60*0.1 -> 80.7525 | Q60: 57 | R60: =VLOOKUP(F60,[1]Sheet12!A$2:C$110,3,0) -> 46 | S60: 否
A61: 微电子学院（集成电路学院) | B61: 集成电路设计与集成系统 | C61: 109 | D61: 集233 | E61: 2330110304 | F61: 孟自远 | G61: 92 | H61: 0.75 | I61: =G61+H61 -> 92.75 | J61: =VLOOKUP(F61,[2]导出计数_姓名!A$2:E$31,5,0) -> 78.63 | L61: =J61+K61 -> 78.63 | M61: =VLOOKUP(F61,[2]导出计数_姓名!A$2:G$31,7,0) -> 76.4 | O61: =M61+N61 -> 76.4 | P61: =I61*0.15+L61*0.75+O61*0.1 -> 80.525 | Q61: 58 | R61: =VLOOKUP(F61,[1]Sheet12!A$2:C$110,3,0) -> 64 | S61: 是
A62: 微电子学院（集成电路学院) | B62: 集成电路设计与集成系统 | C62: 109 | D62: 集232 | E62: 2208110089 | F62: 刘宏宇 | G62: 92 | I62: =SUM(G62,H62) -> 92 | J62: 80.580247 | L62: =SUM(J62:K62) -> 80.580247 | M62: 61.3 | O62: 61.3 | P62: =I62*0.15+L62*0.75+O62*0.1 -> 80.365185 | Q62: 59 | R62: =VLOOKUP(F62,[1]Sheet12!A$2:C$110,3,0) -> 49 | S62: 否
A63: 微电子学院（集成电路学院) | B63: 集成电路设计与集成系统 | C63: 109 | D63: 集231 | E63: 2330110252 | F63: 王硕 | G63: 92 | H63: 0.75 | I63: =G63+H63 -> 92.75 | J63: 79.58 | L63: =J63+K63 -> 79.58 | M63: 66.8 | O63: =M63+N63 -> 66.8 | P63: =I63*0.15+L63*0.75+O63*0.1 -> 80.2775 | Q63: 60 | R63: =VLOOKUP(F63,[1]Sheet12!A$2:C$110,3,0) -> 58 | S63: 否
A64: 微电子学院（集成电路学院) | B64: 集成电路设计与集成系统 | C64: 109 | D64: 集231 | E64: 2330110240 | F64: 陈泉中 | G64: 92 | H64: 0.75 | I64: =G64+H64 -> 92.75 | J64: 77.85 | L64: =J64+K64 -> 77.85 | M64: 79.5 | O64: =M64+N64 -> 79.5 | P64: =I64*0.15+L64*0.75+O64*0.1 -> 80.25 | Q64: 61 | R64: =VLOOKUP(F64,[1]Sheet12!A$2:C$110,3,0) -> 71 | S64: 否
A65: 微电子学院（集成电路学院) | B65: 集成电路设计与集成系统 | C65: 109 | D65: 集232 | E65: 2330110271 | F65: 胡子祥 | G65: 92 | H65: 0.75 | I65: =SUM(G65,H65) -> 92.75 | J65: 79.901235 | L65: =SUM(J65:K65) -> 79.901235 | M65: 63.6 | O65: 63.6 | P65: =I65*0.15+L65*0.75+O65*0.1 -> 80.198426 | Q65: 62 | R65: =VLOOKUP(F65,[1]Sheet12!A$2:C$110,3,0) -> 56 | S65: 否
A66: 微电子学院（集成电路学院) | B66: 集成电路设计与集成系统 | C66: 109 | D66: 集234 | E66: 2330110321 | F66: 毕海靖 | G66: 92 | H66: 0.75 | I66: =G66+H66 -> 92.75 | J66: 79.24 | L66: =J66+K66 -> 79.24 | M66: 68 | O66: 68 | P66: =I66*0.15+L66*0.75+O66*0.1 -> 80.1425 | Q66: 63 | R66: =VLOOKUP(F66,[1]Sheet12!A$2:C$110,3,0) -> 61 | S66: 否
A67: 微电子学院（集成电路学院) | B67: 集成电路设计与集成系统 | C67: 109 | D67: 集231 | E67: 2330110253 | F67: 王涛炜 | G67: 92 | H67: 1.25 | I67: =G67+H67 -> 93.25 | J67: 81.58 | L67: =J67+K67 -> 81.58 | M67: 47.7 | O67: =M67+N67 -> 47.7 | P67: =I67*0.15+L67*0.75+O67*0.1 -> 79.9425 | Q67: 64 | R67: =VLOOKUP(F67,[1]Sheet12!A$2:C$110,3,0) -> 43 | S67: 是
A68: 微电子学院（集成电路学院) | B68: 集成电路设计与集成系统 | C68: 109 | D68: 集233 | E68: 2330110299 | F68: 何苏林 | G68: 92 | H68: 0.75 | I68: =G68+H68 -> 92.75 | J68: =VLOOKUP(F68,[2]导出计数_姓名!A$2:E$31,5,0) -> 79.7 | L68: =J68+K68 -> 79.7 | M68: =VLOOKUP(F68,[2]导出计数_姓名!A$2:G$31,7,0) -> 60.4 | O68: =M68+N68 -> 60.4 | P68: =I68*0.15+L68*0.75+O68*0.1 -> 79.7275 | Q68: 65 | R68: =VLOOKUP(F68,[1]Sheet12!A$2:C$110,3,0) -> 57 | S68: 否
A69: 微电子学院（集成电路学院) | B69: 集成电路设计与集成系统 | C69: 109 | D69: 集234 | E69: 2330110338 | F69: 张垲雨 | G69: 92 | H69: 0.75 | I69: =G69+H69 -> 92.75 | J69: 78.31 | L69: =J69+K69 -> 78.31 | M69: 69.3 | O69: 69.3 | P69: =I69*0.15+L69*0.75+O69*0.1 -> 79.575 | Q69: 66 | R69: =VLOOKUP(F69,[1]Sheet12!A$2:C$110,3,0) -> 68 | S69: 否
A70: 微电子学院（集成电路学院) | B70: 集成电路设计与集成系统 | C70: 109 | D70: 集231 | E70: 2330110244 | F70: 金逸恒 | G70: 92 | H70: 1.5 | I70: =G70+H70 -> 93.5 | J70: 77.81 | L70: =J70+K70 -> 77.81 | M70: 67.8 | O70: =M70+N70 -> 67.8 | P70: =I70*0.15+L70*0.75+O70*0.1 -> 79.1625 | Q70: 67 | R70: =VLOOKUP(F70,[1]Sheet12!A$2:C$110,3,0) -> 72 | S70: 否
A71: 微电子学院（集成电路学院) | B71: 集成电路设计与集成系统 | C71: 109 | D71: 集233 | E71: 2333110171 | F71: 丰敬奇 | G71: 92 | H71: 0.75 | I71: =G71+H71 -> 92.75 | J71: =VLOOKUP(F71,[2]导出计数_姓名!A$2:E$31,5,0) -> 75.15 | L71: =J71+K71 -> 75.15 | M71: =VLOOKUP(F71,[2]导出计数_姓名!A$2:G$31,7,0) -> 86.6 | O71: =M71+N71 -> 86.6 | P71: =I71*0.15+L71*0.75+O71*0.1 -> 78.935 | Q71: 68 | R71: =VLOOKUP(F71,[1]Sheet12!A$2:C$110,3,0) -> 81 | S71: 是
A72: 微电子学院（集成电路学院) | B72: 集成电路设计与集成系统 | C72: 109 | D72: 集232 | E72: 2330110272 | F72: 姜烨 | G72: 92 | H72: 0.75 | I72: =SUM(G72,H72) -> 92.75 | J72: 78.679012 | L72: =SUM(J72:K72) -> 78.679012 | M72: 59.6 | O72: 59.6 | P72: =I72*0.15+L72*0.75+O72*0.1 -> 78.881759 | Q72: 69 | R72: =VLOOKUP(F72,[1]Sheet12!A$2:C$110,3,0) -> 63 | S72: 是
A73: 微电子学院（集成电路学院) | B73: 集成电路设计与集成系统 | C73: 109 | D73: 集233 | E73: 2330110308 | F73: 汪帅 | G73: 92 | H73: 0.75 | I73: =G73+H73 -> 92.75 | J73: =VLOOKUP(F73,[2]导出计数_姓名!A$2:E$31,5,0) -> 78.53 | L73: =J73+K73 -> 78.53 | M73: =VLOOKUP(F73,[2]导出计数_姓名!A$2:G$31,7,0) -> 60 | O73: =M73+N73 -> 60 | P73: =I73*0.15+L73*0.75+O73*0.1 -> 78.81 | Q73: 70 | R73: =VLOOKUP(F73,[1]Sheet12!A$2:C$110,3,0) -> 65 | S73: 否
A74: 微电子学院（集成电路学院) | B74: 集成电路设计与集成系统 | C74: 109 | D74: 集234 | E74: 2330110339 | F74: 张瑞 | G74: 92 | H74: 0.75 | I74: =G74+H74 -> 92.75 | J74: 78.11 | L74: =J74+K74 -> 78.11 | M74: 59 | O74: 59 | P74: =I74*0.15+L74*0.75+O74*0.1 -> 78.395 | Q74: 71 | R74: =VLOOKUP(F74,[1]Sheet12!A$2:C$110,3,0) -> 69 | S74: 是
A75: 微电子学院（集成电路学院) | B75: 集成电路设计与集成系统 | C75: 109 | D75: 集231 | E75: 2330110256 | F75: 杨加宝 | G75: 92 | H75: 0.75 | I75: =G75+H75 -> 92.75 | J75: 76.12 | L75: =J75+K75 -> 76.12 | M75: 72.9 | O75: =M75+N75 -> 72.9 | P75: =I75*0.15+L75*0.75+O75*0.1 -> 78.2925 | Q75: 72 | R75: =VLOOKUP(F75,[1]Sheet12!A$2:C$110,3,0) -> 78 | S75: 否
A76: 微电子学院（集成电路学院) | B76: 集成电路设计与集成系统 | C76: 109 | D76: 集232 | E76: 2330110279 | F76: 唐可凡 | G76: 92 | I76: =SUM(G76,H76) -> 92 | J76: 77.901235 | L76: =SUM(J76:K76) -> 77.901235 | M76: 58.8 | O76: 58.8 | P76: =I76*0.15+L76*0.75+O76*0.1 -> 78.105926 | Q76: 73 | R76: =VLOOKUP(F76,[1]Sheet12!A$2:C$110,3,0) -> 70 | S76: 是
A77: 微电子学院（集成电路学院) | B77: 集成电路设计与集成系统 | C77: 109 | D77: 集233 | E77: 2330110298 | F77: 杜敏康 | G77: 92 | H77: 0.75 | I77: =G77+H77 -> 92.75 | J77: =VLOOKUP(F77,[2]导出计数_姓名!A$2:E$31,5,0) -> 74.84 | L77: =J77+K77 -> 74.84 | M77: =VLOOKUP(F77,[2]导出计数_姓名!A$2:G$31,7,0) -> 80.6 | O77: =M77+N77 -> 80.6 | P77: =I77*0.15+L77*0.75+O77*0.1 -> 78.1025 | Q77: 74 | R77: =VLOOKUP(F77,[1]Sheet12!A$2:C$110,3,0) -> 83 | S77: 否
A78: 微电子学院（集成电路学院) | B78: 集成电路设计与集成系统 | C78: 109 | D78: 集234 | E78: 2330110330 | F78: 卢浩 | G78: 92 | H78: 2.25 | I78: =G78+H78 -> 94.25 | J78: 74.98 | L78: =J78+K78 -> 74.98 | M78: 76 | O78: 76 | P78: =I78*0.15+L78*0.75+O78*0.1 -> 77.9725 | Q78: 75 | R78: =VLOOKUP(F78,[1]Sheet12!A$2:C$110,3,0) -> 82 | S78: 是
A79: 微电子学院（集成电路学院) | B79: 集成电路设计与集成系统 | C79: 109 | D79: 集233 | E79: 2330110314 | F79: 姚虹宇 | G79: 92 | H79: 1.75 | I79: =G79+H79 -> 93.75 | J79: =VLOOKUP(F79,[2]导出计数_姓名!A$2:E$31,5,0) -> 75.3 | L79: =J79+K79 -> 75.3 | M79: =VLOOKUP(F79,[2]导出计数_姓名!A$2:G$31,7,0) -> 73.4 | O79: =M79+N79 -> 73.4 | P79: =I79*0.15+L79*0.75+O79*0.1 -> 77.8775 | Q79: 76 | R79: =VLOOKUP(F79,[1]Sheet12!A$2:C$110,3,0) -> 80 | S79: 否
A80: 微电子学院（集成电路学院) | B80: 集成电路设计与集成系统 | C80: 109 | D80: 集234 | E80: 2330110327 | F80: 刘安贤 | G80: 92 | H80: 0.75 | I80: =G80+H80 -> 92.75 | J80: 77.09 | L80: =J80+K80 -> 77.09 | M80: 60 | O80: 60 | P80: =I80*0.15+L80*0.75+O80*0.1 -> 77.73 | Q80: 77 | R80: =VLOOKUP(F80,[1]Sheet12!A$2:C$110,3,0) -> 75 | S80: 否
A81: 微电子学院（集成电路学院) | B81: 集成电路设计与集成系统 | C81: 109 | D81: 集232 | E81: 2330110274 | F81: 林子翔 | G81: 92 | I81: =SUM(G81,H81) -> 92 | J81: 77.555556 | L81: =SUM(J81:K81) -> 77.555556 | M81: 57.4 | O81: 57.4 | P81: =I81*0.15+L81*0.75+O81*0.1 -> 77.706667 | Q81: 78 | R81: =VLOOKUP(F81,[1]Sheet12!A$2:C$110,3,0) -> 74 | S81: 是
A82: 微电子学院（集成电路学院) | B82: 集成电路设计与集成系统 | C82: 109 | D82: 集234 | E82: 2330110331 | F82: 孙思远 | G82: 92 | H82: 0.75 | I82: =G82+H82 -> 92.75 | J82: 76.54 | L82: =J82+K82 -> 76.54 | M82: 61.3 | O82: 61.3 | P82: =I82*0.15+L82*0.75+O82*0.1 -> 77.4475 | Q82: 79 | R82: =VLOOKUP(F82,[1]Sheet12!A$2:C$110,3,0) -> 76 | S82: 否
A83: 微电子学院（集成电路学院) | B83: 集成电路设计与集成系统 | C83: 109 | D83: 集232 | E83: 2310110367 | F83: 丁浩轩 | G83: 92 | I83: =SUM(G83,H83) -> 92 | J83: 74.777778 | L83: =SUM(J83:K83) -> 74.777778 | M83: 28.8 | O83: 75.4 | P83: =I83*0.15+L83*0.75+O83*0.1 -> 77.423333 | Q83: 80 | R83: =VLOOKUP(F83,[1]Sheet12!A$2:C$110,3,0) -> 84 | S83: 否
A84: 微电子学院（集成电路学院) | B84: 集成电路设计与集成系统 | C84: 109 | D84: 集232 | E84: 2334110153 | F84: 庄飞龙 | G84: 92 | I84: =SUM(G84,H84) -> 92 | J84: 76.098765 | L84: =SUM(J84:K84) -> 76.098765 | M84: 64.6 | O84: 64.6 | P84: =I84*0.15+L84*0.75+O84*0.1 -> 77.334074 | Q84: 81 | R84: =VLOOKUP(F84,[1]Sheet12!A$2:C$110,3,0) -> 79 | S84: 否
A85: 微电子学院（集成电路学院) | B85: 集成电路设计与集成系统 | C85: 109 | D85: 集231 | E85: 2330110257 | F85: 杨曜华 | G85: 92 | H85: 1.25 | I85: =G85+H85 -> 93.25 | J85: 76.41 | L85: =J85+K85 -> 76.41 | M85: 60 | O85: =M85+N85 -> 60 | P85: =I85*0.15+L85*0.75+O85*0.1 -> 77.295 | Q85: 82 | R85: =VLOOKUP(F85,[1]Sheet12!A$2:C$110,3,0) -> 77 | S85: 是
A86: 微电子学院（集成电路学院) | B86: 集成电路设计与集成系统 | C86: 109 | D86: 集234 | E86: 2330110337 | F86: 张家龙 | G86: 92 | H86: 0.75 | I86: =G86+H86 -> 92.75 | J86: 73.95 | L86: =J86+K86 -> 73.95 | M86: 78.75 | O86: 78.75 | P86: =I86*0.15+L86*0.75+O86*0.1 -> 77.25 | Q86: 83 | R86: =VLOOKUP(F86,[1]Sheet12!A$2:C$110,3,0) -> 92 | S86: 否
A87: 微电子学院（集成电路学院) | B87: 集成电路设计与集成系统 | C87: 109 | D87: 集233 | E87: 2330110307 | F87: 孙翰 | G87: 92 | H87: 2.75 | I87: =G87+H87 -> 94.75 | J87: =VLOOKUP(F87,[2]导出计数_姓名!A$2:E$31,5,0) -> 78.35 | L87: =J87+K87 -> 78.35 | M87: =VLOOKUP(F87,[2]导出计数_姓名!A$2:G$31,7,0) -> 42 | O87: =M87+N87 -> 42 | P87: =I87*0.15+L87*0.75+O87*0.1 -> 77.175 | Q87: 84 | R87: =VLOOKUP(F87,[1]Sheet12!A$2:C$110,3,0) -> 67 | S87: 是
A88: 微电子学院（集成电路学院) | B88: 集成电路设计与集成系统 | C88: 109 | D88: 集232 | E88: 2330110267 | F88: 崔晓卓 | G88: 92 | I88: =SUM(G88,H88) -> 92 | J88: 74.333333 | L88: =SUM(J88:K88) -> 74.333333 | M88: 75 | O88: 75 | P88: =I88*0.15+L88*0.75+O88*0.1 -> 77.05 | Q88: 85 | R88: =VLOOKUP(F88,[1]Sheet12!A$2:C$110,3,0) -> 86 | S88: 是
A89: 微电子学院（集成电路学院) | B89: 集成电路设计与集成系统 | C89: 109 | D89: 集231 | E89: 2330110260 | F89: 张泽骋 | G89: 92 | H89: 0.75 | I89: =G89+H89 -> 92.75 | J89: 74.36 | L89: =J89+K89 -> 74.36 | M89: 66.55 | O89: =M89+N89 -> 66.55 | P89: =I89*0.15+L89*0.75+O89*0.1 -> 76.3375 | Q89: 86 | R89: =VLOOKUP(F89,[1]Sheet12!A$2:C$110,3,0) -> 85 | S89: 否
A90: 微电子学院（集成电路学院) | B90: 集成电路设计与集成系统 | C90: 109 | D90: 集234 | E90: 2330110335 | F90: 姚冬强 | G90: 92 | H90: 0.75 | I90: =G90+H90 -> 92.75 | J90: 77.65 | L90: =J90+K90 -> 77.65 | M90: 40.3 | O90: 40.3 | P90: =I90*0.15+L90*0.75+O90*0.1 -> 76.18 | Q90: 87 | R90: =VLOOKUP(F90,[1]Sheet12!A$2:C$110,3,0) -> 73 | S90: 是
A91: 微电子学院（集成电路学院) | B91: 集成电路设计与集成系统 | C91: 109 | D91: 集234 | E91: 2233110348 | F91: 杨乐 | G91: 92 | H91: 0.75 | I91: =G91+H91 -> 92.75 | J91: 74.31 | L91: =J91+K91 -> 74.31 | M91: 64.9 | O91: 64.9 | P91: =I91*0.15+L91*0.75+O91*0.1 -> 76.135 | Q91: 88 | R91: =VLOOKUP(F91,[1]Sheet12!A$2:C$110,3,0) -> 88 | S91: 是
A92: 微电子学院（集成电路学院) | B92: 集成电路设计与集成系统 | C92: 109 | D92: 集232 | E92: 2330110280 | F92: 唐毅 | G92: 92 | I92: =SUM(G92,H92) -> 92 | J92: 74.320988 | L92: =SUM(J92:K92) -> 74.320988 | M92: 61 | O92: 61 | P92: =I92*0.15+L92*0.75+O92*0.1 -> 75.640741 | Q92: 89 | R92: =VLOOKUP(F92,[1]Sheet12!A$2:C$110,3,0) -> 87 | S92: 否
A93: 微电子学院（集成电路学院) | B93: 集成电路设计与集成系统 | C93: 109 | D93: 集232 | E93: 2330110265 | F93: 张耀玥 | G93: 92 | I93: =SUM(G93,H93) -> 92 | J93: 73.740741 | L93: =SUM(J93:K93) -> 73.740741 | M93: 64.2 | O93: 64.2 | P93: =I93*0.15+L93*0.75+O93*0.1 -> 75.525556 | Q93: 90 | R93: =VLOOKUP(F93,[1]Sheet12!A$2:C$110,3,0) -> 93 | S93: 是
A94: 微电子学院（集成电路学院) | B94: 集成电路设计与集成系统 | C94: 109 | D94: 集231 | E94: 2333110113 | F94: 衡冠佐 | G94: 92 | H94: 0.75 | I94: =G94+H94 -> 92.75 | J94: 72.91 | L94: =J94+K94 -> 72.91 | M94: 66 | O94: =M94+N94 -> 66 | P94: =I94*0.15+L94*0.75+O94*0.1 -> 75.195 | Q94: 91 | R94: =VLOOKUP(F94,[1]Sheet12!A$2:C$110,3,0) -> 96 | S94: 否
A95: 微电子学院（集成电路学院) | B95: 集成电路设计与集成系统 | C95: 109 | D95: 集234 | E95: 2334110526 | F95: 曹闯 | G95: 92 | H95: 0.75 | I95: =G95+H95 -> 92.75 | J95: 74.26 | L95: =J95+K95 -> 74.26 | M95: 54.8 | O95: 54.8 | P95: =I95*0.15+L95*0.75+O95*0.1 -> 75.0875 | Q95: 92 | R95: =VLOOKUP(F95,[1]Sheet12!A$2:C$110,3,0) -> 90 | S95: 是
A96: 微电子学院（集成电路学院) | B96: 集成电路设计与集成系统 | C96: 109 | D96: 集231 | E96: 2330110241 | F96: 陈益民 | G96: 92 | H96: 2 | I96: =G96+H96 -> 94 | J96: 73.37 | L96: =J96+K96 -> 73.37 | M96: 56 | O96: =M96+N96 -> 56 | P96: =I96*0.15+L96*0.75+O96*0.1 -> 74.7275 | Q96: 93 | R96: =VLOOKUP(F96,[1]Sheet12!A$2:C$110,3,0) -> 94 | S96: 是
A97: 微电子学院（集成电路学院) | B97: 集成电路设计与集成系统 | C97: 109 | D97: 集234 | E97: 2330110329 | F97: 刘剑奇 | G97: 92 | H97: 0.75 | I97: =G97+H97 -> 92.75 | J97: 71.54 | L97: =J97+K97 -> 71.54 | M97: 71.3 | O97: 71.3 | P97: =I97*0.15+L97*0.75+O97*0.1 -> 74.6975 | Q97: 94 | R97: =VLOOKUP(F97,[1]Sheet12!A$2:C$110,3,0) -> 97 | S97: 是
A98: 微电子学院（集成电路学院) | B98: 集成电路设计与集成系统 | C98: 109 | D98: 集233 | E98: 2330110306 | F98: 邵泽宇 | G98: 92 | H98: 0.75 | I98: =G98+H98 -> 92.75 | J98: =VLOOKUP(F98,[2]导出计数_姓名!A$2:E$31,5,0) -> 74.12 | L98: =J98+K98 -> 74.12 | M98: =VLOOKUP(F98,[2]导出计数_姓名!A$2:G$31,7,0) -> 50.7 | O98: =M98+N98 -> 50.7 | P98: =I98*0.15+L98*0.75+O98*0.1 -> 74.5725 | Q98: 95 | R98: =VLOOKUP(F98,[1]Sheet12!A$2:C$110,3,0) -> 91 | S98: 是
A99: 微电子学院（集成电路学院) | B99: 集成电路设计与集成系统 | C99: 109 | D99: 集234 | E99: 2330110325 | F99: 姜来 | G99: 92 | H99: 0.75 | I99: =G99+H99 -> 92.75 | J99: 74.28 | L99: =J99+K99 -> 74.28 | M99: 48.3 | O99: 48.3 | P99: =I99*0.15+L99*0.75+O99*0.1 -> 74.4525 | Q99: 96 | R99: =VLOOKUP(F99,[1]Sheet12!A$2:C$110,3,0) -> 89 | S99: 是
A100: 微电子学院（集成电路学院) | B100: 集成电路设计与集成系统 | C100: 109 | D100: 集232 | E100: 2333110425 | F100: 卿国州 | G100: 92 | I100: =SUM(G100,H100) -> 92 | J100: 72.962963 | L100: =SUM(J100:K100) -> 72.962963 | M100: 59 | O100: 59 | P100: =I100*0.15+L100*0.75+O100*0.1 -> 74.422222 | Q100: 97 | R100: =VLOOKUP(F100,[1]Sheet12!A$2:C$110,3,0) -> 95 | S100: 是
...

Sheet 电子科学23
A1: 微电子学院（集成电路学院）电子科学与技术专业2023年级综合测评排名表
A2: 学院: 微电子学院（集成电路学院） | C2: 盖章： | Q2: 学院分管学生工作领导签名：
A3: 学院 | B3: 专业年级 | C3: 专业年 级人数 | D3: 班级 | E3: 学号 | F3: 姓名 | G3: 德育 考评分 | H3: 德育 加减分 | I3: 德育 成绩 | J3: 智育 考试分 | K3: 智育 加减分 | L3: 智育 成绩 | M3: 体育 测评分 | N3: 体育 加减分 | O3: 体育 成绩 | P3: 综合 测评分 | Q3: 综合测评排名 | R3: 学习成绩排名 | S3: 是否有不及格 | T3: 奖学金 等级 | U3: 单项 奖学金 | V3: 荣誉称号 | W3: 学生签名
A4: 微电子学院（集成电路学院) | B4: 电子科学与技术 | C4: 120 | D4: 电子科学232 | E4: 2330110035 | F4: 王白羽 | G4: 92 | H4: 8.05 | I4: 100 | J4: 88.71 | K4: 13.625 | L4: 100 | M4: 81.4 | O4: 81.4 | P4: =I4*15%+L4*75%+O4*10% -> 98.14 | Q4: 1 | R4: 11 | S4: 否 | T4: 一等奖学金 | V4: 优秀学生干部
A5: 微电子学院（集成电路学院) | B5: 电子科学与技术 | C5: 120 | D5: 电子科学234 | E5: 2330110089 | F5: 冯心莲 | G5: 92 | H5: 0.75 | I5: =G5+H5 -> 92.75 | J5: 91.681818 | K5: 10.25 | L5: 100 | M5: 84.65 | O5: 84.65 | P5: =I5*15%+L5*75%+O5*10% -> 97.3775 | Q5: 2 | R5: 2 | S5: 否 | T5: 一等奖学金 | V5: 三好学生标兵
A6: 微电子学院（集成电路学院) | B6: 电子科学与技术 | C6: 120 | D6: 电子科学232 | E6: 2330110050 | F6: 肖子晔 | G6: 92 | H6: 3.75 | I6: =G6+H6 -> 95.75 | J6: 92.12 | K6: 11.4 | L6: 100 | M6: 70.9 | O6: 70.9 | P6: =I6*15%+L6*75%+O6*10% -> 96.4525 | Q6: 3 | R6: 1 | S6: 否 | T6: 一等奖学金 | V6: 三好学生标兵
A7: 微电子学院（集成电路学院) | B7: 电子科学与技术 | C7: 120 | D7: 电子科学232 | E7: 2330110045 | F7: 林琛皓 | G7: 92 | H7: 4 | I7: =G7+H7 -> 96 | J7: 89.05 | K7: 12.5 | L7: 100 | M7: 68.2 | O7: 68.2 | P7: =I7*15%+L7*75%+O7*10% -> 96.22 | Q7: 4 | R7: 9 | S7: 否 | T7: 一等奖学金 | V7: 三好学生
A8: 微电子学院（集成电路学院) | B8: 电子科学与技术 | C8: 120 | D8: 电子科学232 | E8: 2310110166 | F8: 张煜昕 | G8: 92 | H8: 5.5 | I8: =G8+H8 -> 97.5 | J8: 91.29 | K8: 5.25 | L8: =J8+K8 -> 96.54 | M8: 80.15 | O8: 80.15 | P8: =I8*15%+L8*75%+O8*10% -> 95.045 | Q8: 5 | R8: 3 | S8: 否 | T8: 一等奖学金 | V8: 三好学生
A9: 微电子学院（集成电路学院) | B9: 电子科学与技术 | C9: 120 | D9: 电子科学234 | E9: 2330110090 | F9: 郭依涵 | G9: 92 | H9: 4.625 | I9: =G9+H9 -> 96.625 | J9: 89.886364 | K9: 6.2 | L9: =J9+K9 -> 96.086364 | M9: 77.7 | O9: 77.7 | P9: =I9*15%+L9*75%+O9*10% -> 94.328523 | Q9: 6 | R9: 5 | S9: 否 | T9: 一等奖学金 | V9: 三好学生
A10: 微电子学院（集成电路学院) | B10: 电子科学与技术 | C10: 120 | D10: 电子科学231 | E10: 2330110024 | F10: 郑治文 | G10: 92 | H10: 2 | I10: =G10+H10 -> 94 | J10: 89.607143 | K10: =4.475+1.2 -> 5.675 | L10: =J10+K10 -> 95.282143 | M10: 66.85 | O10: =M10 -> 66.85 | P10: =I10*15%+L10*75%+O10*10% -> 92.246607 | Q10: 7 | R10: 6 | S10: 否 | T10: 二等奖学金 | V10: 三好学生
A11: 微电子学院（集成电路学院) | B11: 电子科学与技术 | C11: 120 | D11: 电子科学234 | E11: 2330110088 | F11: 陈舒婷 | G11: 92 | H11: 3.25 | I11: =G11+H11 -> 95.25 | J11: 88.386364 | K11: 5 | L11: =J11+K11 -> 93.386364 | M11: 77.75 | O11: 77.75 | P11: =I11*15%+L11*75%+O11*10% -> 92.102273 | Q11: 8 | R11: 12 | S11: 否 | T11: 二等奖学金 | V11: 三好学生
A12: 微电子学院（集成电路学院) | B12: 电子科学与技术 | C12: 120 | D12: 电子科学233 | E12: 2330110063 | F12: 唐娜 | G12: 92 | H12: 2.75 | I12: =G12+H12 -> 94.75 | J12: 90.5 | K12: 1.2 | L12: =J12+K12 -> 91.7 | M12: 87.5 | O12: 87.5 | P12: =I12*15%+L12*75%+O12*10% -> 91.7375 | Q12: 9 | R12: 4 | S12: 否 | T12: 二等奖学金 | V12: 三好学生
A13: 微电子学院（集成电路学院) | B13: 电子科学与技术 | C13: 120 | D13: 电子科学233 | E13: 2330110076 | F13: 宋朝 | G13: 92 | H13: 1.5 | I13: =G13+H13 -> 93.5 | J13: 88.965909 | K13: 1.695 | L13: =J13+K13 -> 90.660909 | M13: 76.1 | O13: 76.1 | P13: =I13*15%+L13*75%+O13*10% -> 89.630682 | Q13: 10 | R13: 10 | S13: 否 | T13: 二等奖学金 | V13: 三好学生
A14: 微电子学院（集成电路学院) | B14: 电子科学与技术 | C14: 120 | D14: 电子科学231 | E14: 2330110006 | F14: 杨明 | G14: 92 | H14: =0.75 -> 0.75 | I14: =G14+H14 -> 92.75 | J14: 89.488095 | K14: 0.9 | L14: =J14+K14 -> 90.388095 | M14: 78.55 | O14: =M14 -> 78.55 | P14: =I14*15%+L14*75%+O14*10% -> 89.558571 | Q14: 11 | R14: 7 | S14: 否 | T14: 二等奖学金 | V14: 三好学生
A15: 微电子学院（集成电路学院) | B15: 电子科学与技术 | C15: 120 | D15: 电子科学232 | E15: 2330110043 | F15: 李俊贤 | G15: 92 | H15: 6.5 | I15: =G15+H15 -> 98.5 | J15: 81.7 | K15: 8.15 | L15: =J15+K15 -> 89.85 | M15: 70.35 | O15: 70.35 | P15: =I15*15%+L15*75%+O15*10% -> 89.1975 | Q15: 12 | R15: 40 | S15: 否 | T15: 二等奖学金 | U15: 社会工作奖
A16: 微电子学院（集成电路学院) | B16: 电子科学与技术 | C16: 120 | D16: 电子科学234 | E16: 2234110303 | F16: 徐良玉 | G16: 92 | H16: 4.5 | I16: =G16+H16 -> 96.5 | J16: 85.272727 | K16: 5 | L16: =J16+K16 -> 90.272727 | M16: 67.2 | O16: 67.2 | P16: =I16*15%+L16*75%+O16*10% -> 88.899545 | Q16: 13 | R16: 23 | S16: 否 | T16: 二等奖学金
A17: 微电子学院（集成电路学院) | B17: 电子科学与技术 | C17: 120 | D17: 电子科学231 | E17: 2215110122 | F17: 崔晨阳 | G17: 92 | H17: 4 | I17: =G17+H17 -> 96 | J17: 87.452381 | K17: 2 | L17: =J17+K17 -> 89.452381 | M17: 68.4 | O17: =M17 -> 68.4 | P17: =I17*15%+L17*75%+O17*10% -> 88.329286 | Q17: 14 | R17: 14 | S17: 否 | T17: 二等奖学金
A18: 微电子学院（集成电路学院) | B18: 电子科学与技术 | C18: 120 | D18: 电子科学232 | E18: 2330110044 | F18: 李双 | G18: 92 | I18: =G18+H18 -> 92 | J18: 89.29 | K18: 1.2 | L18: =J18+K18 -> 90.49 | M18: 60 | O18: 60 | P18: =I18*15%+L18*75%+O18*10% -> 87.6675 | Q18: 15 | R18: 8 | S18: 否 | T18: 二等奖学金 | V18: 三好学生
A19: 微电子学院（集成电路学院) | B19: 电子科学与技术 | C19: 120 | D19: 电子科学233 | E19: 2330110060 | F19: 贺然 | G19: 92 | I19: =G19+H19 -> 92 | J19: 87.352273 | K19: 1.2 | L19: =J19+K19 -> 88.552273 | M19: 73.6 | O19: 73.6 | P19: =I19*15%+L19*75%+O19*10% -> 87.574205 | Q19: 16 | R19: 15 | S19: 否 | T19: 二等奖学金
A20: 微电子学院（集成电路学院) | B20: 电子科学与技术 | C20: 120 | D20: 电子科学231 | E20: 2330110015 | F20: 黄晶 | G20: 92 | H20: =0.75 -> 0.75 | I20: =G20+H20 -> 92.75 | J20: 84.547619 | K20: 1.2 | L20: =J20+K20 -> 85.747619 | M20: 87.7 | O20: =M20 -> 87.7 | P20: =I20*15%+L20*75%+O20*10% -> 86.993214 | Q20: 17 | R20: 25 | S20: 否 | T20: 二等奖学金
A21: 微电子学院（集成电路学院) | B21: 电子科学与技术 | C21: 120 | D21: 电子科学233 | E21: 2330110062 | F21: 李月 | G21: 92 | I21: =G21+H21 -> 92 | J21: 88.284091 | K21: 0.25 | L21: =J21+K21 -> 88.534091 | M21: 67.3 | O21: 67.3 | P21: =I21*15%+L21*75%+O21*10% -> 86.930568 | Q21: 18 | R21: 13 | S21: 否 | T21: 二等奖学金
A22: 微电子学院（集成电路学院) | B22: 电子科学与技术 | C22: 120 | D22: 电子科学231 | E22: 2330110012 | F22: 管嘉鑫 | G22: 92 | H22: =1.75 -> 1.75 | I22: =G22+H22 -> 93.75 | J22: 86.035714 | K22: 0.5 | L22: =J22+K22 -> 86.535714 | M22: 78.3 | O22: =M22 -> 78.3 | P22: =I22*15%+L22*75%+O22*10% -> 86.794286 | Q22: 19 | R22: 19 | S22: 否 | T22: 三等奖学金
A23: 微电子学院（集成电路学院) | B23: 电子科学与技术 | C23: 120 | D23: 电子科学233 | E23: 2330110081 | F23: 徐康 | G23: 92 | I23: =G23+H23 -> 92 | J23: 86.113636 | L23: =J23+K23 -> 86.113636 | M23: 75 | O23: 75 | P23: =I23*15%+L23*75%+O23*10% -> 85.885227 | Q23: 20 | R23: 17 | S23: 否 | T23: 三等奖学金
A24: 微电子学院（集成电路学院) | B24: 电子科学与技术 | C24: 120 | D24: 电子科学232 | E24: 2330110034 | F24: 史雅倩 | G24: 92 | I24: =G24+H24 -> 92 | J24: 84.38 | L24: =J24+K24 -> 84.38 | M24: 87.8 | O24: 87.8 | P24: =I24*15%+L24*75%+O24*10% -> 85.865 | Q24: 21 | R24: 28 | S24: 否 | T24: 三等奖学金
A25: 微电子学院（集成电路学院) | B25: 电子科学与技术 | C25: 120 | D25: 电子科学232 | E25: 2330110047 | F25: 时硕 | G25: 92 | I25: =G25+H25 -> 92 | J25: 84.64 | K25: 1.2 | L25: =J25+K25 -> 85.84 | M25: 76.55 | O25: 76.55 | P25: =I25*15%+L25*75%+O25*10% -> 85.835 | Q25: 22 | R25: 24 | S25: 否 | T25: 三等奖学金
A26: 微电子学院（集成电路学院) | B26: 电子科学与技术 | C26: 120 | D26: 电子科学231 | E26: 2330110011 | F26: 耿天睿 | G26: 92 | H26: 5.25 | I26: =G26+H26 -> 97.25 | J26: 85.642857 | K26: 1.2 | L26: =J26+K26 -> 86.842857 | M26: 56.15 | O26: =M26 -> 56.15 | P26: =I26*15%+L26*75%+O26*10% -> 85.334643 | Q26: 23 | R26: 21 | S26: 是 | T26: 体测成绩不合格
A27: 微电子学院（集成电路学院) | B27: 电子科学与技术 | C27: 120 | D27: 电子科学233 | E27: 2330110073 | F27: 鲁星宇 | G27: 92 | I27: =G27+H27 -> 92 | J27: 84.136364 | K27: 1.2 | L27: =J27+K27 -> 85.336364 | M27: 75.2 | O27: 75.2 | P27: =I27*15%+L27*75%+O27*10% -> 85.322273 | Q27: 24 | R27: 30 | S27: 否 | T27: 三等奖学金
A28: 微电子学院（集成电路学院) | B28: 电子科学与技术 | C28: 120 | D28: 电子科学233 | E28: 2330110064 | F28: 张婷婷 | G28: 92 | H28: 0.75 | I28: =G28+H28 -> 92.75 | J28: 85.579545 | L28: =J28+K28 -> 85.579545 | M28: 71.4 | O28: 71.4 | P28: =I28*15%+L28*75%+O28*10% -> 85.237159 | Q28: 25 | R28: 22 | S28: 否 | T28: 三等奖学金
A29: 微电子学院（集成电路学院) | B29: 电子科学与技术 | C29: 120 | D29: 电子科学233 | E29: 2330110077 | F29: 王淼 | G29: 92 | I29: =G29+H29 -> 92 | J29: 85.670455 | L29: =J29+K29 -> 85.670455 | M29: 71.2 | O29: 71.2 | P29: =I29*15%+L29*75%+O29*10% -> 85.172841 | Q29: 26 | R29: 20 | S29: 否 | T29: 三等奖学金
A30: 微电子学院（集成电路学院) | B30: 电子科学与技术 | C30: 120 | D30: 电子科学233 | E30: 2330110061 | F30: 金芷萱 | G30: 92 | I30: =G30+H30 -> 92 | J30: 86.170455 | L30: =J30+K30 -> 86.170455 | M30: 67.3 | O30: 67.3 | P30: =I30*15%+L30*75%+O30*10% -> 85.157841 | Q30: 27 | R30: 16 | S30: 否 | T30: 三等奖学金
A31: 微电子学院（集成电路学院) | B31: 电子科学与技术 | C31: 120 | D31: 电子科学233 | E31: 2330110059 | F31: 谷嘉 | G31: 92 | H31: 1 | I31: =G31+H31 -> 93 | J31: 83.420455 | K31: 1.2 | L31: =J31+K31 -> 84.620455 | M31: 75.8 | O31: 75.8 | P31: =I31*15%+L31*75%+O31*10% -> 84.995341 | Q31: 28 | R31: 34 | S31: 否 | T31: 三等奖学金
A32: 微电子学院（集成电路学院) | B32: 电子科学与技术 | C32: 120 | D32: 电子科学231 | E32: 2330110005 | F32: 熊静怡 | G32: 92 | H32: 1.25 | I32: =G32+H32 -> 93.25 | J32: 84.214286 | L32: =J32+K32 -> 84.214286 | M32: 76.7 | O32: =M32 -> 76.7 | P32: =I32*15%+L32*75%+O32*10% -> 84.818214 | Q32: 29 | R32: 29 | S32: 否 | T32: 三等奖学金
A33: 微电子学院（集成电路学院) | B33: 电子科学与技术 | C33: 120 | D33: 电子科学234 | E33: 2330110094 | F33: 陈盛 | G33: 92 | I33: =G33+H33 -> 92 | J33: 86.045455 | L33: =J33+K33 -> 86.045455 | M33: 64.8 | O33: 64.8 | P33: =I33*15%+L33*75%+O33*10% -> 84.814091 | Q33: 30 | R33: 18 | S33: 否 | T33: 三等奖学金
A34: 微电子学院（集成电路学院) | B34: 电子科学与技术 | C34: 120 | D34: 电子科学234 | E34: 2330110093 | F34: 吴培芳 | G34: 92 | I34: =G34+H34 -> 92 | J34: 82.965909 | K34: 1.2 | L34: =J34+K34 -> 84.165909 | M34: 76.7 | O34: 76.7 | P34: =I34*15%+L34*75%+O34*10% -> 84.594432 | Q34: 31 | R34: 37 | S34: 否 | T34: 三等奖学金
A35: 微电子学院（集成电路学院) | B35: 电子科学与技术 | C35: 120 | D35: 电子科学231 | E35: 2330110003 | F35: 李思熠 | G35: 92 | H35: =0.75+1.5 -> 2.25 | I35: =G35+H35 -> 94.25 | J35: 84.535714 | L35: =J35+K35 -> 84.535714 | M35: 66.65 | O35: =M35 -> 66.65 | P35: =I35*15%+L35*75%+O35*10% -> 84.204286 | Q35: 32 | R35: 26 | S35: 否 | T35: 三等奖学金
A36: 微电子学院（集成电路学院) | B36: 电子科学与技术 | C36: 120 | D36: 电子科学231 | E36: 2330110027 | F36: 周宇轩 | G36: 92 | H36: 1.5 | I36: =G36+H36 -> 93.5 | J36: 84.47619 | L36: =J36+K36 -> 84.47619 | M36: 66.5 | O36: =M36 -> 66.5 | P36: =I36*15%+L36*75%+O36*10% -> 84.032143 | Q36: 33 | R36: 27 | S36: 否 | T36: 三等奖学金
A37: 微电子学院（集成电路学院) | B37: 电子科学与技术 | C37: 120 | D37: 电子科学234 | E37: 2330110105 | F37: 祁瑞 | G37: 92 | I37: =G37+H37 -> 92 | J37: 83.522727 | L37: =J37+K37 -> 83.522727 | M37: 72.7 | O37: 72.7 | P37: =I37*15%+L37*75%+O37*10% -> 83.712045 | Q37: 34 | R37: 33 | S37: 否 | T37: 三等奖学金
A38: 微电子学院（集成电路学院) | B38: 电子科学与技术 | C38: 120 | D38: 电子科学231 | E38: 2215110232 | F38: 刘佳煜 | G38: 92 | H38: 8.25 | I38: 100 | J38: 82.440476 | K38: 1 | L38: =J38+K38 -> 83.440476 | M38: 60 | O38: =M38 -> 60 | P38: =I38*15%+L38*75%+O38*10% -> 83.580357 | Q38: 35 | R38: 39 | S38: 否 | T38: 三等奖学金
A39: 微电子学院（集成电路学院) | B39: 电子科学与技术 | C39: 120 | D39: 电子科学234 | E39: 2330110092 | F39: 童丽颖 | G39: 92 | I39: =G39+H39 -> 92 | J39: 82.977273 | L39: =J39+K39 -> 82.977273 | M39: 72.3 | O39: 72.3 | P39: =I39*15%+L39*75%+O39*10% -> 83.262955 | Q39: 36 | R39: 36 | S39: 否 | T39: 三等奖学金
A40: 微电子学院（集成电路学院) | B40: 电子科学与技术 | C40: 120 | D40: 电子科学231 | E40: 2330110022 | F40: 徐涛 | G40: 92 | H40: =0.75 -> 0.75 | I40: =G40+H40 -> 92.75 | J40: 83.880952 | K40: 1.2 | L40: =J40+K40 -> 85.080952 | M40: 55 | O40: =M40 -> 55 | P40: =I40*15%+L40*75%+O40*10% -> 83.223214 | Q40: 37 | R40: 31 | S40: 是 | T40: 体测成绩不合格
A41: 微电子学院（集成电路学院) | B41: 电子科学与技术 | C41: 120 | D41: 电子科学232 | E41: 2330110053 | F41: 张恩硕 | G41: 92 | H41: 3.25 | I41: =G41+H41 -> 95.25 | J41: 83.01 | L41: =J41+K41 -> 83.01 | M41: 66.6 | O41: 66.6 | P41: =I41*15%+L41*75%+O41*10% -> 83.205 | Q41: 38 | R41: 35 | S41: 否 | T41: 三等奖学金
A42: 微电子学院（集成电路学院) | B42: 电子科学与技术 | C42: 120 | D42: 电子科学233 | E42: 2330110075 | F42: 倪铭良 | G42: 92 | H42: 2 | I42: =G42+H42 -> 94 | J42: 82.965909 | L42: =J42+K42 -> 82.965909 | M42: 68.2 | O42: 68.2 | P42: =I42*15%+L42*75%+O42*10% -> 83.144432 | Q42: 39 | R42: 38 | S42: 否 | T42: 三等奖学金
A43: 微电子学院（集成电路学院) | B43: 电子科学与技术 | C43: 120 | D43: 电子科学234 | E43: 2330110106 | F43: 钱进 | G43: 92 | H43: 0.5 | I43: =G43+H43 -> 92.5 | J43: 83.840909 | L43: =J43+K43 -> 83.840909 | M43: 62.1 | O43: 62.1 | P43: =I43*15%+L43*75%+O43*10% -> 82.965682 | Q43: 40 | R43: 32 | S43: 否 | T43: 三等奖学金
A44: 微电子学院（集成电路学院) | B44: 电子科学与技术 | C44: 120 | D44: 电子科学232 | E44: 2310110346 | F44: 熊皓 | G44: 92 | I44: =G44+H44 -> 92 | J44: 81.29 | L44: =J44+K44 -> 81.29 | M44: 77.6 | O44: 77.6 | P44: =I44*15%+L44*75%+O44*10% -> 82.5275 | Q44: 41 | R44: 44 | S44: 否 | T44: 三等奖学金
A45: 微电子学院（集成电路学院) | B45: 电子科学与技术 | C45: 120 | D45: 电子科学234 | E45: 2330110095 | F45: 陈宣霖 | G45: 92 | H45: 4.5 | I45: =G45+H45 -> 96.5 | J45: 81.363636 | K45: 1.2 | L45: =J45+K45 -> 82.563636 | M45: 59 | O45: 59 | P45: =I45*15%+L45*75%+O45*10% -> 82.297727 | Q45: 42 | R45: 42 | S45: 是 | T45: 体测成绩不合格
A46: 微电子学院（集成电路学院) | B46: 电子科学与技术 | C46: 120 | D46: 电子科学232 | E46: 2330110038 | F46: 成连心 | G46: 92 | I46: =G46+H46 -> 92 | J46: 81.32 | K46: 1.2 | L46: =J46+K46 -> 82.52 | M46: 64.6 | O46: 64.6 | P46: =I46*15%+L46*75%+O46*10% -> 82.15 | Q46: 43 | R46: 43 | S46: 否 | T46: 三等奖学金
A47: 微电子学院（集成电路学院) | B47: 电子科学与技术 | C47: 120 | D47: 电子科学232 | E47: 2330110054 | F47: 张雷 | G47: 92 | I47: =G47+H47 -> 92 | J47: 80.29 | L47: =J47+K47 -> 80.29 | M47: 74.8 | O47: 74.8 | P47: =I47*15%+L47*75%+O47*10% -> 81.4975 | Q47: 44 | R47: 48 | S47: 否 | T47: 三等奖学金
A48: 微电子学院（集成电路学院) | B48: 电子科学与技术 | C48: 120 | D48: 电子科学233 | E48: 2330110072 | F48: 刘伟浩 | G48: 92 | I48: =G48+H48 -> 92 | J48: 81.647727 | L48: =J48+K48 -> 81.647727 | M48: 63 | O48: 63 | P48: =I48*15%+L48*75%+O48*10% -> 81.335795 | Q48: 45 | R48: 41 | S48: 否 | T48: 三等奖学金
A49: 微电子学院（集成电路学院) | B49: 电子科学与技术 | C49: 120 | D49: 电子科学233 | E49: 2330110065 | F49: 杜国泽 | G49: 92 | I49: =G49+H49 -> 92 | J49: 79.920455 | K49: 1.2 | L49: =J49+K49 -> 81.120455 | M49: 63.8 | O49: 63.8 | P49: =I49*15%+L49*75%+O49*10% -> 81.020341 | Q49: 46 | R49: 51 | S49: 否 | T49: 三等奖学金
A50: 微电子学院（集成电路学院) | B50: 电子科学与技术 | C50: 120 | D50: 电子科学231 | E50: 2330110001 | F50: 陈心悦 | G50: 92 | H50: 1.25 | I50: =G50+H50 -> 93.25 | J50: 80.869048 | L50: =J50+K50 -> 80.869048 | M50: 62.4 | O50: =M50 -> 62.4 | P50: =I50*15%+L50*75%+O50*10% -> 80.879286 | Q50: 47 | R50: 46 | S50: 否 | T50: 三等奖学金
A51: 微电子学院（集成电路学院) | B51: 电子科学与技术 | C51: 120 | D51: 电子科学231 | E51: 2330110018 | F51: 尚升阳 | G51: 92 | H51: =1.25 -> 1.25 | I51: =G51+H51 -> 93.25 | J51: 78.619048 | L51: =J51+K51 -> 78.619048 | M51: 78.1 | O51: =M51 -> 78.1 | P51: =I51*15%+L51*75%+O51*10% -> 80.761786 | Q51: 48 | R51: 61 | S51: 否 | T51: 三等奖学金
A52: 微电子学院（集成电路学院) | B52: 电子科学与技术 | C52: 120 | D52: 电子科学232 | E52: 2330110032 | F52: 何云 | G52: 92 | I52: =G52+H52 -> 92 | J52: 79.2 | L52: =J52+K52 -> 79.2 | M52: 73.9 | O52: 73.9 | P52: =I52*15%+L52*75%+O52*10% -> 80.59 | Q52: 49 | R52: 55 | S52: 否 | T52: 三等奖学金
A53: 微电子学院（集成电路学院) | B53: 电子科学与技术 | C53: 120 | D53: 电子科学231 | E53: 2333110046 | F53: 陈博文 | G53: 92 | H53: =0.75 -> 0.75 | I53: =G53+H53 -> 92.75 | J53: 79.809524 | L53: =J53+K53 -> 79.809524 | M53: 67.9 | O53: =M53 -> 67.9 | P53: =I53*15%+L53*75%+O53*10% -> 80.559643 | Q53: 50 | R53: 52 | S53: 否 | T53: 三等奖学金
A54: 微电子学院（集成电路学院) | B54: 电子科学与技术 | C54: 120 | D54: 电子科学233 | E54: 2330110071 | F54: 刘瑞林 | G54: 92 | I54: =G54+H54 -> 92 | J54: 80.875 | L54: =J54+K54 -> 80.875 | M54: 60.9 | O54: 60.9 | P54: =I54*15%+L54*75%+O54*10% -> 80.54625 | Q54: 51 | R54: 45 | S54: 否 | T54: 三等奖学金
A55: 微电子学院（集成电路学院) | B55: 电子科学与技术 | C55: 120 | D55: 电子科学231 | E55: 2330110002 | F55: 黄慧泽 | G55: 92 | H55: =0.75 -> 0.75 | I55: =G55+H55 -> 92.75 | J55: 79.511905 | L55: =J55+K55 -> 79.511905 | M55: 69.2 | O55: =M55 -> 69.2 | P55: =I55*15%+L55*75%+O55*10% -> 80.466429 | Q55: 52 | R55: 53 | S55: 否
A56: 微电子学院（集成电路学院) | B56: 电子科学与技术 | C56: 120 | D56: 电子科学231 | E56: 2330110019 | F56: 孙康权 | G56: 92 | H56: =3.25 -> 3.25 | I56: =G56+H56 -> 95.25 | J56: 77.797619 | L56: =J56+K56 -> 77.797619 | M56: 78.25 | O56: =M56 -> 78.25 | P56: =I56*15%+L56*75%+O56*10% -> 80.460714 | Q56: 53 | R56: 70 | S56: 否
A57: 微电子学院（集成电路学院) | B57: 电子科学与技术 | C57: 120 | D57: 电子科学232 | E57: 2330110057 | F57: 周润泽 | G57: 92 | I57: =G57+H57 -> 92 | J57: 80.12 | L57: =J57+K57 -> 80.12 | M57: 64.8 | O57: 64.8 | P57: =I57*15%+L57*75%+O57*10% -> 80.37 | Q57: 54 | R57: 50 | S57: 否
A58: 微电子学院（集成电路学院) | B58: 电子科学与技术 | C58: 120 | D58: 电子科学234 | E58: 2330110107 | F58: 邵启豪 | G58: 92 | I58: =G58+H58 -> 92 | J58: 79.26 | L58: =J58+K58 -> 79.26 | M58: 69.4 | O58: 69.4 | P58: =I58*15%+L58*75%+O58*10% -> 80.185 | Q58: 55 | R58: 54 | S58: 否
A59: 微电子学院（集成电路学院) | B59: 电子科学与技术 | C59: 120 | D59: 电子科学233 | E59: 2330110083 | F59: 杨怀智 | G59: 92 | I59: =G59+H59 -> 92 | J59: 80.454545 | L59: =J59+K59 -> 80.454545 | M59: 57.6 | O59: 57.6 | P59: =I59*15%+L59*75%+O59*10% -> 79.900909 | Q59: 56 | R59: 47 | S59: 是
A60: 微电子学院（集成电路学院) | B60: 电子科学与技术 | C60: 120 | D60: 电子科学233 | E60: 2330110068 | F60: 侯备严 | G60: 92 | I60: =G60+H60 -> 92 | J60: 78.590909 | K60: 1.2 | L60: =J60+K60 -> 79.790909 | M60: 62.3 | O60: 62.3 | P60: =I60*15%+L60*75%+O60*10% -> 79.873182 | Q60: 57 | R60: 62 | S60: 否
A61: 微电子学院（集成电路学院) | B61: 电子科学与技术 | C61: 120 | D61: 电子科学232 | E61: 2330110041 | F61: 戴晔 | G61: 92 | H61: 1.8 | I61: =G61+H61 -> 93.8 | J61: 79.19 | L61: =J61+K61 -> 79.19 | M61: 62.8 | O61: 62.8 | P61: =I61*15%+L61*75%+O61*10% -> 79.7425 | Q61: 58 | R61: 56 | S61: 否
A62: 微电子学院（集成电路学院) | B62: 电子科学与技术 | C62: 120 | D62: 电子科学233 | E62: 2330110069 | F62: 居睿 | G62: 92 | I62: =G62+H62 -> 92 | J62: 77.568182 | K62: 1.2 | L62: =J62+K62 -> 78.768182 | M62: 68.6 | O62: 68.6 | P62: =I62*15%+L62*75%+O62*10% -> 79.736136 | Q62: 59 | R62: 73 | S62: 否
A63: 微电子学院（集成电路学院) | B63: 电子科学与技术 | C63: 120 | D63: 电子科学232 | E63: 2330110048 | F63: 孙浩洋 | G63: 92 | H63: 0.75 | I63: =G63+H63 -> 92.75 | J63: 78.48 | L63: =J63+K63 -> 78.48 | M63: 68.9 | O63: 68.9 | P63: =I63*15%+L63*75%+O63*10% -> 79.6625 | Q63: 60 | R63: 63 | S63: 否
A64: 微电子学院（集成电路学院) | B64: 电子科学与技术 | C64: 120 | D64: 电子科学232 | E64: 2330110051 | F64: 薛锴乐 | G64: 92 | H64: 0.75 | I64: =G64+H64 -> 92.75 | J64: 78.77 | L64: =J64+K64 -> 78.77 | M64: 65.2 | O64: 65.2 | P64: =I64*15%+L64*75%+O64*10% -> 79.51 | Q64: 61 | R64: 59 | S64: 否
A65: 微电子学院（集成电路学院) | B65: 电子科学与技术 | C65: 120 | D65: 电子科学234 | E65: 2330110102 | F65: 刘俊辉 | G65: 92 | I65: =G65+H65 -> 92 | J65: 77.988636 | L65: =J65+K65 -> 77.988636 | M65: 71.95 | O65: 71.95 | P65: =I65*15%+L65*75%+O65*10% -> 79.486477 | Q65: 62 | R65: 68 | S65: 否
A66: 微电子学院（集成电路学院) | B66: 电子科学与技术 | C66: 120 | D66: 电子科学234 | E66: 2330110091 | F66: 黄蕊蕊 | G66: 92 | H66: 1.25 | I66: =G66+H66 -> 93.25 | J66: 76.431818 | L66: =J66+K66 -> 76.431818 | M66: 81.4 | O66: 81.4 | P66: =I66*15%+L66*75%+O66*10% -> 79.451364 | Q66: 63 | R66: 77 | S66: 否
A67: 微电子学院（集成电路学院) | B67: 电子科学与技术 | C67: 120 | D67: 电子科学232 | E67: 2330110055 | F67: 张昱 | G67: 92 | I67: =G67+H67 -> 92 | J67: 78.24 | L67: =J67+K67 -> 78.24 | M67: 67.1 | O67: 67.1 | P67: =I67*15%+L67*75%+O67*10% -> 79.19 | Q67: 64 | R67: 67 | S67: 否
A68: 微电子学院（集成电路学院) | B68: 电子科学与技术 | C68: 120 | D68: 电子科学231 | E68: 2330110026 | F68: 周帅 | G68: 92 | H68: 1.5 | I68: =G68+H68 -> 93.5 | J68: 78.857143 | L68: =J68+K68 -> 78.857143 | M68: 60.2 | O68: =M68 -> 60.2 | P68: =I68*15%+L68*75%+O68*10% -> 79.187857 | Q68: 65 | R68: 58 | S68: 否
A69: 微电子学院（集成电路学院) | B69: 电子科学与技术 | C69: 120 | D69: 电子科学234 | E69: 2330110099 | F69: 黄铭宇 | G69: 92 | I69: =G69+H69 -> 92 | J69: 75.977273 | L69: =J69+K69 -> 75.977273 | M69: 82.5 | O69: 82.5 | P69: =I69*15%+L69*75%+O69*10% -> 79.032955 | Q69: 66 | R69: 81 | S69: 否
A70: 微电子学院（集成电路学院) | B70: 电子科学与技术 | C70: 120 | D70: 电子科学232 | E70: 2330110058 | F70: 朱宇成 | G70: 92 | I70: =G70+H70 -> 92 | J70: 78.34 | L70: =J70+K70 -> 78.34 | M70: 64.55 | O70: 64.55 | P70: =I70*15%+L70*75%+O70*10% -> 79.01 | Q70: 67 | R70: 65 | S70: 否
A71: 微电子学院（集成电路学院) | B71: 电子科学与技术 | C71: 120 | D71: 电子科学231 | E71: 2330110021 | F71: 文子轩 | G71: 92 | H71: =0.75 -> 0.75 | I71: =G71+H71 -> 92.75 | J71: 77.630952 | L71: =J71+K71 -> 77.630952 | M71: 67.4 | O71: =M71 -> 67.4 | P71: =I71*15%+L71*75%+O71*10% -> 78.875714 | Q71: 68 | R71: 72 | S71: 否
A72: 微电子学院（集成电路学院) | B72: 电子科学与技术 | C72: 120 | D72: 电子科学234 | E72: 2330110110 | F72: 王传正 | G72: 92 | I72: =G72+H72 -> 92 | J72: 77.647727 | L72: =J72+K72 -> 77.647727 | M72: 67.15 | O72: 67.15 | P72: =I72*15%+L72*75%+O72*10% -> 78.750795 | Q72: 69 | R72: 71 | S72: 否
A73: 微电子学院（集成电路学院) | B73: 电子科学与技术 | C73: 120 | D73: 电子科学232 | E73: 2330110049 | F73: 王星驰 | G73: 92 | H73: 0.75 | I73: =G73+H73 -> 92.75 | J73: 78.74 | L73: =J73+K73 -> 78.74 | M73: 56.9 | O73: 56.9 | P73: =I73*15%+L73*75%+O73*10% -> 78.6575 | Q73: 70 | R73: 60 | S73: 是
A74: 微电子学院（集成电路学院) | B74: 电子科学与技术 | C74: 120 | D74: 电子科学232 | E74: 2330110040 | F74: 代鹏程 | G74: 92 | I74: =G74+H74 -> 92 | J74: 78.92 | L74: =J74+K74 -> 78.92 | M74: 53.6 | O74: 53.6 | P74: =I74*15%+L74*75%+O74*10% -> 78.35 | Q74: 71 | R74: 57 | S74: 是
A75: 微电子学院（集成电路学院) | B75: 电子科学与技术 | C75: 120 | D75: 电子科学231 | E75: 2330110028 | F75: 朱笑江 | G75: 92 | H75: 1.5 | I75: =G75+H75 -> 93.5 | J75: 76.261905 | L75: =J75+K75 -> 76.261905 | M75: 70.7 | O75: =M75 -> 70.7 | P75: =I75*15%+L75*75%+O75*10% -> 78.291429 | Q75: 72 | R75: 78 | S75: 否
A76: 微电子学院（集成电路学院) | B76: 电子科学与技术 | C76: 120 | D76: 电子科学232 | E76: 2333110481 | F76: 胡佳宝 | G76: 92 | I76: =G76+H76 -> 92 | J76: 78.39 | L76: =J76+K76 -> 78.39 | M76: 56.3 | O76: 56.3 | P76: =I76*15%+L76*75%+O76*10% -> 78.2225 | Q76: 73 | R76: 64 | S76: 是
A77: 微电子学院（集成电路学院) | B77: 电子科学与技术 | C77: 120 | D77: 电子科学233 | E77: 2232110311 | F77: 朱征宇 | G77: 92 | H77: 0.5 | I77: =G77+H77 -> 92.5 | J77: 78.295455 | L77: =J77+K77 -> 78.295455 | M77: 56.1 | O77: 56.1 | P77: =I77*15%+L77*75%+O77*10% -> 78.206591 | Q77: 74 | R77: 66 | S77: 是
A78: 微电子学院（集成电路学院) | B78: 电子科学与技术 | C78: 120 | D78: 电子科学234 | E78: 2230110013 | F78: 胡磊 | G78: 92 | I78: =G78+H78 -> 92 | J78: 80.125 | L78: =J78+K78 -> 80.125 | M78: 40.8 | O78: 40.8 | P78: =I78*15%+L78*75%+O78*10% -> 77.97375 | Q78: 75 | R78: 49 | S78: 是
A79: 微电子学院（集成电路学院) | B79: 电子科学与技术 | C79: 120 | D79: 电子科学233 | E79: 2330110066 | F79: 管其越 | G79: 92 | I79: =G79+H79 -> 92 | J79: 75.136364 | L79: =J79+K79 -> 75.136364 | M79: 75.8 | O79: 75.8 | P79: =I79*15%+L79*75%+O79*10% -> 77.732273 | Q79: 76 | R79: 84 | S79: 否
A80: 微电子学院（集成电路学院) | B80: 电子科学与技术 | C80: 120 | D80: 电子科学233 | E80: 2330110084 | F80: 叶启蒙 | G80: 92 | I80: =G80+H80 -> 92 | J80: 77.829545 | L80: =J80+K80 -> 77.829545 | M80: 55.5 | O80: 55.5 | P80: =I80*15%+L80*75%+O80*10% -> 77.722159 | Q80: 77 | R80: 69 | S80: 是
A81: 微电子学院（集成电路学院) | B81: 电子科学与技术 | C81: 120 | D81: 电子科学231 | E81: 2330110013 | F81: 何雨墨 | G81: 92 | H81: =0.75 -> 0.75 | I81: =G81+H81 -> 92.75 | J81: 76.059524 | L81: =J81+K81 -> 76.059524 | M81: 65.2 | O81: =M81 -> 65.2 | P81: =I81*15%+L81*75%+O81*10% -> 77.477143 | Q81: 78 | R81: 79 | S81: 否
A82: 微电子学院（集成电路学院) | B82: 电子科学与技术 | C82: 120 | D82: 电子科学232 | E82: 2330110030 | F82: 陈慧敏 | G82: 92 | I82: =G82+H82 -> 92 | J82: 76.9 | L82: =J82+K82 -> 76.9 | M82: 59.1 | O82: 59.1 | P82: =I82*15%+L82*75%+O82*10% -> 77.385 | Q82: 79 | R82: 74 | S82: 是
A83: 微电子学院（集成电路学院) | B83: 电子科学与技术 | C83: 120 | D83: 电子科学231 | E83: 2333110245 | F83: 熊天晟 | G83: 92 | H83: =0.75 -> 0.75 | I83: =G83+H83 -> 92.75 | J83: 76.440476 | L83: =J83+K83 -> 76.440476 | M83: 60.8 | O83: =M83 -> 60.8 | P83: =I83*15%+L83*75%+O83*10% -> 77.322857 | Q83: 80 | R83: 76 | S83: 否
A84: 微电子学院（集成电路学院) | B84: 电子科学与技术 | C84: 120 | D84: 电子科学231 | E84: 2330110014 | F84: 胡志鑫 | G84: 92 | H84: 0.75 | I84: =G84+H84 -> 92.75 | J84: 74.690476 | L84: =J84+K84 -> 74.690476 | M84: 73.9 | O84: =M84 -> 73.9 | P84: =I84*15%+L84*75%+O84*10% -> 77.320357 | Q84: 81 | R84: 88 | S84: 是
A85: 微电子学院（集成电路学院) | B85: 电子科学与技术 | C85: 120 | D85: 电子科学232 | E85: 2330110046 | F85: 倪尉祥 | G85: 92 | I85: =G85+H85 -> 92 | J85: 75.02 | L85: =J85+K85 -> 75.02 | M85: 71.45 | O85: 71.45 | P85: =I85*15%+L85*75%+O85*10% -> 77.21 | Q85: 82 | R85: 87 | S85: 否
A86: 微电子学院（集成电路学院) | B86: 电子科学与技术 | C86: 120 | D86: 电子科学234 | E86: 2330110103 | F86: 刘磊 | G86: 92 | I86: =G86+H86 -> 92 | J86: 75.363636 | L86: =J86+K86 -> 75.363636 | M86: 67.8 | O86: 67.8 | P86: =I86*15%+L86*75%+O86*10% -> 77.102727 | Q86: 83 | R86: 83 | S86: 是
A87: 微电子学院（集成电路学院) | B87: 电子科学与技术 | C87: 120 | D87: 电子科学231 | E87: 2330110010 | F87: 丁诚 | G87: 92 | H87: 2.25 | I87: =G87+H87 -> 94.25 | J87: 74.02381 | L87: =J87+K87 -> 74.02381 | M87: 72.7 | O87: =M87 -> 72.7 | P87: =I87*15%+L87*75%+O87*10% -> 76.925357 | Q87: 84 | R87: 91 | S87: 否
A88: 微电子学院（集成电路学院) | B88: 电子科学与技术 | C88: 120 | D88: 电子科学231 | E88: 2330110016 | F88: 李一涵 | G88: 92 | H88: =1.25 -> 1.25 | I88: =G88+H88 -> 93.25 | J88: 72.761905 | L88: =J88+K88 -> 72.761905 | M88: 79.2 | O88: =M88 -> 79.2 | P88: =I88*15%+L88*75%+O88*10% -> 76.478929 | Q88: 85 | R88: 95 | S88: 是
A89: 微电子学院（集成电路学院) | B89: 电子科学与技术 | C89: 120 | D89: 电子科学234 | E89: 2330110100 | F89: 贾宇轩 | G89: 92 | H89: 0.5 | I89: =G89+H89 -> 92.5 | J89: 74.443182 | L89: =J89+K89 -> 74.443182 | M89: 66.9 | O89: 66.9 | P89: =I89*15%+L89*75%+O89*10% -> 76.397386 | Q89: 86 | R89: 89 | S89: 否
A90: 微电子学院（集成电路学院) | B90: 电子科学与技术 | C90: 120 | D90: 电子科学231 | E90: 2330110009 | F90: 曹钲宇 | G90: 92 | H90: =0.75 -> 0.75 | I90: =G90+H90 -> 92.75 | J90: 72.22619 | L90: =J90+K90 -> 72.22619 | M90: 79.8 | O90: =M90 -> 79.8 | P90: =I90*15%+L90*75%+O90*10% -> 76.062143 | Q90: 87 | R90: 98 | S90: 是
A91: 微电子学院（集成电路学院) | B91: 电子科学与技术 | C91: 120 | D91: 电子科学231 | E91: 2330110007 | F91: 虞蓓蓓 | G91: 92 | H91: 0.75 | I91: =G91+H91 -> 92.75 | J91: 75.511905 | L91: =J91+K91 -> 75.511905 | M91: 54.4 | O91: =M91 -> 54.4 | P91: =I91*15%+L91*75%+O91*10% -> 75.986429 | Q91: 88 | R91: 82 | S91: 是
A92: 微电子学院（集成电路学院) | B92: 电子科学与技术 | C92: 120 | D92: 电子科学232 | E92: 2221110119 | F92: 易振洲 | G92: 92 | I92: =G92+H92 -> 92 | J92: 75.11 | L92: =J92+K92 -> 75.11 | M92: 58.45 | O92: 58.45 | P92: =I92*15%+L92*75%+O92*10% -> 75.9775 | Q92: 89 | R92: 85 | S92: 是
A93: 微电子学院（集成电路学院) | B93: 电子科学与技术 | C93: 120 | D93: 电子科学233 | E93: 2230110077 | F93: 戚鹏飞 | G93: 92 | I93: =G93+H93 -> 92 | J93: 74.363636 | L93: =J93+K93 -> 74.363636 | M93: 62.6 | O93: 62.6 | P93: =I93*15%+L93*75%+O93*10% -> 75.832727 | Q93: 90 | R93: 90 | S93: 否
A94: 微电子学院（集成电路学院) | B94: 电子科学与技术 | C94: 120 | D94: 电子科学233 | E94: 2330110087 | F94: 赵尊铠 | G94: 92 | I94: =G94+H94 -> 92 | J94: 73.340909 | L94: =J94+K94 -> 73.340909 | M94: 69.8 | O94: 69.8 | P94: =I94*15%+L94*75%+O94*10% -> 75.785682 | Q94: 91 | R94: 94 | S94: 否
A95: 微电子学院（集成电路学院) | B95: 电子科学与技术 | C95: 120 | D95: 电子科学232 | E95: 2221110107 | F95: 刘威 | G95: 92 | I95: =G95+H95 -> 92 | J95: 75.98 | L95: =J95+K95 -> 75.98 | M95: 49 | O95: 49 | P95: =I95*15%+L95*75%+O95*10% -> 75.685 | Q95: 92 | R95: 80 | S95: 是
A96: 微电子学院（集成电路学院) | B96: 电子科学与技术 | C96: 120 | D96: 电子科学232 | E96: 2330110056 | F96: 周建伟 | G96: 92 | I96: =G96+H96 -> 92 | J96: 76.67 | L96: =J96+K96 -> 76.67 | M96: 43 | O96: 43 | P96: =I96*15%+L96*75%+O96*10% -> 75.6025 | Q96: 93 | R96: 75 | S96: 是
A97: 微电子学院（集成电路学院) | B97: 电子科学与技术 | C97: 120 | D97: 电子科学234 | E97: 2330110115 | F97: 张梦阔 | G97: 92 | I97: =G97+H97 -> 92 | J97: 73.784091 | L97: =J97+K97 -> 73.784091 | M97: 62.1 | O97: 62.1 | P97: =I97*15%+L97*75%+O97*10% -> 75.348068 | Q97: 94 | R97: 92 | S97: 否
A98: 微电子学院（集成电路学院) | B98: 电子科学与技术 | C98: 120 | D98: 电子科学233 | E98: 2330110079 | F98: 吴成宇 | G98: 92 | I98: =G98+H98 -> 92 | J98: 72.136364 | L98: =J98+K98 -> 72.136364 | M98: 71.9 | O98: 71.9 | P98: =I98*15%+L98*75%+O98*10% -> 75.092273 | Q98: 95 | R98: 99 | S98: 是
A99: 微电子学院（集成电路学院) | B99: 电子科学与技术 | C99: 120 | D99: 电子科学232 | E99: 2330110033 | F99: 沈佳丽 | G99: 92 | I99: =G99+H99 -> 92 | J99: 72.6 | L99: =J99+K99 -> 72.6 | M99: 64.7 | O99: 64.7 | P99: =I99*15%+L99*75%+O99*10% -> 74.72 | Q99: 96 | R99: 97 | S99: 是
A100: 微电子学院（集成电路学院) | B100: 电子科学与技术 | C100: 120 | D100: 电子科学232 | E100: 2330110036 | F100: 魏梦佳 | G100: 92 | I100: =G100+H100 -> 92 | J100: 70.23 | L100: =J100+K100 -> 70.23 | M100: 81.5 | O100: 81.5 | P100: =I100*15%+L100*75%+O100*10% -> 74.6225 | Q100: 97 | R100: 107 | S100: 否
...

Sheet 集24
A1: 附件5：
D2: 微电子学院（集成电路学院）集成电路设计与集成系统专业2024年级综合测评排名表
A3: 学院:微电子学院（集成电路学院） | C3: （盖章） | X3: 学院分管学生工作领导签名：
A4: 学院 | B4: 专业 | C4: 年级 | D4: 班级 | E4: 学号 | F4: 姓名 | G4: 德育 考评分 | H4: 德育 加减分 | I4: 德育 成绩 | J4: 智育 考试分 | K4: 智育 加减分 | L4: 智育 成绩 | M4: 体育 测评分 | N4: 体育 加减分 | O4: 体育 成绩 | P4: 美育 基础分 | Q4: 美育 奖惩分 | R4: 美育 成绩 | S4: 劳育 基础分 | T4: 劳育 奖惩分 | U4: 劳育 成绩 | V4: 综合 测评分 | W4: 综合测评排名 | X4: 学习成绩排名 | Y4: 是否有不及格课程 | Z4: 专业年级 总人数 | AA4: 奖学金 等级 | AB4: 单项 奖学金 | AC4: 荣誉称号 | AD4: 学生签名
A5: 微电子学院（集成电路学院） | B5: 集成电路设计与集成系统 | C5: 2024 | D5: 集243 | E5: 2421110155 | F5: 范梦妍 | G5: 92 | H5: 7 | I5: =G5+H5 -> 99 | J5: =VLOOKUP(F5,[3]Sheet2!$A:$B,2,FALSE) -> 95.254902 | K5: 4.75 | L5: =J5+K5 -> 100.0049 | M5: =VLOOKUP(F5,[4]Sheet2!$A:$B,2,FALSE) -> 82.575 | N5: 2 | O5: =M5+N5 -> 84.575 | P5: 60 | Q5: 19 | R5: =P5+Q5 -> 79 | S5: 60 | T5: 40 | U5: =S5+T5 -> 100 | V5: =I5*0.1+L5*0.75+O5*0.05+R5*0.05+U5*0.05 -> 98.082426 | W5: 1 | X5: 1 | Y5: 否 | Z5: 145 | AA5: 一等奖学金 | AC5: 三好学生标兵
A6: 微电子学院（集成电路学院） | B6: 集成电路设计与集成系统 | C6: 2024 | D6: 集242 | E6: 2437110167 | F6: 邱浚羽 | G6: 91 | H6: 2.5 | I6: =G6+H6 -> 93.5 | J6: =VLOOKUP(F6,[3]Sheet2!$A:$B,2,FALSE) -> 92.058824 | K6: 7.94 | L6: =J6+K6 -> 99.998824 | M6: =VLOOKUP(F6,[4]Sheet2!$A:$B,2,FALSE) -> 94.45 | N6: 0 | O6: =M6+N6 -> 94.45 | P6: 60 | Q6: 0 | R6: =P6+Q6 -> 60 | S6: 60 | T6: 40 | U6: =S6+T6 -> 100 | V6: =I6*0.1+L6*0.75+O6*0.05+R6*0.05+U6*0.05 -> 97.071618 | W6: 2 | X6: 8 | Y6: 否 | Z6: 145 | AA6: 一等奖学金 | AC6: 优秀学生干部
A7: 微电子学院（集成电路学院） | B7: 集成电路设计与集成系统 | C7: 2024 | D7: 集243 | E7: 2437110197 | F7: 孙邱齐 | G7: 91.64 | H7: 6.5 | I7: =G7+H7 -> 98.14 | J7: =VLOOKUP(F7,[3]Sheet2!$A:$B,2,FALSE) -> 92.137255 | K7: 7.86 | L7: =J7+K7 -> 99.997255 | M7: =VLOOKUP(F7,[4]Sheet2!$A:$B,2,FALSE) -> 63.25 | N7: 0 | O7: =M7+N7 -> 63.25 | P7: 60 | Q7: 2 | R7: =P7+Q7 -> 62 | S7: 60 | T7: 40 | U7: =S7+T7 -> 100 | V7: =I7*0.1+L7*0.75+O7*0.05+R7*0.05+U7*0.05 -> 96.074441 | W7: 3 | X7: 6 | Y7: 否 | Z7: 145 | AA7: 一等奖学金 | AC7: 三好学生
A8: 微电子学院（集成电路学院） | B8: 集成电路设计与集成系统 | C8: 2024 | D8: 集244 | E8: 2437110214 | F8: 张家敏 | G8: 91.5 | H8: 1 | I8: =G8+H8 -> 92.5 | J8: =VLOOKUP(F8,[3]Sheet2!$A:$B,2,FALSE) -> 94.54902 | K8: 2.95 | L8: =J8+K8 -> 97.49902 | M8: =VLOOKUP(F8,[4]Sheet2!$A:$B,2,FALSE) -> 87.55 | N8: 0 | O8: =M8+N8 -> 87.55 | P8: 60 | Q8: 5 | R8: =P8+Q8 -> 65 | S8: 60 | T8: 40 | U8: =S8+T8 -> 100 | V8: =I8*0.1+L8*0.75+O8*0.05+R8*0.05+U8*0.05 -> 95.001765 | W8: 4 | X8: 2 | Y8: 否 | Z8: 145 | AA8: 一等奖学金 | AC8: 三好学生标兵
A9: 微电子学院（集成电路学院） | B9: 集成电路设计与集成系统 | C9: 2024 | D9: 集241 | E9: 2334110514 | F9: 王俊翔 | G9: 92 | H9: 6 | I9: =G9+H9 -> 98 | J9: =VLOOKUP(F9,[3]Sheet2!$A:$B,2,FALSE) -> 94.078431 | K9: 2.99 | L9: =J9+K9 -> 97.068431 | M9: =VLOOKUP(F9,[4]Sheet2!$A:$B,2,FALSE) -> 68.8 | N9: 0 | O9: =M9+N9 -> 68.8 | P9: 60 | Q9: 10 | R9: =P9+Q9 -> 70 | S9: 60 | T9: 30 | U9: =S9+T9 -> 90 | V9: =I9*0.1+L9*0.75+O9*0.05+R9*0.05+U9*0.05 -> 94.041324 | W9: 5 | X9: 4 | Y9: 是 | Z9: 145 | AA9: 体测成绩不合格 | AB9: 研究与创新奖
A10: 微电子学院（集成电路学院） | B10: 集成电路设计与集成系统 | C10: 2024 | D10: 集241 | E10: 2437110122 | F10: 巩雯嘉 | G10: 92 | H10: 2 | I10: =G10+H10 -> 94 | J10: =VLOOKUP(F10,[3]Sheet2!$A:$B,2,FALSE) -> 90.45098 | K10: 5 | L10: =J10+K10 -> 95.45098 | M10: =VLOOKUP(F10,[4]Sheet2!$A:$B,2,FALSE) -> 79.75 | N10: 0 | O10: =M10+N10 -> 79.75 | P10: 60 | Q10: 15 | R10: =P10+Q10 -> 75 | S10: 60 | T10: 40 | U10: =S10+T10 -> 100 | V10: =I10*0.1+L10*0.75+O10*0.05+R10*0.05+U10*0.05 -> 93.725735 | W10: 6 | X10: 13 | Y10: 否 | Z10: 145 | AA10: 一等奖学金 | AC10: 三好学生
A11: 微电子学院（集成电路学院） | B11: 集成电路设计与集成系统 | C11: 2024 | D11: 集242 | E11: 2437110155 | F11: 朱欣钰 | G11: 89.62 | H11: 6.5 | I11: =G11+H11 -> 96.12 | J11: =VLOOKUP(F11,[3]Sheet2!$A:$B,2,FALSE) -> 92.058824 | K11: 3.95 | L11: =J11+K11 -> 96.008824 | M11: =VLOOKUP(F11,[4]Sheet2!$A:$B,2,FALSE) -> 81.825 | N11: 0 | O11: =M11+N11 -> 81.825 | P11: 60 | Q11: 0 | R11: =P11+Q11 -> 60 | S11: 60 | T11: 40 | U11: =S11+T11 -> 100 | V11: =I11*0.1+L11*0.75+O11*0.05+R11*0.05+U11*0.05 -> 93.709868 | W11: 7 | X11: 9 | Y11: 否 | Z11: 145 | AA11: 一等奖学金 | AC11: 三好学生
A12: 微电子学院（集成电路学院） | B12: 集成电路设计与集成系统 | C12: 2024 | D12: 集243 | E12: 2437110198 | F12: 王磊 | G12: 92 | H12: 5 | I12: =G12+H12 -> 97 | J12: =VLOOKUP(F12,[3]Sheet2!$A:$B,2,FALSE) -> 94.117647 | K12: 2 | L12: =J12+K12 -> 96.117647 | M12: =VLOOKUP(F12,[4]Sheet2!$A:$B,2,FALSE) -> 76.85 | N12: 0 | O12: =M12+N12 -> 76.85 | P12: 60 | Q12: 0 | R12: =P12+Q12 -> 60 | S12: 60 | T12: 40 | U12: =S12+T12 -> 100 | V12: =I12*0.1+L12*0.75+O12*0.05+R12*0.05+U12*0.05 -> 93.630735 | W12: 8 | X12: 3 | Y12: 否 | Z12: 145 | AA12: 二等奖学金 | AC12: 优秀学生干部
A13: 微电子学院（集成电路学院） | B13: 集成电路设计与集成系统 | C13: 2024 | D13: 集244 | E13: 2437110213 | F13: 颜思婷 | G13: 91.5 | H13: 4.5 | I13: =G13+H13 -> 96 | J13: =VLOOKUP(F13,[3]Sheet2!$A:$B,2,FALSE) -> 92.333333 | K13: 2.2 | L13: =J13+K13 -> 94.533333 | M13: =VLOOKUP(F13,[4]Sheet2!$A:$B,2,FALSE) -> 79.75 | N13: 0 | O13: =M13+N13 -> 79.75 | P13: 60 | Q13: 10 | R13: =P13+Q13 -> 70 | S13: 60 | T13: 40 | U13: =S13+T13 -> 100 | V13: =I13*0.1+L13*0.75+O13*0.05+R13*0.05+U13*0.05 -> 92.9875 | W13: 9 | X13: 5 | Y13: 否 | Z13: 145 | AA13: 二等奖学金 | AC13: 三好学生
A14: 微电子学院（集成电路学院） | B14: 集成电路设计与集成系统 | C14: 2024 | D14: 集244 | E14: 2437110211 | F14: 丁广涵 | G14: 91 | H14: 8 | I14: =G14+H14 -> 99 | J14: =VLOOKUP(F14,[3]Sheet2!$A:$B,2,FALSE) -> 89.431373 | K14: 2.825 | L14: =J14+K14 -> 92.256373 | M14: =VLOOKUP(F14,[4]Sheet2!$A:$B,2,FALSE) -> 86.55 | N14: 0 | O14: =M14+N14 -> 86.55 | P14: 60 | Q14: 10 | R14: =P14+Q14 -> 70 | S14: 60 | T14: 40 | U14: =S14+T14 -> 100 | V14: =I14*0.1+L14*0.75+O14*0.05+R14*0.05+U14*0.05 -> 91.919779 | W14: 10 | X14: 16 | Y14: 否 | Z14: 145 | AA14: 二等奖学金
A15: 微电子学院（集成电路学院） | B15: 集成电路设计与集成系统 | C15: 2024 | D15: 集241 | E15: 2437110146 | F15: 严一航 | G15: 92 | H15: 3 | I15: =G15+H15 -> 95 | J15: =VLOOKUP(F15,[3]Sheet2!$A:$B,2,FALSE) -> 85.705882 | K15: 6.95 | L15: =J15+K15 -> 92.655882 | M15: =VLOOKUP(F15,[4]Sheet2!$A:$B,2,FALSE) -> 89.1 | N15: 1.5 | O15: =M15+N15 -> 90.6 | P15: 60 | Q15: 0 | R15: =P15+Q15 -> 60 | S15: 60 | T15: 40 | U15: =S15+T15 -> 100 | V15: =I15*0.1+L15*0.75+O15*0.05+R15*0.05+U15*0.05 -> 91.521912 | W15: 11 | X15: 30 | Y15: 否 | Z15: 145 | AA15: 二等奖学金
A16: 微电子学院（集成电路学院） | B16: 集成电路设计与集成系统 | C16: 2024 | D16: 集242 | E16: 2437110177 | F16: 张家瑞 | G16: 90.42 | H16: 6.5 | I16: =G16+H16 -> 96.92 | J16: =VLOOKUP(F16,[3]Sheet2!$A:$B,2,FALSE) -> 81.72549 | K16: 11.025 | L16: =J16+K16 -> 92.75049 | M16: =VLOOKUP(F16,[4]Sheet2!$A:$B,2,FALSE) -> 80.1 | N16: 2 | O16: =M16+N16 -> 82.1 | P16: 60 | Q16: 0 | R16: =P16+Q16 -> 60 | S16: 60 | T16: 40 | U16: =S16+T16 -> 100 | V16: =I16*0.1+L16*0.75+O16*0.05+R16*0.05+U16*0.05 -> 91.359868 | W16: 12 | X16: 52 | Y16: 否 | Z16: 145 | AA16: 二等奖学金
A17: 微电子学院（集成电路学院） | B17: 集成电路设计与集成系统 | C17: 2024 | D17: 集242 | E17: 2315110385 | F17: 吴同启 | G17: 90.571 | H17: 2 | I17: =G17+H17 -> 92.571 | J17: =VLOOKUP(F17,[3]Sheet2!$A:$B,2,FALSE) -> 85.764706 | K17: 6.77 | L17: =J17+K17 -> 92.534706 | M17: =VLOOKUP(F17,[4]Sheet2!$A:$B,2,FALSE) -> 93.15 | N17: 0 | O17: =M17+N17 -> 93.15 | P17: 60 | Q17: 0 | R17: =P17+Q17 -> 60 | S17: 60 | T17: 30 | U17: =S17+T17 -> 90 | V17: =I17*0.1+L17*0.75+O17*0.05+R17*0.05+U17*0.05 -> 90.815629 | W17: 13 | X17: 28 | Y17: 否 | Z17: 145 | AA17: 二等奖学金
A18: 微电子学院（集成电路学院） | B18: 集成电路设计与集成系统 | C18: 2024 | D18: 集243 | E18: 2433110422 | F18: 丁跃 | G18: 90.71 | H18: 0 | I18: =G18+H18 -> 90.71 | J18: =VLOOKUP(F18,[3]Sheet2!$A:$B,2,FALSE) -> 91.666667 | K18: 2.2 | L18: =J18+K18 -> 93.866667 | M18: =VLOOKUP(F18,[4]Sheet2!$A:$B,2,FALSE) -> 83.775 | N18: 0 | O18: =M18+N18 -> 83.775 | P18: 60 | Q18: 0 | R18: =P18+Q18 -> 60 | S18: 60 | T18: 18 | U18: =S18+T18 -> 78 | V18: =I18*0.1+L18*0.75+O18*0.05+R18*0.05+U18*0.05 -> 90.55975 | W18: 14 | X18: 11 | Y18: 否 | Z18: 145 | AA18: 二等奖学金 | AC18: 三好学生
A19: 微电子学院（集成电路学院） | B19: 集成电路设计与集成系统 | C19: 2024 | D19: 集243 | E19: 2437110185 | F19: 杨星新 | G19: 90.28 | H19: 3.5 | I19: =G19+H19 -> 93.78 | J19: =VLOOKUP(F19,[3]Sheet2!$A:$B,2,FALSE) -> 89.901961 | K19: 1 | L19: =J19+K19 -> 90.901961 | M19: =VLOOKUP(F19,[4]Sheet2!$A:$B,2,FALSE) -> 79.05 | N19: 0 | O19: =M19+N19 -> 79.05 | P19: 60 | Q19: 8 | R19: =P19+Q19 -> 68 | S19: 60 | T19: 40 | U19: =S19+T19 -> 100 | V19: =I19*0.1+L19*0.75+O19*0.05+R19*0.05+U19*0.05 -> 89.906971 | W19: 15 | X19: 14 | Y19: 否 | Z19: 145 | AA19: 二等奖学金 | AC19: 三好学生
A20: 微电子学院（集成电路学院） | B20: 集成电路设计与集成系统 | C20: 2024 | D20: 集244 | E20: 2437110231 | F20: 吴昶磊 | G20: 91.5 | H20: 4.7 | I20: =G20+H20 -> 96.2 | J20: =VLOOKUP(F20,[3]Sheet2!$A:$B,2,FALSE) -> 88.823529 | K20: 2.5 | L20: =J20+K20 -> 91.323529 | M20: =VLOOKUP(F20,[4]Sheet2!$A:$B,2,FALSE) -> 88.95 | N20: 0 | O20: =M20+N20 -> 88.95 | P20: 60 | Q20: 0 | R20: =P20+Q20 -> 60 | S20: 60 | T20: 25 | U20: =S20+T20 -> 85 | V20: =I20*0.1+L20*0.75+O20*0.05+R20*0.05+U20*0.05 -> 89.810147 | W20: 16 | X20: 20 | Y20: 否 | Z20: 145 | AA20: 二等奖学金
A21: 微电子学院（集成电路学院） | B21: 集成电路设计与集成系统 | C21: 2024 | D21: 集242 | E21: 2430110208 | F21: 况佳怡 | G21: 91 | H21: 9 | I21: =G21+H21 -> 100 | J21: =VLOOKUP(F21,[3]Sheet2!$A:$B,2,FALSE) -> 88.941176 | K21: 0.06 | L21: =J21+K21 -> 89.001176 | M21: =VLOOKUP(F21,[4]Sheet2!$A:$B,2,FALSE) -> 81.05 | N21: 3 | O21: =M21+N21 -> 84.05 | P21: 60 | Q21: 6 | R21: =P21+Q21 -> 66 | S21: 60 | T21: 40 | U21: =S21+T21 -> 100 | V21: =I21*0.1+L21*0.75+O21*0.05+R21*0.05+U21*0.05 -> 89.253382 | W21: 17 | X21: 19 | Y21: 否 | Z21: 145 | AA21: 二等奖学金
A22: 微电子学院（集成电路学院） | B22: 集成电路设计与集成系统 | C22: 2024 | D22: 集243 | E22: 2437110181 | F22: 丁雅欣 | G22: 90.28 | H22: 0 | I22: =G22+H22 -> 90.28 | J22: =VLOOKUP(F22,[3]Sheet2!$A:$B,2,FALSE) -> 91.72549 | K22: 1.95 | L22: =J22+K22 -> 93.67549 | M22: =VLOOKUP(F22,[4]Sheet2!$A:$B,2,FALSE) -> 80.8 | N22: 0 | O22: =M22+N22 -> 80.8 | P22: 60 | Q22: 0 | R22: =P22+Q22 -> 60 | S22: 40 | T22: 15 | U22: =S22+T22 -> 55 | V22: =I22*0.1+L22*0.75+O22*0.05+R22*0.05+U22*0.05 -> 89.074618 | W22: 18 | X22: 10 | Y22: 否 | Z22: 145 | AA22: 二等奖学金 | AC22: 三好学生
A23: 微电子学院（集成电路学院） | B23: 集成电路设计与集成系统 | C23: 2024 | D23: 集241 | E23: 2437110123 | F23: 李怡文 | G23: 92 | H23: 5 | I23: =G23+H23 -> 97 | J23: =VLOOKUP(F23,[3]Sheet2!$A:$B,2,FALSE) -> 89.254902 | K23: 0.25 | L23: =J23+K23 -> 89.504902 | M23: =VLOOKUP(F23,[4]Sheet2!$A:$B,2,FALSE) -> 79.45 | N23: 0 | O23: =M23+N23 -> 79.45 | P23: 60 | Q23: 5 | R23: =P23+Q23 -> 65 | S23: 60 | T23: 40 | U23: =S23+T23 -> 100 | V23: =I23*0.1+L23*0.75+O23*0.05+R23*0.05+U23*0.05 -> 89.051176 | W23: 19 | X23: 18 | Y23: 否 | Z23: 145 | AA23: 二等奖学金
A24: 微电子学院（集成电路学院） | B24: 集成电路设计与集成系统 | C24: 2024 | D24: 集241 | E24: 2421110229 | F24: 曹正宇 | G24: 92 | H24: 2 | I24: =G24+H24 -> 94 | J24: =VLOOKUP(F24,[3]Sheet2!$A:$B,2,FALSE) -> 92.137255 | K24: 1.2 | L24: =J24+K24 -> 93.337255 | M24: =VLOOKUP(F24,[4]Sheet2!$A:$B,2,FALSE) -> 73.85 | N24: 0 | O24: =M24+N24 -> 73.85 | P24: 60 | Q24: 0 | R24: =P24+Q24 -> 60 | S24: 40 | T24: 10 | U24: =S24+T24 -> 50 | V24: =I24*0.1+L24*0.75+O24*0.05+R24*0.05+U24*0.05 -> 88.595441 | W24: 20 | X24: 7 | Y24: 否 | Z24: 145 | AA24: 二等奖学金 | AC24: 三好学生
A25: 微电子学院（集成电路学院） | B25: 集成电路设计与集成系统 | C25: 2024 | D25: 集242 | E25: 2437110154 | F25: 张锦 | G25: 90.71 | H25: 4.5 | I25: =G25+H25 -> 95.21 | J25: =VLOOKUP(F25,[3]Sheet2!$A:$B,2,FALSE) -> 87.666667 | K25: 1.625 | L25: =J25+K25 -> 89.291667 | M25: =VLOOKUP(F25,[4]Sheet2!$A:$B,2,FALSE) -> 79.65 | N25: 0 | O25: =M25+N25 -> 79.65 | P25: 60 | Q25: 0 | R25: =P25+Q25 -> 60 | S25: 60 | T25: 40 | U25: =S25+T25 -> 100 | V25: =I25*0.1+L25*0.75+O25*0.05+R25*0.05+U25*0.05 -> 88.47225 | W25: 21 | X25: 21 | Y25: 否 | Z25: 145 | AA25: 二等奖学金
A26: 微电子学院（集成电路学院） | B26: 集成电路设计与集成系统 | C26: 2024 | D26: 集244 | E26: 2437110240 | F26: 宗剑鸣 | G26: 92 | H26: 6.6 | I26: =G26+H26 -> 98.6 | J26: =VLOOKUP(F26,[3]Sheet2!$A:$B,2,FALSE) -> 86.960784 | K26: 0 | L26: =J26+K26 -> 86.960784 | M26: =VLOOKUP(F26,[4]Sheet2!$A:$B,2,FALSE) -> 77.975 | N26: 0 | O26: =M26+N26 -> 77.975 | P26: 60 | Q26: 5 | R26: =P26+Q26 -> 65 | S26: 60 | T26: 40 | U26: =S26+T26 -> 100 | V26: =I26*0.1+L26*0.75+O26*0.05+R26*0.05+U26*0.05 -> 87.229338 | W26: 22 | X26: 24 | Y26: 否 | Z26: 145 | AA26: 三等奖学金
A27: 微电子学院（集成电路学院） | B27: 集成电路设计与集成系统 | C27: 2024 | D27: 集243 | E27: 2437110193 | F27: 刘文斌 | G27: 90.14 | H27: 0 | I27: =G27+H27 -> 90.14 | J27: =VLOOKUP(F27,[3]Sheet2!$A:$B,2,FALSE) -> 89.470588 | K27: 1.7 | L27: =J27+K27 -> 91.170588 | M27: =VLOOKUP(F27,[4]Sheet2!$A:$B,2,FALSE) -> 66.9 | N27: 0 | O27: =M27+N27 -> 66.9 | P27: 60 | Q27: 0 | R27: =P27+Q27 -> 60 | S27: 40 | T27: 25 | U27: =S27+T27 -> 65 | V27: =I27*0.1+L27*0.75+O27*0.05+R27*0.05+U27*0.05 -> 86.986941 | W27: 23 | X27: 15 | Y27: 否 | Z27: 145 | AA27: 三等奖学金
A28: 微电子学院（集成电路学院） | B28: 集成电路设计与集成系统 | C28: 2024 | D28: 集244 | E28: 2437110223 | F28: 戚成功 | G28: 90 | H28: 0 | I28: =G28+H28 -> 90 | J28: =VLOOKUP(F28,[3]Sheet2!$A:$B,2,FALSE) -> 85.686275 | K28: 2.2 | L28: =J28+K28 -> 87.886275 | M28: =VLOOKUP(F28,[4]Sheet2!$A:$B,2,FALSE) -> 80.1 | N28: 0 | O28: =M28+N28 -> 80.1 | P28: 60 | Q28: 0 | R28: =P28+Q28 -> 60 | S28: 60 | T28: 40 | U28: =S28+T28 -> 100 | V28: =I28*0.1+L28*0.75+O28*0.05+R28*0.05+U28*0.05 -> 86.919706 | W28: 24 | X28: 31 | Y28: 否 | Z28: 145 | AA28: 三等奖学金
A29: 微电子学院（集成电路学院） | B29: 集成电路设计与集成系统 | C29: 2024 | D29: 集243 | E29: 2437110196 | F29: 宋子昂 | G29: 91.42 | H29: 4 | I29: =G29+H29 -> 95.42 | J29: =VLOOKUP(F29,[3]Sheet2!$A:$B,2,FALSE) -> 85.72549 | K29: 1.2 | L29: =J29+K29 -> 86.92549 | M29: =VLOOKUP(F29,[4]Sheet2!$A:$B,2,FALSE) -> 97.5 | N29: 0 | O29: =M29+N29 -> 97.5 | P29: 60 | Q29: 0 | R29: =P29+Q29 -> 60 | S29: 52 | T29: 30 | U29: =S29+T29 -> 82 | V29: =I29*0.1+L29*0.75+O29*0.05+R29*0.05+U29*0.05 -> 86.711118 | W29: 25 | X29: 29 | Y29: 否 | Z29: 145 | AA29: 三等奖学金
A30: 微电子学院（集成电路学院） | B30: 集成电路设计与集成系统 | C30: 2024 | D30: 集241 | E30: 2437110134 | F30: 高迎源 | G30: 91 | H30: 0 | I30: =G30+H30 -> 91 | J30: =VLOOKUP(F30,[3]Sheet2!$A:$B,2,FALSE) -> 90.490196 | K30: 0.03125 | L30: =J30+K30 -> 90.521446 | M30: =VLOOKUP(F30,[4]Sheet2!$A:$B,2,FALSE) -> 71.95 | N30: 0 | O30: =M30+N30 -> 71.95 | P30: 60 | Q30: 0 | R30: =P30+Q30 -> 60 | S30: 40 | T30: 10 | U30: =S30+T30 -> 50 | V30: =I30*0.1+L30*0.75+O30*0.05+R30*0.05+U30*0.05 -> 86.088585 | W30: 26 | X30: 12 | Y30: 否 | Z30: 145 | AA30: 三等奖学金
A31: 微电子学院（集成电路学院） | B31: 集成电路设计与集成系统 | C31: 2024 | D31: 集241 | E31: 2415110069 | F31: 易妍 | G31: 90.5 | H31: 7.5 | I31: =G31+H31 -> 98 | J31: =VLOOKUP(F31,[3]Sheet2!$A:$B,2,FALSE) -> 82.764706 | K31: 1.2 | L31: =J31+K31 -> 83.964706 | M31: =VLOOKUP(F31,[4]Sheet2!$A:$B,2,FALSE) -> 82.3 | N31: 0 | O31: =M31+N31 -> 82.3 | P31: 60 | Q31: 20 | R31: =P31+Q31 -> 80 | S31: 60 | T31: 40 | U31: =S31+T31 -> 100 | V31: =I31*0.1+L31*0.75+O31*0.05+R31*0.05+U31*0.05 -> 85.888529 | W31: 27 | X31: 44 | Y31: 否 | Z31: 145 | AA31: 三等奖学金
A32: 微电子学院（集成电路学院） | B32: 集成电路设计与集成系统 | C32: 2024 | D32: 集243 | E32: 2315110406 | F32: 杜帅 | G32: 88.71 | H32: 0.5 | I32: =G32+H32 -> 89.21 | J32: =VLOOKUP(F32,[3]Sheet2!$A:$B,2,FALSE) -> 89.313725 | K32: 1.2 | L32: =J32+K32 -> 90.513725 | M32: =VLOOKUP(F32,[4]Sheet2!$A:$B,2,FALSE) -> 76.45 | N32: 0 | O32: =M32+N32 -> 76.45 | P32: 60 | Q32: 0 | R32: =P32+Q32 -> 60 | S32: 40 | T32: 0 | U32: =S32+T32 -> 40 | V32: =I32*0.1+L32*0.75+O32*0.05+R32*0.05+U32*0.05 -> 85.628794 | W32: 28 | X32: 17 | Y32: 否 | Z32: 145 | AA32: 三等奖学金
A33: 微电子学院（集成电路学院） | B33: 集成电路设计与集成系统 | C33: 2024 | D33: 集244 | E33: 2437110239 | F33: 郑子健 | G33: 92 | H33: 8 | I33: =G33+H33 -> 100 | J33: =VLOOKUP(F33,[3]Sheet2!$A:$B,2,FALSE) -> 82.960784 | K33: 0.7517 | L33: =J33+K33 -> 83.712484 | M33: =VLOOKUP(F33,[4]Sheet2!$A:$B,2,FALSE) -> 74.85 | N33: 1.5 | O33: =M33+N33 -> 76.35 | P33: 60 | Q33: 11 | R33: =P33+Q33 -> 71 | S33: 60 | T33: 40 | U33: =S33+T33 -> 100 | V33: =I33*0.1+L33*0.75+O33*0.05+R33*0.05+U33*0.05 -> 85.151863 | W33: 29 | X33: 43 | Y33: 否 | Z33: 145 | AA33: 三等奖学金
A34: 微电子学院（集成电路学院） | B34: 集成电路设计与集成系统 | C34: 2024 | D34: 集244 | E34: 2437110212 | F34: 顾芯铱 | G34: 89.5 | H34: 4.5 | I34: =G34+H34 -> 94 | J34: =VLOOKUP(F34,[3]Sheet2!$A:$B,2,FALSE) -> 81.745098 | K34: 2.45 | L34: =J34+K34 -> 84.195098 | M34: =VLOOKUP(F34,[4]Sheet2!$A:$B,2,FALSE) -> 81.4 | N34: 0 | O34: =M34+N34 -> 81.4 | P34: 60 | Q34: 10 | R34: =P34+Q34 -> 70 | S34: 60 | T34: 40 | U34: =S34+T34 -> 100 | V34: =I34*0.1+L34*0.75+O34*0.05+R34*0.05+U34*0.05 -> 85.116324 | W34: 30 | X34: 51 | Y34: 否 | Z34: 145 | AA34: 三等奖学金
A35: 微电子学院（集成电路学院） | B35: 集成电路设计与集成系统 | C35: 2024 | D35: 集244 | E35: 2437110220 | F35: 李想 | G35: 91 | H35: 2 | I35: =G35+H35 -> 93 | J35: =VLOOKUP(F35,[3]Sheet2!$A:$B,2,FALSE) -> 84.27451 | K35: 0 | L35: =J35+K35 -> 84.27451 | M35: =VLOOKUP(F35,[4]Sheet2!$A:$B,2,FALSE) -> 86.8 | N35: 0 | O35: =M35+N35 -> 86.8 | P35: 60 | Q35: 5 | R35: =P35+Q35 -> 65 | S35: 60 | T35: 35 | U35: =S35+T35 -> 95 | V35: =I35*0.1+L35*0.75+O35*0.05+R35*0.05+U35*0.05 -> 84.845882 | W35: 31 | X35: 38 | Y35: 否 | Z35: 145 | AA35: 三等奖学金
A36: 微电子学院（集成电路学院） | B36: 集成电路设计与集成系统 | C36: 2024 | D36: 集244 | E36: 2437110226 | F36: 苏裕城 | G36: 88.5 | H36: 0 | I36: =G36+H36 -> 88.5 | J36: =VLOOKUP(F36,[3]Sheet2!$A:$B,2,FALSE) -> 84 | K36: 1 | L36: =J36+K36 -> 85 | M36: =VLOOKUP(F36,[4]Sheet2!$A:$B,2,FALSE) -> 93.55 | N36: 1.5 | O36: =M36+N36 -> 95.05 | P36: 60 | Q36: 0 | R36: =P36+Q36 -> 60 | S36: 60 | T36: 25 | U36: =S36+T36 -> 85 | V36: =I36*0.1+L36*0.75+O36*0.05+R36*0.05+U36*0.05 -> 84.6025 | W36: 32 | X36: 39 | Y36: 否 | Z36: 145 | AA36: 三等奖学金
... A62: 微电子学院（集成电路学院） | B62: 集成电路设计与集成系统 | C62: 2024 | D62: 集243 | E62: 2437110206 | F62: 张恒毅 | G62: 88.57 | H62: 0 | I62: =G62+H62 -> 88.57 | J62: =VLOOKUP(F62,[3]Sheet2!$A:$B,2,FALSE) -> 82 | K62: 0 | L62: =J62+K62 -> 82 | M62: =VLOOKUP(F62,[4]Sheet2!$A:$B,2,FALSE) -> 80.575 | N62: 0 | O62: =M62+N62 -> 80.575 | P62: 60 | Q62: 0 | R62: =P62+Q62 -> 60 | S62: 40 | T62: 0 | U62: =S62+T62 -> 40 | V62: =I62*0.1+L62*0.75+O62*0.05+R62*0.05+U62*0.05 -> 79.38575 | W62: 58 | X62: 49 | Y62: 否 | Z62: 145 | AA62: 三等奖学金
A63: 微电子学院（集成电路学院） | B63: 集成电路设计与集成系统 | C63: 2024 | D63: 集242 | E63: 2408110165 | F63: 李帅男 | G63: 90.12 | H63: 0.5 | I63: =G63+H63 -> 90.62 | J63: =VLOOKUP(F63,[3]Sheet2!$A:$B,2,FALSE) -> 82.27451 | K63: 0 | L63: =J63+K63 -> 82.27451 | M63: =VLOOKUP(F63,[4]Sheet2!$A:$B,2,FALSE) -> 70.65 | N63: 1.5 | O63: =M63+N63 -> 72.15 | P63: 60 | Q63: 0 | R63: =P63+Q63 -> 60 | S63: 40 | T63: 0 | U63: =S63+T63 -> 40 | V63: =I63*0.1+L63*0.75+O63*0.05+R63*0.05+U63*0.05 -> 79.375382 | W63: 59 | X63: 47 | Y63: 否 | Z63: 145
A64: 微电子学院（集成电路学院） | B64: 集成电路设计与集成系统 | C64: 2024 | D64: 集244 | E64: 2434110543 | F64: 李涵宇 | G64: 88 | H64: 0 | I64: =G64+H64 -> 88 | J64: =VLOOKUP(F64,[3]Sheet2!$A:$B,2,FALSE) -> 77.607843 | K64: 1.7 | L64: =J64+K64 -> 79.307843 | M64: =VLOOKUP(F64,[4]Sheet2!$A:$B,2,FALSE) -> 80.1 | N64: 0 | O64: =M64+N64 -> 80.1 | P64: 60 | Q64: 0 | R64: =P64+Q64 -> 60 | S64: 60 | T64: 20 | U64: =S64+T64 -> 80 | V64: =I64*0.1+L64*0.75+O64*0.05+R64*0.05+U64*0.05 -> 79.285882 | W64: 60 | X64: 83 | Y64: 否 | Z64: 145
A65: 微电子学院（集成电路学院） | B65: 集成电路设计与集成系统 | C65: 2024 | D65: 集244 | E65: 2437110236 | F65: 殷敢优 | G65: 87.5 | H65: 0 | I65: =G65+H65 -> 87.5 | J65: =VLOOKUP(F65,[3]Sheet2!$A:$B,2,FALSE) -> 83.235294 | K65: 0 | L65: =J65+K65 -> 83.235294 | M65: =VLOOKUP(F65,[4]Sheet2!$A:$B,2,FALSE) -> 60 | N65: 0 | O65: =M65+N65 -> 60 | P65: 60 | Q65: 0 | R65: =P65+Q65 -> 60 | S65: 40 | T65: 0 | U65: =S65+T65 -> 40 | V65: =I65*0.1+L65*0.75+O65*0.05+R65*0.05+U65*0.05 -> 79.176471 | W65: 61 | X65: 42 | Y65: 否 | Z65: 145
A66: 微电子学院（集成电路学院） | B66: 集成电路设计与集成系统 | C66: 2024 | D66: 集244 | E66: 2437110237 | F66: 张家铭 | G66: 87.5 | H66: 0 | I66: =G66+H66 -> 87.5 | J66: =VLOOKUP(F66,[3]Sheet2!$A:$B,2,FALSE) -> 79.176471 | K66: 1.2 | L66: =J66+K66 -> 80.376471 | M66: =VLOOKUP(F66,[4]Sheet2!$A:$B,2,FALSE) -> 88.45 | N66: 0 | O66: =M66+N66 -> 88.45 | P66: 60 | Q66: 0 | R66: =P66+Q66 -> 60 | S66: 42 | T66: 10 | U66: =S66+T66 -> 52 | V66: =I66*0.1+L66*0.75+O66*0.05+R66*0.05+U66*0.05 -> 79.054853 | W66: 62 | X66: 66 | Y66: 否 | Z66: 145
A67: 微电子学院（集成电路学院） | B67: 集成电路设计与集成系统 | C67: 2024 | D67: 集243 | E67: 2437110188 | F67: 段宇阳 | G67: 87.42 | H67: 2 | I67: =G67+H67 -> 89.42 | J67: =VLOOKUP(F67,[3]Sheet2!$A:$B,2,FALSE) -> 81.117647 | K67: 0 | L67: =J67+K67 -> 81.117647 | M67: =VLOOKUP(F67,[4]Sheet2!$A:$B,2,FALSE) -> 84.85 | N67: 0 | O67: =M67+N67 -> 84.85 | P67: 60 | Q67: 0 | R67: =P67+Q67 -> 60 | S67: 40 | T67: 0 | U67: =S67+T67 -> 40 | V67: =I67*0.1+L67*0.75+O67*0.05+R67*0.05+U67*0.05 -> 79.022735 | W67: 63 | X67: 56 | Y67: 否 | Z67: 145
A68: 微电子学院（集成电路学院） | B68: 集成电路设计与集成系统 | C68: 2024 | D68: 集242 | E68: 2437110173 | F68: 杨佳昊 | G68: 87.37 | H68: 2 | I68: =G68+H68 -> 89.37 | J68: =VLOOKUP(F68,[3]Sheet2!$A:$B,2,FALSE) -> 77.705882 | K68: 0 | L68: =J68+K68 -> 77.705882 | M68: =VLOOKUP(F68,[4]Sheet2!$A:$B,2,FALSE) -> 75.6 | N68: 0 | O68: =M68+N68 -> 75.6 | P68: 60 | Q68: 0 | R68: =P68+Q68 -> 60 | S68: 60 | T68: 40 | U68: =S68+T68 -> 100 | V68: =I68*0.1+L68*0.75+O68*0.05+R68*0.05+U68*0.05 -> 78.996412 | W68: 64 | X68: 82 | Y68: 否 | Z68: 145
A69: 微电子学院（集成电路学院） | B69: 集成电路设计与集成系统 | C69: 2024 | D69: 集243 | E69: 2437110210 | F69: 朱远 | G69: 89 | H69: 0 | I69: =G69+H69 -> 89 | J69: =VLOOKUP(F69,[3]Sheet2!$A:$B,2,FALSE) -> 81.235294 | K69: 0 | L69: =J69+K69 -> 81.235294 | M69: =VLOOKUP(F69,[4]Sheet2!$A:$B,2,FALSE) -> 80.05 | N69: 0 | O69: =M69+N69 -> 80.05 | P69: 60 | Q69: 0 | R69: =P69+Q69 -> 60 | S69: 40 | T69: 0 | U69: =S69+T69 -> 40 | V69: =I69*0.1+L69*0.75+O69*0.05+R69*0.05+U69*0.05 -> 78.828971 | W69: 65 | X69: 55 | Y69: 否 | Z69: 145
A70: 微电子学院（集成电路学院） | B70: 集成电路设计与集成系统 | C70: 2024 | D70: 集243 | E70: 2437110195 | F70: 潘际宇 | G70: 89.57 | H70: 0 | I70: =G70+H70 -> 89.57 | J70: =VLOOKUP(F70,[3]Sheet2!$A:$B,2,FALSE) -> 79.705882 | K70: 1.2 | L70: =J70+K70 -> 80.905882 | M70: =VLOOKUP(F70,[4]Sheet2!$A:$B,2,FALSE) -> 66.225 | N70: 0 | O70: =M70+N70 -> 66.225 | P70: 60 | Q70: 0 | R70: =P70+Q70 -> 60 | S70: 40 | T70: 15 | U70: =S70+T70 -> 55 | V70: =I70*0.1+L70*0.75+O70*0.05+R70*0.05+U70*0.05 -> 78.697662 | W70: 66 | X70: 63 | Y70: 是 | Z70: 145
A71: 微电子学院（集成电路学院） | B71: 集成电路设计与集成系统 | C71: 2024 | D71: 集241 | E71: 2437110147 | F71: 叶鸿恺 | G71: 89.5 | H71: 0 | I71: =G71+H71 -> 89.5 | J71: =VLOOKUP(F71,[3]Sheet2!$A:$B,2,FALSE) -> 80.568627 | K71: 0 | L71: =J71+K71 -> 80.568627 | M71: =VLOOKUP(F71,[4]Sheet2!$A:$B,2,FALSE) -> 74 | N71: 0 | O71: =M71+N71 -> 74 | P71: 60 | Q71: 0 | R71: =P71+Q71 -> 60 | S71: 40 | T71: 0 | U71: =S71+T71 -> 40 | V71: =I71*0.1+L71*0.75+O71*0.05+R71*0.05+U71*0.05 -> 78.076471 | W71: 67 | X71: 59 | Y71: 否 | Z71: 145
A72: 微电子学院（集成电路学院） | B72: 集成电路设计与集成系统 | C72: 2024 | D72: 集242 | E72: 2437110151 | F72: 石娜 | G72: 88.37 | H72: 0 | I72: =G72+H72 -> 88.37 | J72: =VLOOKUP(F72,[3]Sheet2!$A:$B,2,FALSE) -> 80.215686 | K72: 0 | L72: =J72+K72 -> 80.215686 | M72: =VLOOKUP(F72,[4]Sheet2!$A:$B,2,FALSE) -> 81.35 | N72: 0 | O72: =M72+N72 -> 81.35 | P72: 60 | Q72: 0 | R72: =P72+Q72 -> 60 | S72: 40 | T72: 0 | U72: =S72+T72 -> 40 | V72: =I72*0.1+L72*0.75+O72*0.05+R72*0.05+U72*0.05 -> 78.066265 | W72: 68 | X72: 60 | Y72: 否 | Z72: 145
A73: 微电子学院（集成电路学院） | B73: 集成电路设计与集成系统 | C73: 2024 | D73: 集243 | E73: 2437110199 | F73: 王尧 | G73: 88.57 | H73: 0 | I73: =G73+H73 -> 88.57 | J73: =VLOOKUP(F73,[3]Sheet2!$A:$B,2,FALSE) -> 81.411765 | K73: 0 | L73: =J73+K73 -> 81.411765 | M73: =VLOOKUP(F73,[4]Sheet2!$A:$B,2,FALSE) -> 61.7 | N73: 0 | O73: =M73+N73 -> 61.7 | P73: 60 | Q73: 0 | R73: =P73+Q73 -> 60 | S73: 40 | T73: 0 | U73: =S73+T73 -> 40 | V73: =I73*0.1+L73*0.75+O73*0.05+R73*0.05+U73*0.05 -> 78.000824 | W73: 69 | X73: 53 | Y73: 是 | Z73: 145
A74: 微电子学院（集成电路学院） | B74: 集成电路设计与集成系统 | C74: 2024 | D74: 集241 | E74: 2437110124 | F74: 刘奚睿 | G74: 89.5 | H74: 0 | I74: =G74+H74 -> 89.5 | J74: =VLOOKUP(F74,[3]Sheet2!$A:$B,2,FALSE) -> 76.254902 | K74: 1.2 | L74: =J74+K74 -> 77.454902 | M74: =VLOOKUP(F74,[4]Sheet2!$A:$B,2,FALSE) -> 81.95 | N74: 0 | O74: =M74+N74 -> 81.95 | P74: 60 | Q74: 0 | R74: =P74+Q74 -> 60 | S74: 40 | T74: 35 | U74: =S74+T74 -> 75 | V74: =I74*0.1+L74*0.75+O74*0.05+R74*0.05+U74*0.05 -> 77.888676 | W74: 70 | X74: 91 | Y74: 否 | Z74: 145
... A149: 微电子学院（集成电路学院） | B149: 集成电路设计与集成系统 | C149: 2024 | D149: 集241 | E149: 2437110138 | F149: 石顾琨 | G149: 88.5 | H149: 0 | I149: =G149+H149 -> 88.5 | J149: =VLOOKUP(F149,[3]Sheet2!$A:$B,2,FALSE) -> 36.019608 | K149: 0 | L149: =J149+K149 -> 36.019608 | M149: =VLOOKUP(F149,[4]Sheet2!$A:$B,2,FALSE) -> 72.475 | N149: 0 | O149: =M149+N149 -> 72.475 | P149: 60 | Q149: 0 | R149: =P149+Q149 -> 60 | S149: 40 | T149: 0 | U149: =S149+T149 -> 40 | V149: =I149*0.1+L149*0.75+O149*0.05+R149*0.05+U149*0.05 -> 44.488456 | W149: 145 | X149: 145 | Y149: 是 | Z149: 145
A150: 填表说明： | B150: 1.请勿变动表格格式。
B151: 2.专业、年级、班级、学号、姓名请采用教务信息系统中导出的个人基本信息，勿手工输入，避免产生错误。
B152: 3.德育成绩、智育成绩、体育成绩为百分制。
B153: 4.综合测评排名符合优秀学生奖学金评比条件，但因“德育分未达标”、“课程考核不合格”或者“体育成绩不合格”等不符合者请在“奖学金等级”一栏进行标注。
B154: 5.是否有不及格课程，指的是成绩单中列入综测范围的科目是否有不及格，请填写是或者否。

Sheet 电子科学24
A1: 附件5：
A2: 微电子学院（集成电路学院）电子科学与技术专业2024年级综合测评排名表
A3: 学院: 微电子学院（集成电路学院） | C3: （盖章） | X3: 学院分管学生工作领导签名：
A4: 学院 | B4: 专业 | C4: 年级 | D4: 班级 | E4: 学号 | F4: 姓名 | G4: 德育 考评分 | H4: 德育 加减分 | I4: 德育 成绩 | J4: 智育 考试分 | K4: 智育 加减分 | L4: 智育 成绩 | M4: 体育 测评分 | N4: 体育 加减分 | O4: 体育 成绩 | P4: 美育 基础分 | Q4: 美育 奖惩分 | R4: 美育 成绩 | S4: 劳育 基础分 | T4: 劳育 奖惩分 | U4: 劳育 成绩 | V4: 综合 测评分 | W4: 综合测评排名 | X4: 学习成绩排名 | Y4: 是否有不及格课程 | Z4: 专业年级 总人数 | AA4: 奖学金 等级 | AB4: 单项 奖学金 | AC4: 荣誉称号 | AD4: 学生签名
A5: 微电子学院（集成电路学院） | B5: 电子科学与技术 | C5: 2024 | D5: 电子科学244 | E5: 2437110093 | F5: 马欣妍 | G5: 92 | H5: 8 | I5: =G5+H5 -> 100 | J5: =VLOOKUP(F5,[3]Sheet1!$A:$B,2,FALSE) -> 94.163265 | K5: 5.84 | L5: =J5+K5 -> 100.00327 | M5: =VLOOKUP(F5,[4]Sheet1!$A:$B,2,FALSE) -> 89.3 | N5: 10 | O5: =M5+N5 -> 99.3 | P5: 60 | Q5: 29 | R5: =P5+Q5 -> 89 | S5: 40 | T5: 60 | U5: =S5+T5 -> 100 | V5: =I5*0.1+L5*0.75+O5*0.05+R5*0.05+U5*0.05 -> 99.417449 | W5: 1 | X5: 2 | Y5: 否 | Z5: 136 | AA5: 一等奖学金 | AC5: 三好学生标兵
A6: 微电子学院（集成电路学院） | B6: 电子科学与技术 | C6: 2024 | D6: 电子科学243 | E6: 2437110064 | F6: 徐晴 | G6: 91.428571 | H6: 7 | I6: =G6+H6 -> 98.428571 | J6: =VLOOKUP(F6,[3]Sheet1!$A:$B,2,FALSE) -> 94.142857 | K6: 5.86 | L6: =J6+K6 -> 100.00286 | M6: =VLOOKUP(F6,[4]Sheet1!$A:$B,2,FALSE) -> 84.425 | N6: 0 | O6: =M6+N6 -> 84.425 | P6: 60 | Q6: 10 | R6: =P6+Q6 -> 70 | S6: 40 | T6: 60 | U6: =S6+T6 -> 100 | V6: =I6*0.1+L6*0.75+O6*0.05+R6*0.05+U6*0.05 -> 97.56625 | W6: 2 | X6: 4 | Y6: 否 | Z6: 136 | AA6: 一等奖学金 | AC6: 三好学生
A7: 微电子学院（集成电路学院） | B7: 电子科学与技术 | C7: 2024 | D7: 电子科学241 | E7: 2437110002 | F7: 唐雨晴 | G7: 92 | H7: 5 | I7: =G7+H7 -> 97 | J7: =VLOOKUP(F7,[3]Sheet1!$A:$B,2,FALSE) -> 94.836735 | K7: 3.7 | L7: =J7+K7 -> 98.536735 | M7: =VLOOKUP(F7,[4]Sheet1!$A:$B,2,FALSE) -> 89.35 | N7: 0 | O7: =M7+N7 -> 89.35 | P7: 60 | Q7: 8 | R7: =P7+Q7 -> 68 | S7: 40 | T7: 55 | U7: =S7+T7 -> 95 | V7: =I7*0.1+L7*0.75+O7*0.05+R7*0.05+U7*0.05 -> 96.220051 | W7: 3 | X7: 1 | Y7: 否 | Z7: 136 | AA7: 一等奖学金 | AC7: 三好学生标兵
A8: 微电子学院（集成电路学院） | B8: 电子科学与技术 | C8: 2024 | D8: 电子科学244 | E8: 2437110118 | F8: 徐惊宇 | G8: 92 | H8: 8 | I8: =G8+H8 -> 100 | J8: =VLOOKUP(F8,[3]Sheet1!$A:$B,2,FALSE) -> 82.653061 | K8: 11.68 | L8: =J8+K8 -> 94.333061 | M8: =VLOOKUP(F8,[4]Sheet1!$A:$B,2,FALSE) -> 90.9 | N8: 0 | O8: =M8+N8 -> 90.9 | P8: 60 | Q8: 0 | R8: =P8+Q8 -> 60 | S8: 40 | T8: 59 | U8: =S8+T8 -> 99 | V8: =I8*0.1+L8*0.75+O8*0.05+R8*0.05+U8*0.05 -> 93.244796 | W8: 4 | X8: 44 | Y8: 否 | Z8: 136 | AA8: 一等奖学金
A9: 微电子学院（集成电路学院） | B9: 电子科学与技术 | C9: 2024 | D9: 电子科学243 | E9: 2321110068 | F9: 王诗雅 | G9: 91 | H9: 6 | I9: =G9+H9 -> 97 | J9: =VLOOKUP(F9,[3]Sheet1!$A:$B,2,FALSE) -> 87.428571 | K9: 4.905 | L9: =J9+K9 -> 92.333571 | M9: =VLOOKUP(F9,[4]Sheet1!$A:$B,2,FALSE) -> 95.05 | N9: 0 | O9: =M9+N9 -> 95.05 | P9: 60 | Q9: 10 | R9: =P9+Q9 -> 70 | S9: 40 | T9: 60 | U9: =S9+T9 -> 100 | V9: =I9*0.1+L9*0.75+O9*0.05+R9*0.05+U9*0.05 -> 92.202679 | W9: 5 | X9: 23 | Y9: 否 | Z9: 136 | AA9: 一等奖学金
A10: 微电子学院（集成电路学院） | B10: 电子科学与技术 | C10: 2024 | D10: 电子科学242 | E10: 2437110031 | F10: 白紫涵 | G10: 91.67 | H10: 8.33 | I10: =G10+H10 -> 100 | J10: =VLOOKUP(F10,[3]Sheet1!$A:$B,2,FALSE) -> 91.897959 | K10: 1.2 | L10: =J10+K10 -> 93.097959 | M10: =VLOOKUP(F10,[4]Sheet1!$A:$B,2,FALSE) -> 82.45 | N10: 0 | O10: =M10+N10 -> 82.45 | P10: 60 | Q10: 5 | R10: =P10+Q10 -> 65 | S10: 40 | T10: 52.5 | U10: =S10+T10 -> 92.5 | V10: =I10*0.1+L10*0.75+O10*0.05+R10*0.05+U10*0.05 -> 91.820969 | W10: 6 | X10: 9 | Y10: 否 | Z10: 136 | AA10: 一等奖学金 | AC10: 三好学生
A11: 微电子学院（集成电路学院） | B11: 电子科学与技术 | C11: 2024 | D11: 电子科学243 | E11: 2406110106 | F11: 刘亚蕊 | G11: 90.875 | H11: 0 | I11: =G11+H11 -> 90.875 | J11: =VLOOKUP(F11,[3]Sheet1!$A:$B,2,FALSE) -> 89.979592 | K11: 2.2 | L11: =J11+K11 -> 92.179592 | M11: =VLOOKUP(F11,[4]Sheet1!$A:$B,2,FALSE) -> 85.25 | N11: 0 | O11: =M11+N11 -> 85.25 | P11: 60 | Q11: 5 | R11: =P11+Q11 -> 65 | S11: 40 | T11: 57 | U11: =S11+T11 -> 97 | V11: =I11*0.1+L11*0.75+O11*0.05+R11*0.05+U11*0.05 -> 90.584694 | W11: 7 | X11: 14 | Y11: 否 | Z11: 136 | AA11: 二等奖学金
A12: 微电子学院（集成电路学院） | B12: 电子科学与技术 | C12: 2024 | D12: 电子科学243 | E12: 2437110066 | F12: 张雪娇 | G12: 91.428571 | H12: 8.57 | I12: =G12+H12 -> 99.998571 | J12: =VLOOKUP(F12,[3]Sheet1!$A:$B,2,FALSE) -> 89.346939 | K12: 1.4375 | L12: =J12+K12 -> 90.784439 | M12: =VLOOKUP(F12,[4]Sheet1!$A:$B,2,FALSE) -> 85.65 | N12: 0 | O12: =M12+N12 -> 85.65 | P12: 60 | Q12: 10 | R12: =P12+Q12 -> 70 | S12: 40 | T12: 53 | U12: =S12+T12 -> 93 | V12: =I12*0.1+L12*0.75+O12*0.05+R12*0.05+U12*0.05 -> 90.520686 | W12: 8 | X12: 16 | Y12: 否 | Z12: 136 | AA12: 二等奖学金
A13: 微电子学院（集成电路学院） | B13: 电子科学与技术 | C13: 2024 | D13: 电子科学243 | E13: 2437110077 | F13: 沈阳 | G13: 91.142857 | H13: 1 | I13: =G13+H13 -> 92.142857 | J13: =VLOOKUP(F13,[3]Sheet1!$A:$B,2,FALSE) -> 92.673469 | K13: 1.2 | L13: =J13+K13 -> 93.873469 | M13: =VLOOKUP(F13,[4]Sheet1!$A:$B,2,FALSE) -> 73.2 | N13: 0 | O13: =M13+N13 -> 73.2 | P13: 60 | Q13: 5 | R13: =P13+Q13 -> 65 | S13: 40 | T13: 39 | U13: =S13+T13 -> 79 | V13: =I13*0.1+L13*0.75+O13*0.05+R13*0.05+U13*0.05 -> 90.479388 | W13: 9 | X13: 5 | Y13: 否 | Z13: 136 | AA13: 二等奖学金 | AC13: 三好学生
A14: 微电子学院（集成电路学院） | B14: 电子科学与技术 | C14: 2024 | D14: 电子科学244 | E14: 2437110096 | F14: 张琪凤 | G14: 92 | H14: 4.5 | I14: =G14+H14 -> 96.5 | J14: =VLOOKUP(F14,[3]Sheet1!$A:$B,2,FALSE) -> 90.55102 | K14: 0.75 | L14: =J14+K14 -> 91.30102 | M14: =VLOOKUP(F14,[4]Sheet1!$A:$B,2,FALSE) -> 88.6 | N14: 2 | O14: =M14+N14 -> 90.6 | P14: 60 | Q14: 0 | R14: =P14+Q14 -> 60 | S14: 40 | T14: 51 | U14: =S14+T14 -> 91 | V14: =I14*0.1+L14*0.75+O14*0.05+R14*0.05+U14*0.05 -> 90.205765 | W14: 10 | X14: 11 | Y14: 否 | Z14: 136 | AA14: 二等奖学金 | AC14: 优秀学生干部
A15: 微电子学院（集成电路学院） | B15: 电子科学与技术 | C15: 2024 | D15: 电子科学242 | E15: 2415110143 | F15: 白瑞敏 | G15: 91.33 | H15: 0 | I15: =G15+H15 -> 91.33 | J15: =VLOOKUP(F15,[3]Sheet1!$A:$B,2,FALSE) -> 92.632653 | K15: 1.2 | L15: =J15+K15 -> 93.832653 | M15: =VLOOKUP(F15,[4]Sheet1!$A:$B,2,FALSE) -> 84.275 | N15: 0 | O15: =M15+N15 -> 84.275 | P15: 60 | Q15: 0 | R15: =P15+Q15 -> 60 | S15: 40 | T15: 29 | U15: =S15+T15 -> 69 | V15: =I15*0.1+L15*0.75+O15*0.05+R15*0.05+U15*0.05 -> 90.17124 | W15: 11 | X15: 6 | Y15: 否 | Z15: 136 | AA15: 二等奖学金 | AC15: 三好学生
A16: 微电子学院（集成电路学院） | B16: 电子科学与技术 | C16: 2024 | D16: 电子科学243 | E16: 2437110078 | F16: 司栋淇 | G16: 91.142857 | H16: 0 | I16: =G16+H16 -> 91.142857 | J16: =VLOOKUP(F16,[3]Sheet1!$A:$B,2,FALSE) -> 91.938776 | K16: 1.2 | L16: =J16+K16 -> 93.138776 | M16: =VLOOKUP(F16,[4]Sheet1!$A:$B,2,FALSE) -> 64 | N16: 0 | O16: =M16+N16 -> 64 | P16: 60 | Q16: 0 | R16: =P16+Q16 -> 60 | S16: 40 | T16: 60 | U16: =S16+T16 -> 100 | V16: =I16*0.1+L16*0.75+O16*0.05+R16*0.05+U16*0.05 -> 90.168367 | W16: 12 | X16: 8 | Y16: 否 | Z16: 136 | AA16: 二等奖学金 | AC16: 三好学生
A17: 微电子学院（集成电路学院） | B17: 电子科学与技术 | C17: 2024 | D17: 电子科学241 | E17: 2437110005 | F17: 赵思佳 | G17: 92 | H17: 1 | I17: =G17+H17 -> 93 | J17: =VLOOKUP(F17,[3]Sheet1!$A:$B,2,FALSE) -> 90.040816 | K17: 1.2 | L17: =J17+K17 -> 91.240816 | M17: =VLOOKUP(F17,[4]Sheet1!$A:$B,2,FALSE) -> 81.75 | N17: 0 | O17: =M17+N17 -> 81.75 | P17: 60 | Q17: 8 | R17: =P17+Q17 -> 68 | S17: 40 | T17: 55 | U17: =S17+T17 -> 95 | V17: =I17*0.1+L17*0.75+O17*0.05+R17*0.05+U17*0.05 -> 89.968112 | W17: 13 | X17: 13 | Y17: 否 | Z17: 136 | AA17: 二等奖学金 | AC17: 三好学生
A18: 微电子学院（集成电路学院） | B18: 电子科学与技术 | C18: 2024 | D18: 电子科学241 | E18: 2437110003 | F18: 叶圣芸 | G18: 92 | H18: 0 | I18: =G18+H18 -> 92 | J18: =VLOOKUP(F18,[3]Sheet1!$A:$B,2,FALSE) -> 94.163265 | K18: 1.2 | L18: =J18+K18 -> 95.363265 | M18: =VLOOKUP(F18,[4]Sheet1!$A:$B,2,FALSE) -> 60 | N18: 0 | O18: =M18+N18 -> 60 | P18: 60 | Q18: 0 | R18: =P18+Q18 -> 60 | S18: 40 | T18: 20 | U18: =S18+T18 -> 60 | V18: =I18*0.1+L18*0.75+O18*0.05+R18*0.05+U18*0.05 -> 89.722449 | W18: 14 | X18: 3 | Y18: 否 | Z18: 136 | AA18: 二等奖学金 | AC18: 三好学生
A19: 微电子学院（集成电路学院） | B19: 电子科学与技术 | C19: 2024 | D19: 电子科学241 | E19: 2437110006 | F19: 常峻梵 | G19: 90.75 | H19: 2 | I19: =G19+H19 -> 92.75 | J19: =VLOOKUP(F19,[3]Sheet1!$A:$B,2,FALSE) -> 86.571429 | K19: 6 | L19: =J19+K19 -> 92.571429 | M19: =VLOOKUP(F19,[4]Sheet1!$A:$B,2,FALSE) -> 89.1 | N19: 0 | O19: =M19+N19 -> 89.1 | P19: 60 | Q19: 0 | R19: =P19+Q19 -> 60 | S19: 40 | T19: 31 | U19: =S19+T19 -> 71 | V19: =I19*0.1+L19*0.75+O19*0.05+R19*0.05+U19*0.05 -> 89.708571 | W19: 15 | X19: 27 | Y19: 否 | Z19: 136 | AA19: 二等奖学金
A20: 微电子学院（集成电路学院） | B20: 电子科学与技术 | C20: 2024 | D20: 电子科学241 | E20: 2437110001 | F20: 何玉娇 | G20: 91.5 | H20: 2 | I20: =G20+H20 -> 93.5 | J20: =VLOOKUP(F20,[3]Sheet1!$A:$B,2,FALSE) -> 90.285714 | K20: 0 | L20: =J20+K20 -> 90.285714 | M20: =VLOOKUP(F20,[4]Sheet1!$A:$B,2,FALSE) -> 81.6 | N20: 0 | O20: =M20+N20 -> 81.6 | P20: 60 | Q20: 5 | R20: =P20+Q20 -> 65 | S20: 40 | T20: 58 | U20: =S20+T20 -> 98 | V20: =I20*0.1+L20*0.75+O20*0.05+R20*0.05+U20*0.05 -> 89.294286 | W20: 16 | X20: 12 | Y20: 否 | Z20: 136 | AA20: 二等奖学金 | AC20: 三好学生
A21: 微电子学院（集成电路学院） | B21: 电子科学与技术 | C21: 2024 | D21: 电子科学244 | E21: 2437110092 | F21: 李兴燕 | G21: 91.33 | H21: 1 | I21: =G21+H21 -> 92.33 | J21: =VLOOKUP(F21,[3]Sheet1!$A:$B,2,FALSE) -> 92 | K21: 1.2 | L21: =J21+K21 -> 93.2 | M21: =VLOOKUP(F21,[4]Sheet1!$A:$B,2,FALSE) -> 83.3 | N21: 0 | O21: =M21+N21 -> 83.3 | P21: 60 | Q21: 0 | R21: =P21+Q21 -> 60 | S21: 40 | T21: 11 | U21: =S21+T21 -> 51 | V21: =I21*0.1+L21*0.75+O21*0.05+R21*0.05+U21*0.05 -> 88.848 | W21: 17 | X21: 7 | Y21: 否 | Z21: 136 | AA21: 二等奖学金 | AC21: 三好学生
A22: 微电子学院（集成电路学院） | B22: 电子科学与技术 | C22: 2024 | D22: 电子科学242 | E22: 2437110051 | F22: 濮荣幸 | G22: 91.33 | H22: 8.67 | I22: =G22+H22 -> 100 | J22: =VLOOKUP(F22,[3]Sheet1!$A:$B,2,FALSE) -> 86.734694 | K22: 1.2 | L22: =J22+K22 -> 87.934694 | M22: =VLOOKUP(F22,[4]Sheet1!$A:$B,2,FALSE) -> 85.15 | N22: 0 | O22: =M22+N22 -> 85.15 | P22: 60 | Q22: 10 | R22: =P22+Q22 -> 70 | S22: 40 | T22: 60 | U22: =S22+T22 -> 100 | V22: =I22*0.1+L22*0.75+O22*0.05+R22*0.05+U22*0.05 -> 88.70852 | W22: 18 | X22: 26 | Y22: 否 | Z22: 136 | AA22: 二等奖学金
A23: 微电子学院（集成电路学院） | B23: 电子科学与技术 | C23: 2024 | D23: 电子科学242 | E23: 2437110034 | F23: 夏梦圆 | G23: 90.67 | H23: 4.5 | I23: =G23+H23 -> 95.17 | J23: =VLOOKUP(F23,[3]Sheet1!$A:$B,2,FALSE) -> 88.653061 | K23: 2 | L23: =J23+K23 -> 90.653061 | M23: =VLOOKUP(F23,[4]Sheet1!$A:$B,2,FALSE) -> 83.3 | N23: 0 | O23: =M23+N23 -> 83.3 | P23: 60 | Q23: 10 | R23: =P23+Q23 -> 70 | S23: 40 | T23: 30 | U23: =S23+T23 -> 70 | V23: =I23*0.1+L23*0.75+O23*0.05+R23*0.05+U23*0.05 -> 88.671796 | W23: 19 | X23: 20 | Y23: 否 | Z23: 136 | AA23: 二等奖学金
A24: 微电子学院（集成电路学院） | B24: 电子科学与技术 | C24: 2024 | D24: 电子科学242 | E24: 2437110037 | F24: 陈品良 | G24: 90.67 | H24: 0 | I24: =G24+H24 -> 90.67 | J24: =VLOOKUP(F24,[3]Sheet1!$A:$B,2,FALSE) -> 89.734694 | K24: 3.45 | L24: =J24+K24 -> 93.184694 | M24: =VLOOKUP(F24,[4]Sheet1!$A:$B,2,FALSE) -> 77.9 | N24: 0 | O24: =M24+N24 -> 77.9 | P24: 60 | Q24: 0 | R24: =P24+Q24 -> 60 | S24: 40 | T24: 0 | U24: =S24+T24 -> 40 | V24: =I24*0.1+L24*0.75+O24*0.05+R24*0.05+U24*0.05 -> 87.85052 | W24: 20 | X24: 15 | Y24: 否 | Z24: 136 | AA24: 二等奖学金
A25: 微电子学院（集成电路学院） | B25: 电子科学与技术 | C25: 2024 | D25: 电子科学242 | E25: 2415110185 | F25: 夏韵涵 | G25: 91.33 | H25: 0 | I25: =G25+H25 -> 91.33 | J25: =VLOOKUP(F25,[3]Sheet1!$A:$B,2,FALSE) -> 88.55102 | K25: 1 | L25: =J25+K25 -> 89.55102 | M25: =VLOOKUP(F25,[4]Sheet1!$A:$B,2,FALSE) -> 79.95 | N25: 0 | O25: =M25+N25 -> 79.95 | P25: 60 | Q25: 0 | R25: =P25+Q25 -> 60 | S25: 40 | T25: 42 | U25: =S25+T25 -> 82 | V25: =I25*0.1+L25*0.75+O25*0.05+R25*0.05+U25*0.05 -> 87.393765 | W25: 21 | X25: 21 | Y25: 否 | Z25: 136 | AA25: 三等奖学金
A26: 微电子学院（集成电路学院） | B26: 电子科学与技术 | C26: 2024 | D26: 电子科学242 | E26: 2437110035 | F26: 周杭 | G26: 90.67 | H26: 0 | I26: =G26+H26 -> 90.67 | J26: =VLOOKUP(F26,[3]Sheet1!$A:$B,2,FALSE) -> 88.693878 | K26: 2.2 | L26: =J26+K26 -> 90.893878 | M26: =VLOOKUP(F26,[4]Sheet1!$A:$B,2,FALSE) -> 76 | N26: 0 | O26: =M26+N26 -> 76 | P26: 60 | Q26: 0 | R26: =P26+Q26 -> 60 | S26: 40 | T26: 24 | U26: =S26+T26 -> 64 | V26: =I26*0.1+L26*0.75+O26*0.05+R26*0.05+U26*0.05 -> 87.237408 | W26: 22 | X26: 19 | Y26: 否 | Z26: 136 | AA26: 三等奖学金
A27: 微电子学院（集成电路学院） | B27: 电子科学与技术 | C27: 2024 | D27: 电子科学241 | E27: 2437110004 | F27: 张曼 | G27: 92 | H27: 0 | I27: =G27+H27 -> 92 | J27: =VLOOKUP(F27,[3]Sheet1!$A:$B,2,FALSE) -> 91.408163 | K27: 1.2 | L27: =J27+K27 -> 92.608163 | M27: =VLOOKUP(F27,[4]Sheet1!$A:$B,2,FALSE) -> 66 | N27: 0 | O27: =M27+N27 -> 66 | P27: 60 | Q27: 0 | R27: =P27+Q27 -> 60 | S27: 40 | T27: 0 | U27: =S27+T27 -> 40 | V27: =I27*0.1+L27*0.75+O27*0.05+R27*0.05+U27*0.05 -> 86.956122 | W27: 23 | X27: 10 | Y27: 否 | Z27: 136 | AA27: 三等奖学金
A28: 微电子学院（集成电路学院） | B28: 电子科学与技术 | C28: 2024 | D28: 电子科学241 | E28: 2437110012 | F28: 黄畅 | G28: 91 | H28: 0.5 | I28: =G28+H28 -> 91.5 | J28: =VLOOKUP(F28,[3]Sheet1!$A:$B,2,FALSE) -> 86.102041 | K28: 4.2 | L28: =J28+K28 -> 90.302041 | M28: =VLOOKUP(F28,[4]Sheet1!$A:$B,2,FALSE) -> 82.55 | N28: 0 | O28: =M28+N28 -> 82.55 | P28: 60 | Q28: 0 | R28: =P28+Q28 -> 60 | S28: 40 | T28: 15 | U28: =S28+T28 -> 55 | V28: =I28*0.1+L28*0.75+O28*0.05+R28*0.05+U28*0.05 -> 86.754031 | W28: 24 | X28: 31 | Y28: 否 | Z28: 136 | AA28: 三等奖学金
A29: 微电子学院（集成电路学院） | B29: 电子科学与技术 | C29: 2024 | D29: 电子科学241 | E29: 2437110028 | F29: 赵万鹏 | G29: 91 | H29: 5 | I29: =G29+H29 -> 96 | J29: =VLOOKUP(F29,[3]Sheet1!$A:$B,2,FALSE) -> 85.571429 | K29: 1.5 | L29: =J29+K29 -> 87.071429 | M29: =VLOOKUP(F29,[4]Sheet1!$A:$B,2,FALSE) -> 85.9 | N29: 0 | O29: =M29+N29 -> 85.9 | P29: 60 | Q29: 0 | R29: =P29+Q29 -> 60 | S29: 40 | T29: 49 | U29: =S29+T29 -> 89 | V29: =I29*0.1+L29*0.75+O29*0.05+R29*0.05+U29*0.05 -> 86.648571 | W29: 25 | X29: 33 | Y29: 否 | Z29: 136 | AA29: 三等奖学金
A30: 微电子学院（集成电路学院） | B30: 电子科学与技术 | C30: 2024 | D30: 电子科学242 | E30: 2437110052 | F30: 邵羿嘉 | G30: 91.67 | H30: 4 | I30: =G30+H30 -> 95.67 | J30: =VLOOKUP(F30,[3]Sheet1!$A:$B,2,FALSE) -> 84.897959 | K30: 1.45 | L30: =J30+K30 -> 86.347959 | M30: =VLOOKUP(F30,[4]Sheet1!$A:$B,2,FALSE) -> 78.6 | N30: 0 | O30: =M30+N30 -> 78.6 | P30: 60 | Q30: 12 | R30: =P30+Q30 -> 72 | S30: 40 | T30: 52 | U30: =S30+T30 -> 92 | V30: =I30*0.1+L30*0.75+O30*0.05+R30*0.05+U30*0.05 -> 86.457969 | W30: 26 | X30: 35 | Y30: 否 | Z30: 136 | AA30: 三等奖学金
A31: 微电子学院（集成电路学院） | B31: 电子科学与技术 | C31: 2024 | D31: 电子科学244 | E31: 2437110091 | F31: 黄陈岚 | G31: 91.33 | H31: 2.5 | I31: =G31+H31 -> 93.83 | J31: =VLOOKUP(F31,[3]Sheet1!$A:$B,2,FALSE) -> 86.326531 | K31: 1 | L31: =J31+K31 -> 87.326531 | M31: =VLOOKUP(F31,[4]Sheet1!$A:$B,2,FALSE) -> 84.75 | N31: 0 | O31: =M31+N31 -> 84.75 | P31: 60 | Q31: 0 | R31: =P31+Q31 -> 60 | S31: 40 | T31: 44 | U31: =S31+T31 -> 84 | V31: =I31*0.1+L31*0.75+O31*0.05+R31*0.05+U31*0.05 -> 86.315398 | W31: 27 | X31: 29 | Y31: 否 | Z31: 136 | AA31: 三等奖学金
A32: 微电子学院（集成电路学院） | B32: 电子科学与技术 | C32: 2024 | D32: 电子科学242 | E32: 2321110202 | F32: 马骁骏 | G32: 90.67 | H32: 2 | I32: =G32+H32 -> 92.67 | J32: =VLOOKUP(F32,[3]Sheet1!$A:$B,2,FALSE) -> 88.857143 | K32: 1.2 | L32: =J32+K32 -> 90.057143 | M32: =VLOOKUP(F32,[4]Sheet1!$A:$B,2,FALSE) -> 70.4 | N32: 0 | O32: =M32+N32 -> 70.4 | P32: 60 | Q32: 0 | R32: =P32+Q32 -> 60 | S32: 40 | T32: 10 | U32: =S32+T32 -> 50 | V32: =I32*0.1+L32*0.75+O32*0.05+R32*0.05+U32*0.05 -> 85.829857 | W32: 28 | X32: 18 | Y32: 否 | Z32: 136 | AA32: 三等奖学金
A33: 微电子学院（集成电路学院） | B33: 电子科学与技术 | C33: 2024 | D33: 电子科学242 | E33: 2437110053 | F33: 孙榕 | G33: 91.67 | H33: 0 | I33: =G33+H33 -> 91.67 | J33: =VLOOKUP(F33,[3]Sheet1!$A:$B,2,FALSE) -> 89.122449 | K33: 0 | L33: =J33+K33 -> 89.122449 | M33: =VLOOKUP(F33,[4]Sheet1!$A:$B,2,FALSE) -> 74.45 | N33: 0 | O33: =M33+N33 -> 74.45 | P33: 60 | Q33: 0 | R33: =P33+Q33 -> 60 | S33: 40 | T33: 20 | U33: =S33+T33 -> 60 | V33: =I33*0.1+L33*0.75+O33*0.05+R33*0.05+U33*0.05 -> 85.731337 | W33: 29 | X33: 17 | Y33: 否 | Z33: 136 | AA33: 三等奖学金
... A58: 微电子学院（集成电路学院） | B58: 电子科学与技术 | C58: 2024 | D58: 电子科学241 | E58: 2437110016 | F58: 李潘 | G58: 91.75 | H58: 6 | I58: =G58+H58 -> 97.75 | J58: =VLOOKUP(F58,[3]Sheet1!$A:$B,2,FALSE) -> 78.673469 | K58: 1.5 | L58: =J58+K58 -> 80.173469 | M58: =VLOOKUP(F58,[4]Sheet1!$A:$B,2,FALSE) -> 72.8 | N58: 0 | O58: =M58+N58 -> 72.8 | P58: 60 | Q58: 0 | R58: =P58+Q58 -> 60 | S58: 40 | T58: 20 | U58: =S58+T58 -> 60 | V58: =I58*0.1+L58*0.75+O58*0.05+R58*0.05+U58*0.05 -> 79.545102 | W58: 54 | X58: 61 | Y58: 否 | Z58: 136 | AA58: 三等奖学金
A59: 微电子学院（集成电路学院） | B59: 电子科学与技术 | C59: 2024 | D59: 电子科学244 | E59: 2437110116 | F59: 吴德智 | G59: 88.67 | H59: 0 | I59: =G59+H59 -> 88.67 | J59: =VLOOKUP(F59,[3]Sheet1!$A:$B,2,FALSE) -> 78.755102 | K59: 3.5 | L59: =J59+K59 -> 82.255102 | M59: =VLOOKUP(F59,[4]Sheet1!$A:$B,2,FALSE) -> 79.525 | N59: 0 | O59: =M59+N59 -> 79.525 | P59: 60 | Q59: 0 | R59: =P59+Q59 -> 60 | S59: 40 | T59: 0 | U59: =S59+T59 -> 40 | V59: =I59*0.1+L59*0.75+O59*0.05+R59*0.05+U59*0.05 -> 79.534577 | W59: 55 | X59: 58 | Y59: 否 | Z59: 136 | AB59: 研究与创新奖
A60: 微电子学院（集成电路学院） | B60: 电子科学与技术 | C60: 2024 | D60: 电子科学243 | E60: 2437110083 | F60: 向奕诚 | G60: 90.5 | H60: 0 | I60: =G60+H60 -> 90.5 | J60: =VLOOKUP(F60,[3]Sheet1!$A:$B,2,FALSE) -> 81.714286 | K60: 0 | L60: =J60+K60 -> 81.714286 | M60: =VLOOKUP(F60,[4]Sheet1!$A:$B,2,FALSE) -> 78.725 | N60: 0 | O60: =M60+N60 -> 78.725 | P60: 60 | Q60: 0 | R60: =P60+Q60 -> 60 | S60: 40 | T60: 0 | U60: =S60+T60 -> 40 | V60: =I60*0.1+L60*0.75+O60*0.05+R60*0.05+U60*0.05 -> 79.271964 | W60: 56 | X60: 48 | Y60: 否 | Z60: 136
A61: 微电子学院（集成电路学院） | B61: 电子科学与技术 | C61: 2024 | D61: 电子科学242 | E61: 2437110043 | F61: 黄明丰亦 | G61: 90 | H61: 0 | I61: =G61+H61 -> 90 | J61: =VLOOKUP(F61,[3]Sheet1!$A:$B,2,FALSE) -> 81.979592 | K61: 0 | L61: =J61+K61 -> 81.979592 | M61: =VLOOKUP(F61,[4]Sheet1!$A:$B,2,FALSE) -> 74.8 | N61: 0 | O61: =M61+N61 -> 74.8 | P61: 60 | Q61: 0 | R61: =P61+Q61 -> 60 | S61: 40 | T61: 0 | U61: =S61+T61 -> 40 | V61: =I61*0.1+L61*0.75+O61*0.05+R61*0.05+U61*0.05 -> 79.224694 | W61: 57 | X61: 47 | Y61: 否 | Z61: 136
A62: 微电子学院（集成电路学院） | B62: 电子科学与技术 | C62: 2024 | D62: 电子科学244 | E62: 2437110097 | F62: 包诗健 | G62: 90.33 | H62: 3 | I62: =G62+H62 -> 93.33 | J62: =VLOOKUP(F62,[3]Sheet1!$A:$B,2,FALSE) -> 78.489796 | K62: 0 | L62: =J62+K62 -> 78.489796 | M62: =VLOOKUP(F62,[4]Sheet1!$A:$B,2,FALSE) -> 78.15 | N62: 0 | O62: =M62+N62 -> 78.15 | P62: 60 | Q62: 5 | R62: =P62+Q62 -> 65 | S62: 40 | T62: 30 | U62: =S62+T62 -> 70 | V62: =I62*0.1+L62*0.75+O62*0.05+R62*0.05+U62*0.05 -> 78.857847 | W62: 58 | X62: 63 | Y62: 是 | Z62: 136
A63: 微电子学院（集成电路学院） | B63: 电子科学与技术 | C63: 2024 | D63: 电子科学244 | E63: 2437110109 | F63: 李佳 | G63: 90 | H63: 5.5 | I63: =G63+H63 -> 95.5 | J63: =VLOOKUP(F63,[3]Sheet1!$A:$B,2,FALSE) -> 76.959184 | K63: 1.2 | L63: =J63+K63 -> 78.159184 | M63: =VLOOKUP(F63,[4]Sheet1!$A:$B,2,FALSE) -> 77.65 | N63: 0 | O63: =M63+N63 -> 77.65 | P63: 60 | Q63: 0 | R63: =P63+Q63 -> 60 | S63: 40 | T63: 32.6 | U63: =S63+T63 -> 72.6 | V63: =I63*0.1+L63*0.75+O63*0.05+R63*0.05+U63*0.05 -> 78.681888 | W63: 59 | X63: 74 | Y63: 否 | Z63: 136
A64: 微电子学院（集成电路学院） | B64: 电子科学与技术 | C64: 2024 | D64: 电子科学244 | E64: 2333110222 | F64: 朱文杰 | G64: 90.33 | H64: 0 | I64: =G64+H64 -> 90.33 | J64: =VLOOKUP(F64,[3]Sheet1!$A:$B,2,FALSE) -> 80.877551 | K64: 0 | L64: =J64+K64 -> 80.877551 | M64: =VLOOKUP(F64,[4]Sheet1!$A:$B,2,FALSE) -> 70.4 | N64: 0 | O64: =M64+N64 -> 70.4 | P64: 60 | Q64: 0 | R64: =P64+Q64 -> 60 | S64: 40 | T64: 0 | U64: =S64+T64 -> 40 | V64: =I64*0.1+L64*0.75+O64*0.05+R64*0.05+U64*0.05 -> 78.211163 | W64: 60 | X64: 52 | Y64: 否 | Z64: 136
A65: 微电子学院（集成电路学院） | B65: 电子科学与技术 | C65: 2024 | D65: 电子科学242 | E65: 2437110058 | F65: 于昊天 | G65: 90.67 | H65: 0 | I65: =G65+H65 -> 90.67 | J65: =VLOOKUP(F65,[3]Sheet1!$A:$B,2,FALSE) -> 79.77551 | K65: 0 | L65: =J65+K65 -> 79.77551 | M65: =VLOOKUP(F65,[4]Sheet1!$A:$B,2,FALSE) -> 65.95 | N65: 0 | O65: =M65+N65 -> 65.95 | P65: 60 | Q65: 0 | R65: =P65+Q65 -> 60 | S65: 40 | T65: 15 | U65: =S65+T65 -> 55 | V65: =I65*0.1+L65*0.75+O65*0.05+R65*0.05+U65*0.05 -> 77.946133 | W65: 61 | X65: 55 | Y65: 是 | Z65: 136
A66: 微电子学院（集成电路学院） | B66: 电子科学与技术 | C66: 2024 | D66: 电子科学243 | E66: 2437110076 | F66: 马锦城 | G66: 91 | H66: 0 | I66: =G66+H66 -> 91 | J66: =VLOOKUP(F66,[3]Sheet1!$A:$B,2,FALSE) -> 78.040816 | K66: 1.2 | L66: =J66+K66 -> 79.240816 | M66: =VLOOKUP(F66,[4]Sheet1!$A:$B,2,FALSE) -> 72.65 | N66: 0 | O66: =M66+N66 -> 72.65 | P66: 60 | Q66: 0 | R66: =P66+Q66 -> 60 | S66: 40 | T66: 15 | U66: =S66+T66 -> 55 | V66: =I66*0.1+L66*0.75+O66*0.05+R66*0.05+U66*0.05 -> 77.913112 | W66: 62 | X66: 68 | Y66: 否 | Z66: 136
A67: 微电子学院（集成电路学院） | B67: 电子科学与技术 | C67: 2024 | D67: 电子科学244 | E67: 2437110106 | F67: 焦亮 | G67: 90.67 | H67: 0 | I67: =G67+H67 -> 90.67 | J67: =VLOOKUP(F67,[3]Sheet1!$A:$B,2,FALSE) -> 77.081633 | K67: 1.2 | L67: =J67+K67 -> 78.281633 | M67: =VLOOKUP(F67,[4]Sheet1!$A:$B,2,FALSE) -> 83.15 | N67: 0 | O67: =M67+N67 -> 83.15 | P67: 60 | Q67: 0 | R67: =P67+Q67 -> 60 | S67: 40 | T67: 18 | U67: =S67+T67 -> 58 | V67: =I67*0.1+L67*0.75+O67*0.05+R67*0.05+U67*0.05 -> 77.835724 | W67: 63 | X67: 73 | Y67: 否 | Z67: 136
A68: 微电子学院（集成电路学院） | B68: 电子科学与技术 | C68: 2024 | D68: 电子科学241 | E68: 2315110430 | F68: 曾鑫正 | G68: 90.75 | H68: 0 | I68: =G68+H68 -> 90.75 | J68: =VLOOKUP(F68,[3]Sheet1!$A:$B,2,FALSE) -> 79.183673 | K68: 0 | L68: =J68+K68 -> 79.183673 | M68: =VLOOKUP(F68,[4]Sheet1!$A:$B,2,FALSE) -> 70.5 | N68: 0 | O68: =M68+N68 -> 70.5 | P68: 60 | Q68: 0 | R68: =P68+Q68 -> 60 | S68: 40 | T68: 10 | U68: =S68+T68 -> 50 | V68: =I68*0.1+L68*0.75+O68*0.05+R68*0.05+U68*0.05 -> 77.487755 | W68: 64 | X68: 56 | Y68: 否 | Z68: 136
A69: 微电子学院（集成电路学院） | B69: 电子科学与技术 | C69: 2024 | D69: 电子科学241 | E69: 2437110015 | F69: 李键铭 | G69: 90.75 | H69: 0 | I69: =G69+H69 -> 90.75 | J69: =VLOOKUP(F69,[3]Sheet1!$A:$B,2,FALSE) -> 78.693878 | K69: 0 | L69: =J69+K69 -> 78.693878 | M69: =VLOOKUP(F69,[4]Sheet1!$A:$B,2,FALSE) -> 82.65 | N69: 0 | O69: =M69+N69 -> 82.65 | P69: 60 | Q69: 0 | R69: =P69+Q69 -> 60 | S69: 40 | T69: 0 | U69: =S69+T69 -> 40 | V69: =I69*0.1+L69*0.75+O69*0.05+R69*0.05+U69*0.05 -> 77.227908 | W69: 65 | X69: 59 | Y69: 否 | Z69: 136
A70: 微电子学院（集成电路学院） | B70: 电子科学与技术 | C70: 2024 | D70: 电子科学243 | E70: 2421110174 | F70: 卢宇涵 | G70: 91 | H70: 0.5 | I70: =G70+H70 -> 91.5 | J70: =VLOOKUP(F70,[3]Sheet1!$A:$B,2,FALSE) -> 77.755102 | K70: 1.2 | L70: =J70+K70 -> 78.955102 | M70: =VLOOKUP(F70,[4]Sheet1!$A:$B,2,FALSE) -> 74.15 | N70: 0 | O70: =M70+N70 -> 74.15 | P70: 60 | Q70: 0 | R70: =P70+Q70 -> 60 | S70: 40 | T70: 0 | U70: =S70+T70 -> 40 | V70: =I70*0.1+L70*0.75+O70*0.05+R70*0.05+U70*0.05 -> 77.073827 | W70: 66 | X70: 69 | Y70: 否 | Z70: 136
A71: 微电子学院（集成电路学院） | B71: 电子科学与技术 | C71: 2024 | D71: 电子科学244 | E71: 2437110094 | F71: 宋颜 | G71: 89 | H71: 0.5 | I71: =G71+H71 -> 89.5 | J71: =VLOOKUP(F71,[3]Sheet1!$A:$B,2,FALSE) -> 73.877551 | K71: 0 | L71: =J71+K71 -> 73.877551 | M71: =VLOOKUP(F71,[4]Sheet1!$A:$B,2,FALSE) -> 80.3 | N71: 0 | O71: =M71+N71 -> 80.3 | P71: 60 | Q71: 26 | R71: =P71+Q71 -> 86 | S71: 40 | T71: 48 | U71: =S71+T71 -> 88 | V71: =I71*0.1+L71*0.75+O71*0.05+R71*0.05+U71*0.05 -> 77.073163 | W71: 67 | X71: 86 | Y71: 是 | Z71: 136
... A140: 微电子学院（集成电路学院） | B140: 电子科学与技术 | C140: 2024 | D140: 电子科学244 | E140: 2437110103 | F140: 何飞宏 | G140: 85.67 | H140: 0 | I140: =G140+H140 -> 85.67 | J140: =VLOOKUP(F140,[3]Sheet1!$A:$B,2,FALSE) -> 36.632653 | K140: 0 | L140: =J140+K140 -> 36.632653 | M140: =VLOOKUP(F140,[4]Sheet1!$A:$B,2,FALSE) -> 69.55 | N140: 0 | O140: =M140+N140 -> 69.55 | P140: 60 | Q140: 0 | R140: =P140+Q140 -> 60 | S140: 40 | T140: 0 | U140: =S140+T140 -> 40 | V140: =I140*0.1+L140*0.75+O140*0.05+R140*0.05+U140*0.05 -> 44.51899 | W140: 136 | X140: 136 | Y140: 是 | Z140: 136
A142: 填表说明： | B142: 1.请勿变动表格格式。
B143: 2.专业、年级、班级、学号、姓名请采用教务信息系统中导出的个人基本信息，勿手工输入，避免产生错误。
B144: 3.德育成绩、智育成绩、体育成绩为百分制。
B145: 4.综合测评排名符合优秀学生奖学金评比条件，但因“德育分未达标”、“课程考核不合格”或者“体育成绩不合格”等不符合者请在“奖学金等级”一栏进行标注。
B146: 5.是否有不及格课程，指的是成绩单中列入综测范围的科目是否有不及格，请填写是或者否。

Sheet 集25
A1: 附件5：
A2: 微电子学院（集成电路学院）集成电路设计与集成系统专业2025年级综合测评排名表
A3: 学院：微电子学院（集成电路学院） 盖章： | X3: 学院分管学生工作领导签名：
A4: 学院 | B4: 专业 | C4: 年级 | D4: 班级 | E4: 学号 | F4: 姓名 | G4: 德育 考评分 | H4: 德育 加减分 | I4: 德育 成绩 | J4: 智育 考试分 | K4: 智育 加减分 | L4: 智育 成绩 | M4: 体育 测评分 | N4: 体育 加减分 | O4: 体育 成绩 | P4: 美育 基础分 | Q4: 美育 奖惩分 | R4: 美育 成绩 | S4: 劳育 基础分 | T4: 劳育 奖惩分 | U4: 劳育 成绩 | V4: 综合 测评分 | W4: 综合测评排名 | X4: 学习成绩排名 | Y4: 是否有不及格课程 | Z4: 专业年级 总人数 | AA4: 奖学金 等级 | AB4: 单项 奖学金 | AC4: 荣誉称号 | AD4: 学生签名
A5: 微电子学院（集成电路学院） | B5: 集成电路设计与集成系统 | C5: 2025 | D5: 集251 | E5: 2537110152 | F5: 于赟祺 | G5: 89.666667 | H5: 0.5 | I5: 90.166667 | J5: 88.417476 | K5: 9 | L5: 97.417476 | M5: 85.05 | N5: 0 | O5: 85.05 | P5: 45 | Q5: 0 | R5: 45 | S5: 60 | T5: 35 | U5: 95 | V5: =I5*0.1+L5*0.75+O5*0.05+R5*0.05+0.05*U5 -> 93.332273 | W5: 1 | X5: =VLOOKUP(F5,[5]Sheet7!$A$2:$C$173,3,0) -> 16 | Y5: 否 | Z5: 172 | AA5: 一等奖学金 | AC5: 三好学生
A6: 微电子学院（集成电路学院） | B6: 集成电路设计与集成系统 | C6: 2025 | D6: 集251 | E6: 2537110177 | F6: 周逸仁 | G6: 90.333333 | H6: 1 | I6: 91.333333 | J6: 92.485437 | K6: 2 | L6: 94.485437 | M6: 92.8 | N6: 0 | O6: 92.8 | P6: 60 | Q6: 15 | R6: 75 | S6: 60 | T6: 30 | U6: 90 | V6: =I6*0.1+L6*0.75+O6*0.05+R6*0.05+0.05*U6 -> 92.887411 | W6: 2 | X6: =VLOOKUP(F6,[5]Sheet7!$A$2:$C$173,3,0) -> 1 | Y6: 否 | Z6: 172 | AA6: 一等奖学金 | AC6: 三好学生标兵
A7: 微电子学院（集成电路学院） | B7: 集成电路设计与集成系统 | C7: 2025 | D7: 集252 | E7: 2537110196 | F7: 丁俊琦 | G7: 89 | H7: 2 | I7: 91 | J7: 90.970874 | K7: 4.29 | L7: 95.26 | M7: 69.65 | N7: 0 | O7: 69.65 | P7: 60 | Q7: 10 | R7: 70 | S7: 60 | T7: 40 | U7: 100 | V7: =I7*0.1+L7*0.75+O7*0.05+R7*0.05+0.05*U7 -> 92.5275 | W7: 3 | X7: =VLOOKUP(F7,[5]Sheet7!$A$2:$C$173,3,0) -> 4 | Y7: 否 | Z7: 172 | AA7: 一等奖学金 | AC7: 三好学生
A8: 微电子学院（集成电路学院） | B8: 集成电路设计与集成系统 | C8: 2025 | D8: 集254 | E8: 2537110246 | F8: 侍靖淞 | G8: 89.666667 | H8: 7 | I8: 96.666667 | J8: 89.058252 | K8: 2.955 | L8: 92.013252 | M8: 92.075 | N8: 0 | O8: 92.075 | P8: 60 | Q8: 24 | R8: 84 | S8: 60 | T8: 40 | U8: 100 | V8: =I8*0.1+L8*0.75+O8*0.05+R8*0.05+0.05*U8 -> 92.480356 | W8: 4 | X8: =VLOOKUP(F8,[5]Sheet7!$A$2:$C$173,3,0) -> 13 | Y8: 否 | Z8: 172 | AA8: 一等奖学金 | AC8: 三好学生
A9: 微电子学院（集成电路学院） | B9: 集成电路设计与集成系统 | C9: 2025 | D9: 集254 | E9: 2537110243 | F9: 谢思琦 | G9: 88.833333 | H9: 3 | I9: 91.833333 | J9: 91.398058 | K9: 1 | L9: 92.398058 | M9: 79.2 | N9: 0.5 | O9: 79.7 | P9: 60 | Q9: 23 | R9: 83 | S9: 60 | T9: 30 | U9: 90 | V9: =I9*0.1+L9*0.75+O9*0.05+R9*0.05+0.05*U9 -> 91.116877 | W9: 5 | X9: =VLOOKUP(F9,[5]Sheet7!$A$2:$C$173,3,0) -> 3 | Y9: 否 | Z9: 172 | AA9: 一等奖学金 | AC9: 三好学生标兵
A10: 微电子学院（集成电路学院） | B10: 集成电路设计与集成系统 | C10: 2025 | D10: 集255 | E10: 2537110271 | F10: 曹紫怡 | G10: 88.166667 | H10: 3.5 | I10: 91.666667 | J10: 89.941748 | K10: 2 | L10: 91.941748 | M10: 89.95 | N10: 0 | O10: 89.95 | P10: 60 | Q10: 18 | R10: 78 | S10: 60 | T10: 30 | U10: 90 | V10: =I10*0.1+L10*0.75+O10*0.05+R10*0.05+0.05*U10 -> 91.020477 | W10: 6 | X10: =VLOOKUP(F10,[5]Sheet7!$A$2:$C$173,3,0) -> 9 | Y10: 否 | Z10: 172 | AA10: 一等奖学金 | AC10: 三好学生
A11: 微电子学院（集成电路学院） | B11: 集成电路设计与集成系统 | C11: 2025 | D11: 集253 | E11: 2415110147 | F11: 陈颖欣 | G11: 84.2 | H11: 0 | I11: 84.2 | J11: 92.377358 | K11: 2.2 | L11: 94.577358 | M11: 83.15 | N11: 0 | O11: 83.15 | P11: 60 | Q11: 10 | R11: 70 | S11: 60 | T11: 20 | U11: 80 | V11: =I11*0.1+L11*0.75+O11*0.05+R11*0.05+0.05*U11 -> 91.010519 | W11: 7 | X11: =VLOOKUP(F11,[5]Sheet7!$A$2:$C$173,3,0) -> 2 | Y11: 否 | Z11: 172 | AA11: 一等奖学金
A12: 微电子学院（集成电路学院） | B12: 集成电路设计与集成系统 | C12: 2025 | D12: 集252 | E12: 2533110059 | F12: 司琪 | G12: 90.83 | H12: 2 | I12: 92.83 | J12: 90.779817 | K12: 1 | L12: 91.779817 | M12: 81.7 | N12: 0 | O12: 81.7 | P12: 60 | Q12: 0 | R12: 60 | S12: 60 | T12: 30 | U12: 90 | V12: =I12*0.1+L12*0.75+O12*0.05+R12*0.05+0.05*U12 -> 89.702862 | W12: 8 | X12: =VLOOKUP(F12,[5]Sheet7!$A$2:$C$173,3,0) -> 5 | Y12: 否 | Z12: 172 | AA12: 一等奖学金 | AC12: 三好学生
A13: 微电子学院（集成电路学院） | B13: 集成电路设计与集成系统 | C13: 2025 | D13: 集253 | E13: 2537110211 | F13: 马雨彤 | G13: 88 | H13: 2 | I13: 90 | J13: 90.019417 | K13: 1 | L13: 91.019417 | M13: 81.75 | N13: 0 | O13: 81.75 | P13: 40 | Q13: 28 | R13: 68 | S13: 60 | T13: 39 | U13: 99 | V13: =I13*0.1+L13*0.75+O13*0.05+R13*0.05+0.05*U13 -> 89.702063 | W13: 9 | X13: =VLOOKUP(F13,[5]Sheet7!$A$2:$C$173,3,0) -> 8 | Y13: 否 | Z13: 172 | AA13: 二等奖学金 | AC13: 三好学生
A14: 微电子学院（集成电路学院） | B14: 集成电路设计与集成系统 | C14: 2025 | D14: 集253 | E14: 2537110210 | F14: 万露露 | G14: 89.2 | H14: 6.1 | I14: 95.3 | J14: 87.543689 | K14: 2 | L14: 89.543689 | M14: 75.75 | N14: 0 | O14: 75.75 | P14: 60 | Q14: 20 | R14: 80 | S14: 60 | T14: 40 | U14: 100 | V14: =I14*0.1+L14*0.75+O14*0.05+R14*0.05+0.05*U14 -> 89.475267 | W14: 10 | X14: =VLOOKUP(F14,[5]Sheet7!$A$2:$C$173,3,0) -> 22 | Y14: 否 | Z14: 172 | AA14: 二等奖学金
A15: 微电子学院（集成电路学院） | B15: 集成电路设计与集成系统 | C15: 2025 | D15: 集251 | E15: 2537110163 | F15: 崔福顺 | G15: 89.333333 | H15: 1 | I15: 90.333333 | J15: 90.699029 | K15: 4 | L15: 94.699029 | M15: 91.55 | N15: 0 | O15: 91.55 | P15: 0 | Q15: 11 | R15: 11 | S15: 60 | T15: 25 | U15: 85 | V15: =I15*0.1+L15*0.75+O15*0.05+R15*0.05+0.05*U15 -> 89.435105 | W15: 11 | X15: =VLOOKUP(F15,[5]Sheet7!$A$2:$C$173,3,0) -> 6 | Y15: 否 | Z15: 172 | AA15: 二等奖学金 | AC15: 三好学生
A16: 微电子学院（集成电路学院） | B16: 集成电路设计与集成系统 | C16: 2025 | D16: 集251 | E16: 2537110151 | F16: 谢谨如 | G16: 88.5 | H16: 11.5 | I16: 100 | J16: 88.087379 | K16: 1 | L16: 89.087379 | M16: 79.55 | N16: 0 | O16: 79.55 | P16: 60 | Q16: 11 | R16: 71 | S16: 60 | T16: 40 | U16: 100 | V16: =I16*0.1+L16*0.75+O16*0.05+R16*0.05+0.05*U16 -> 89.343034 | W16: 12 | X16: =VLOOKUP(F16,[5]Sheet7!$A$2:$C$173,3,0) -> 18 | Y16: 否 | Z16: 172 | AA16: 二等奖学金
A17: 微电子学院（集成电路学院） | B17: 集成电路设计与集成系统 | C17: 2025 | D17: 集254 | E17: 2537110258 | F17: 李铭扬 | G17: 87.166667 | H17: 3 | I17: 90.166667 | J17: 90.31068 | K17: 2 | L17: 92.31068 | M17: 88.55 | N17: 0 | O17: 88.55 | P17: 60 | Q17: 0 | R17: 60 | S17: 60 | T17: 13 | U17: 73 | V17: =I17*0.1+L17*0.75+O17*0.05+R17*0.05+0.05*U17 -> 89.327176 | W17: 13 | X17: =VLOOKUP(F17,[5]Sheet7!$A$2:$C$173,3,0) -> 7 | Y17: 否 | Z17: 172 | AA17: 二等奖学金 | AC17: 三好学生
A18: 微电子学院（集成电路学院） | B18: 集成电路设计与集成系统 | C18: 2025 | D18: 集255 | E18: 2537110272 | F18: 鲜佳怡 | G18: 87 | H18: 3.5 | I18: 90.5 | J18: 88.951456 | K18: 1.5 | L18: 90.451456 | M18: 81.75 | N18: 0 | O18: 81.75 | P18: 60 | Q18: 8 | R18: 68 | S18: 60 | T18: 35 | U18: 95 | V18: =I18*0.1+L18*0.75+O18*0.05+R18*0.05+0.05*U18 -> 89.126092 | W18: 14 | X18: =VLOOKUP(F18,[5]Sheet7!$A$2:$C$173,3,0) -> 14 | Y18: 否 | Z18: 172 | AA18: 二等奖学金 | AC18: 三好学生
A19: 微电子学院（集成电路学院） | B19: 集成电路设计与集成系统 | C19: 2025 | D19: 集251 | E19: 2537110154 | F19: 李紫晗 | G19: 90.166667 | H19: 0 | I19: 90.166667 | J19: 89.786408 | K19: 1 | L19: 90.786408 | M19: 78.15 | N19: 0 | O19: 78.15 | P19: 60 | Q19: 0 | R19: 60 | S19: 60 | T19: 40 | U19: 100 | V19: =I19*0.1+L19*0.75+O19*0.05+R19*0.05+0.05*U19 -> 89.013972 | W19: 15 | X19: =VLOOKUP(F19,[5]Sheet7!$A$2:$C$173,3,0) -> 11 | Y19: 否 | Z19: 172 | AA19: 二等奖学金 | AC19: 三好学生
A20: 微电子学院（集成电路学院） | B20: 集成电路设计与集成系统 | C20: 2025 | D20: 集252 | E20: 2537110184 | F20: 董玉涵 | G20: 89.17 | H20: 10.83 | I20: 100 | J20: 82.660194 | K20: 1.5 | L20: 84.160194 | M20: 87.65 | N20: 21 | O20: 100 | P20: 60 | Q20: 40 | R20: 100 | S20: 60 | T20: 40 | U20: 100 | V20: =I20*0.1+L20*0.75+O20*0.05+R20*0.05+0.05*U20 -> 88.120146 | W20: 16 | X20: =VLOOKUP(F20,[5]Sheet7!$A$2:$C$173,3,0) -> 60 | Y20: 否 | Z20: 172 | AA20: 二等奖学金
A21: 微电子学院（集成电路学院） | B21: 集成电路设计与集成系统 | C21: 2025 | D21: 集253 | E21: 2537110215 | F21: 闫煜杰 | G21: 87.6 | H21: 4.5 | I21: 92.1 | J21: 83.61165 | K21: 2 | L21: 85.61165 | M21: 92.55 | N21: 0.5 | O21: 93.05 | P21: 60 | Q21: 40 | R21: 100 | S21: 60 | T21: 40 | U21: 100 | V21: =I21*0.1+L21*0.75+O21*0.05+R21*0.05+0.05*U21 -> 88.071238 | W21: 17 | X21: =VLOOKUP(F21,[5]Sheet7!$A$2:$C$173,3,0) -> 51 | Y21: 否 | Z21: 172 | AA21: 二等奖学金
A22: 微电子学院（集成电路学院） | B22: 集成电路设计与集成系统 | C22: 2025 | D22: 集254 | E22: 2537110264 | F22: 周旭 | G22: 86.833333 | H22: 0 | I22: 86.833333 | J22: 89.368932 | K22: 2 | L22: 91.368932 | M22: 89.8 | N22: 0 | O22: 89.8 | P22: 60 | Q22: 0 | R22: 60 | S22: 42 | T22: 25 | U22: 67 | V22: =I22*0.1+L22*0.75+O22*0.05+R22*0.05+0.05*U22 -> 88.050032 | W22: 18 | X22: =VLOOKUP(F22,[5]Sheet7!$A$2:$C$173,3,0) -> 12 | Y22: 否 | Z22: 172 | AA22: 二等奖学金
A23: 微电子学院（集成电路学院） | B23: 集成电路设计与集成系统 | C23: 2025 | D23: 集255 | E23: 2537110268 | F23: 张宴绮 | G23: 87 | H23: 3 | I23: 90 | J23: 87.31068 | K23: 1.5 | L23: 88.81068 | M23: 77.15 | N23: 0 | O23: 77.15 | P23: 60 | Q23: 10 | R23: 70 | S23: 60 | T23: 40 | U23: 100 | V23: =I23*0.1+L23*0.75+O23*0.05+R23*0.05+0.05*U23 -> 87.96551 | W23: 19 | X23: =VLOOKUP(F23,[5]Sheet7!$A$2:$C$173,3,0) -> 24 | Y23: 否 | Z23: 172 | AA23: 二等奖学金
A24: 微电子学院（集成电路学院） | B24: 集成电路设计与集成系统 | C24: 2025 | D24: 集252 | E24: 2537110187 | F24: 徐英杰 | G24: 88.33 | H24: 12 | I24: 100 | J24: 83.601942 | K24: 1 | L24: 84.601942 | M24: 89.1 | N24: 0 | O24: 89.1 | P24: 60 | Q24: 40 | R24: 100 | S24: 60 | T24: 40 | U24: 100 | V24: =I24*0.1+L24*0.75+O24*0.05+R24*0.05+0.05*U24 -> 87.906456 | W24: 20 | X24: =VLOOKUP(F24,[5]Sheet7!$A$2:$C$173,3,0) -> 53 | Y24: 否 | Z24: 172 | AA24: 二等奖学金
A25: 微电子学院（集成电路学院） | B25: 集成电路设计与集成系统 | C25: 2025 | D25: 集254 | E25: 2537110242 | F25: 张睿琪 | G25: 88.333333 | H25: 6 | I25: 94.333333 | J25: 82.543689 | K25: 3 | L25: 85.543689 | M25: 85.45 | N25: 0 | O25: 85.45 | P25: 60 | Q25: 37 | R25: 97 | S25: 60 | T25: 30 | U25: 90 | V25: =I25*0.1+L25*0.75+O25*0.05+R25*0.05+0.05*U25 -> 87.2136 | W25: 21 | X25: =VLOOKUP(F25,[5]Sheet7!$A$2:$C$173,3,0) -> 63 | Y25: 否 | Z25: 172 | AA25: 二等奖学金
A26: 微电子学院（集成电路学院） | B26: 集成电路设计与集成系统 | C26: 2025 | D26: 集255 | E26: 2532110334 | F26: 戴澈 | G26: 86.666667 | H26: 13.5 | I26: 100 | J26: 81.438095 | K26: 1.5 | L26: 82.938095 | M26: 85.35 | N26: 19 | O26: 100 | P26: 60 | Q26: 40 | R26: 100 | S26: 60 | T26: 40 | U26: 100 | V26: =I26*0.1+L26*0.75+O26*0.05+R26*0.05+0.05*U26 -> 87.203571 | W26: 22 | X26: =VLOOKUP(F26,[5]Sheet7!$A$2:$C$173,3,0) -> 72 | Y26: 否 | Z26: 172 | AA26: 二等奖学金
A27: 微电子学院（集成电路学院） | B27: 集成电路设计与集成系统 | C27: 2025 | D27: 集252 | E27: 2510110154 | F27: 韦琪 | G27: 86.83 | H27: 11 | I27: 97.83 | J27: 84.339623 | K27: 1.5 | L27: 85.839623 | M27: 81.9 | N27: 0 | O27: 81.9 | P27: 60 | Q27: 12 | R27: 72 | S27: 60 | T27: 40 | U27: 100 | V27: =I27*0.1+L27*0.75+O27*0.05+R27*0.05+0.05*U27 -> 86.857717 | W27: 23 | X27: =VLOOKUP(F27,[5]Sheet7!$A$2:$C$173,3,0) -> 45 | Y27: 否 | Z27: 172 | AA27: 二等奖学金
A28: 微电子学院（集成电路学院） | B28: 集成电路设计与集成系统 | C28: 2025 | D28: 集252 | E28: 2537110179 | F28: 邢雨萱 | G28: 87.83 | H28: 1.5 | I28: 89.33 | J28: 85.76699 | K28: 1 | L28: 86.76699 | M28: 79.4 | N28: 0 | O28: 79.4 | P28: 60 | Q28: 16 | R28: 76 | S28: 60 | T28: 40 | U28: 100 | V28: =I28*0.1+L28*0.75+O28*0.05+R28*0.05+0.05*U28 -> 86.778243 | W28: 24 | X28: =VLOOKUP(F28,[5]Sheet7!$A$2:$C$173,3,0) -> 35 | Y28: 否 | Z28: 172 | AA28: 二等奖学金
A29: 微电子学院（集成电路学院） | B29: 集成电路设计与集成系统 | C29: 2025 | D29: 集252 | E29: 2537110183 | F29: 石玥 | G29: 89.33 | H29: 5.5 | I29: 94.83 | J29: 83.07767 | K29: 1 | L29: 84.07767 | M29: 82.825 | N29: 0 | O29: 82.825 | P29: 60 | Q29: 40 | R29: 100 | S29: 60 | T29: 40 | U29: 100 | V29: =I29*0.1+L29*0.75+O29*0.05+R29*0.05+0.05*U29 -> 86.682502 | W29: 25 | X29: =VLOOKUP(F29,[5]Sheet7!$A$2:$C$173,3,0) -> 56 | Y29: 否 | Z29: 172 | AA29: 二等奖学金
A30: 微电子学院（集成电路学院） | B30: 集成电路设计与集成系统 | C30: 2025 | D30: 集252 | E30: 2537110181 | F30: 张妍 | G30: 89.67 | H30: 12 | I30: 100 | J30: 81.436893 | K30: 1.9 | L30: 83.336893 | M30: 79.35 | N30: 0 | O30: 79.35 | P30: 60 | Q30: 40 | R30: 100 | S30: 60 | T30: 40 | U30: 100 | V30: =I30*0.1+L30*0.75+O30*0.05+R30*0.05+0.05*U30 -> 86.47017 | W30: 26 | X30: =VLOOKUP(F30,[5]Sheet7!$A$2:$C$173,3,0) -> 74 | Y30: 否 | Z30: 172 | AA30: 三等奖学金
A31: 微电子学院（集成电路学院） | B31: 集成电路设计与集成系统 | C31: 2025 | D31: 集252 | E31: 2537110186 | F31: 田广 | G31: 87.33 | H31: 2.5 | I31: 89.83 | J31: 84.815534 | K31: 1 | L31: 85.815534 | M31: 81.6 | N31: 0 | O31: 81.6 | P31: 60 | Q31: 12 | R31: 72 | S31: 60 | T31: 40 | U31: 100 | V31: =I31*0.1+L31*0.75+O31*0.05+R31*0.05+0.05*U31 -> 86.02465 | W31: 27 | X31: =VLOOKUP(F31,[5]Sheet7!$A$2:$C$173,3,0) -> 40 | Y31: 否 | Z31: 172 | AA31: 三等奖学金
... A55: 微电子学院（集成电路学院） | B55: 集成电路设计与集成系统 | C55: 2025 | D55: 集251 | E55: 2537110153 | F55: 倪慧琳 | G55: 85 | H55: 0 | I55: 85 | J55: 87.067961 | K55: 1 | L55: 88.067961 | M55: 69.475 | N55: 0 | O55: 69.475 | P55: 25 | Q55: 0 | R55: 25 | S55: 36 | T55: 30 | U55: 66 | V55: =I55*0.1+L55*0.75+O55*0.05+R55*0.05+0.05*U55 -> 82.574721 | W55: 51 | X55: =VLOOKUP(F55,[5]Sheet7!$A$2:$C$173,3,0) -> 27 | Y55: 是 | Z55: 172 | AA55: 体测成绩不合格
A56: 微电子学院（集成电路学院） | B56: 集成电路设计与集成系统 | C56: 2025 | D56: 集254 | E56: 2537110239 | F56: 徐思语 | G56: 89.333333 | H56: 5.8 | I56: 95.133333 | J56: 81.106796 | K56: 1 | L56: 82.106796 | M56: 88.975 | N56: 0 | O56: 88.975 | P56: 60 | Q56: 0 | R56: 60 | S56: 60 | T56: 20 | U56: 80 | V56: =I56*0.1+L56*0.75+O56*0.05+R56*0.05+0.05*U56 -> 82.54218 | W56: 52 | X56: =VLOOKUP(F56,[5]Sheet7!$A$2:$C$173,3,0) -> 77 | Y56: 是 | Z56: 172 | AA56: 课程考核不合格 | AB56: 社会工作奖
A57: 微电子学院（集成电路学院） | B57: 集成电路设计与集成系统 | C57: 2025 | D57: 集255 | E57: 2537110290 | F57: 朱晨宇 | G57: 86.666667 | H57: 2.5 | I57: 89.166667 | J57: 87.223301 | K57: 2 | L57: 89.223301 | M57: 76.325 | N57: 0 | O57: 76.325 | P57: 25 | Q57: 0 | R57: 25 | S57: 30 | T57: 0 | U57: 30 | V57: =I57*0.1+L57*0.75+O57*0.05+R57*0.05+0.05*U57 -> 82.400392 | W57: 53 | X57: =VLOOKUP(F57,[5]Sheet7!$A$2:$C$173,3,0) -> 25 | Y57: 否 | Z57: 172 | AA57: 三等奖学金
A58: 微电子学院（集成电路学院） | B58: 集成电路设计与集成系统 | C58: 2025 | D58: 集255 | E58: 2537110279 | F58: 邢泽 | G58: 87.666667 | H58: 1.5 | I58: 89.166667 | J58: 81.776699 | K58: 1 | L58: 82.776699 | M58: 76.775 | N58: 0 | O58: 76.775 | P58: 60 | Q58: 15 | R58: 75 | S58: 60 | T58: 10 | U58: 70 | V58: =I58*0.1+L58*0.75+O58*0.05+R58*0.05+0.05*U58 -> 82.087941 | W58: 54 | X58: =VLOOKUP(F58,[5]Sheet7!$A$2:$C$173,3,0) -> 68 | Y58: 否 | Z58: 172 | AA58: 三等奖学金
A59: 微电子学院（集成电路学院） | B59: 集成电路设计与集成系统 | C59: 2025 | D59: 集253 | E59: 2537110237 | F59: 张峻铭 | G59: 84 | H59: 1 | I59: 85 | J59: 81.485437 | K59: 0 | L59: 81.485437 | M59: 76.5 | N59: 0 | O59: 76.5 | P59: 40 | Q59: 30 | R59: 70 | S59: 60 | T59: 40 | U59: 100 | V59: =I59*0.1+L59*0.75+O59*0.05+R59*0.05+0.05*U59 -> 81.939078 | W59: 55 | X59: =VLOOKUP(F59,[5]Sheet7!$A$2:$C$173,3,0) -> 71 | Y59: 否 | Z59: 172 | AA59: 三等奖学金
A60: 微电子学院（集成电路学院） | B60: 集成电路设计与集成系统 | C60: 2025 | D60: 集252 | E60: 2537110206 | F60: 周嘉奕 | G60: 87.17 | H60: 0.5 | I60: 87.67 | J60: 81.757282 | K60: 1 | L60: 82.757282 | M60: 77.55 | N60: 0 | O60: 77.55 | P60: 45 | Q60: 20 | R60: 65 | S60: 60 | T60: 10.66 | U60: 70.66 | V60: =I60*0.1+L60*0.75+O60*0.05+R60*0.05+0.05*U60 -> 81.495461 | W60: 56 | X60: =VLOOKUP(F60,[5]Sheet7!$A$2:$C$173,3,0) -> 69 | Y60: 否 | Z60: 172 | AA60: 三等奖学金
A61: 微电子学院（集成电路学院） | B61: 集成电路设计与集成系统 | C61: 2025 | D61: 集255 | E61: 2537110283 | F61: 刘耀 | G61: 86.333333 | H61: 0.5 | I61: 86.833333 | J61: 84.757282 | K61: 2 | L61: 86.757282 | M61: 65.5 | N61: 0 | O61: 65.5 | P61: 60 | Q61: 0 | R61: 60 | S61: 12 | T61: 10 | U61: 22 | V61: =I61*0.1+L61*0.75+O61*0.05+R61*0.05+0.05*U61 -> 81.126294 | W61: 57 | X61: =VLOOKUP(F61,[5]Sheet7!$A$2:$C$173,3,0) -> 42 | Y61: 否 | Z61: 172 | AA61: 三等奖学金
A62: 微电子学院（集成电路学院） | B62: 集成电路设计与集成系统 | C62: 2025 | D62: 集252 | E62: 2537110185 | F62: 李丹 | G62: 87.83 | H62: 1 | I62: 88.83 | J62: 78.320388 | K62: 0 | L62: 78.320388 | M62: 78.7 | N62: 0 | O62: 78.7 | P62: 60 | Q62: 31 | R62: 91 | S62: 60 | T62: 40 | U62: 100 | V62: =I62*0.1+L62*0.75+O62*0.05+R62*0.05+0.05*U62 -> 81.108291 | W62: 58 | X62: =VLOOKUP(F62,[5]Sheet7!$A$2:$C$173,3,0) -> 101 | Y62: 否 | Z62: 172 | AA62: 三等奖学金
A63: 微电子学院（集成电路学院） | B63: 集成电路设计与集成系统 | C63: 2025 | D63: 集251 | E63: 2532110359 | F63: 苗欣雨 | G63: 86.166667 | H63: 6.5 | I63: 92.666667 | J63: 81.047619 | K63: 1 | L63: 82.047619 | M63: 76.1 | N63: 0 | O63: 76.1 | P63: 60 | Q63: 0 | R63: 60 | S63: 60 | T63: 10 | U63: 70 | V63: =I63*0.1+L63*0.75+O63*0.05+R63*0.05+0.05*U63 -> 81.107381 | W63: 59 | X63: =VLOOKUP(F63,[5]Sheet7!$A$2:$C$173,3,0) -> 78 | Y63: 否 | Z63: 172 | AA63: 三等奖学金
A64: 微电子学院（集成电路学院） | B64: 集成电路设计与集成系统 | C64: 2025 | D64: 集255 | E64: 2537110269 | F64: 冯含笑 | G64: 86.833333 | H64: 0 | I64: 86.833333 | J64: 86.15534 | K64: 0 | L64: 86.15534 | M64: 75.75 | N64: 0 | O64: 75.75 | P64: 45 | Q64: 0 | R64: 45 | S64: 15 | T64: 20 | U64: 35 | V64: =I64*0.1+L64*0.75+O64*0.05+R64*0.05+0.05*U64 -> 81.087338 | W64: 60 | X64: =VLOOKUP(F64,[5]Sheet7!$A$2:$C$173,3,0) -> 30 | Y64: 否 | Z64: 172 | AA64: 三等奖学金
A65: 微电子学院（集成电路学院） | B65: 集成电路设计与集成系统 | C65: 2025 | D65: 集252 | E65: 2537110201 | F65: 陈诚 | G65: 86.33 | H65: 0.5 | I65: 86.83 | J65: 81.23301 | K65: 1 | L65: 82.23301 | M65: 74.35 | N65: 0 | O65: 74.35 | P65: 60 | Q65: 21 | R65: 81 | S65: 57 | T65: 0 | U65: 57 | V65: =I65*0.1+L65*0.75+O65*0.05+R65*0.05+0.05*U65 -> 80.975257 | W65: 61 | X65: =VLOOKUP(F65,[5]Sheet7!$A$2:$C$173,3,0) -> 76 | Y65: 否 | Z65: 172 | AA65: 三等奖学金
A66: 微电子学院（集成电路学院） | B66: 集成电路设计与集成系统 | C66: 2025 | D66: 集252 | E66: 2537110207 | F66: 刘一鸣 | G66: 87.17 | H66: 1.5 | I66: 88.67 | J66: 80.15534 | K66: 1 | L66: 81.15534 | M66: 80.15 | N66: 0 | O66: 80.15 | P66: 25 | Q66: 20 | R66: 45 | S66: 60 | T66: 39.5 | U66: 99.5 | V66: =I66*0.1+L66*0.75+O66*0.05+R66*0.05+0.05*U66 -> 80.966005 | W66: 62 | X66: =VLOOKUP(F66,[5]Sheet7!$A$2:$C$173,3,0) -> 84 | Y66: 否 | Z66: 172 | AA66: 三等奖学金
A67: 微电子学院（集成电路学院） | B67: 集成电路设计与集成系统 | C67: 2025 | D67: 集254 | E67: 2537110254 | F67: 顾成翔 | G67: 86.166667 | H67: 0.5 | I67: 86.666667 | J67: 87.398058 | K67: 1 | L67: 88.398058 | M67: 70.5 | N67: 0 | O67: 70.5 | P67: 45 | Q67: 0 | R67: 45 | S67: 0 | T67: 0 | U67: 0 | V67: =I67*0.1+L67*0.75+O67*0.05+R67*0.05+0.05*U67 -> 80.74021 | W67: 63 | X67: =VLOOKUP(F67,[5]Sheet7!$A$2:$C$173,3,0) -> 23 | Y67: 否 | Z67: 172 | AA67: 三等奖学金
A68: 微电子学院（集成电路学院） | B68: 集成电路设计与集成系统 | C68: 2025 | D68: 集251 | E68: 2537110174 | F68: 曹西瑞 | G68: 86 | H68: 0.5 | I68: 86.5 | J68: 87.07767 | K68: 1 | L68: 88.07767 | M68: 70.5 | N68: 0 | O68: 70.5 | P68: 25 | Q68: 0 | R68: 25 | S68: 0 | T68: 25 | U68: 25 | V68: =I68*0.1+L68*0.75+O68*0.05+R68*0.05+0.05*U68 -> 80.733252 | W68: 64 | X68: =VLOOKUP(F68,[5]Sheet7!$A$2:$C$173,3,0) -> 26 | Y68: 否 | Z68: 172 | AA68: 三等奖学金
... A77: 微电子学院（集成电路学院） | B77: 集成电路设计与集成系统 | C77: 2025 | D77: 集255 | E77: 2537110292 | F77: 赵舒晗 | G77: 86.333333 | H77: 0.5 | I77: 86.833333 | J77: 80.951456 | K77: 1 | L77: 81.951456 | M77: 72.3 | N77: 0 | O77: 72.3 | P77: 60 | Q77: 0 | R77: 60 | S77: 60 | T77: 1 | U77: 61 | V77: =I77*0.1+L77*0.75+O77*0.05+R77*0.05+0.05*U77 -> 79.811926 | W77: 73 | X77: =VLOOKUP(F77,[5]Sheet7!$A$2:$C$173,3,0) -> 79 | Y77: 否 | Z77: 172 | AA77: 三等奖学金
A78: 微电子学院（集成电路学院） | B78: 集成电路设计与集成系统 | C78: 2025 | D78: 集251 | E78: 2537110178 | F78: 周正 | G78: 86.166667 | H78: 0 | I78: 86.166667 | J78: 83.92233 | K78: 1 | L78: 84.92233 | M78: 64.15 | N78: 0 | O78: 64.15 | P78: 60 | Q78: 0 | R78: 60 | S78: 0 | T78: 25 | U78: 25 | V78: =I78*0.1+L78*0.75+O78*0.05+R78*0.05+0.05*U78 -> 79.765914 | W78: 74 | X78: =VLOOKUP(F78,[5]Sheet7!$A$2:$C$173,3,0) -> 48 | Y78: 是 | Z78: 172
A79: 微电子学院（集成电路学院） | B79: 集成电路设计与集成系统 | C79: 2025 | D79: 集251 | E79: 2537110170 | F79: 张超 | G79: 85.666667 | H79: 1 | I79: 86.666667 | J79: 78.776699 | K79: 1 | L79: 79.776699 | M79: 76.825 | N79: 0 | O79: 76.825 | P79: 60 | Q79: 0 | R79: 60 | S79: 60 | T79: 25.5 | U79: 85.5 | V79: =I79*0.1+L79*0.75+O79*0.05+R79*0.05+0.05*U79 -> 79.615441 | W79: 75 | X79: =VLOOKUP(F79,[5]Sheet7!$A$2:$C$173,3,0) -> 95 | Y79: 否 | Z79: 172
A80: 微电子学院（集成电路学院） | B80: 集成电路设计与集成系统 | C80: 2025 | D80: 集252 | E80: 2537110192 | F80: 周国栋 | G80: 87.33 | H80: 1 | I80: 88.33 | J80: 83.456311 | K80: 1 | L80: 84.456311 | M80: 61.4 | N80: 0 | O80: 61.4 | P80: 25 | Q80: 0 | R80: 25 | S80: 42 | T80: 10 | U80: 52 | V80: =I80*0.1+L80*0.75+O80*0.05+R80*0.05+0.05*U80 -> 79.095233 | W80: 76 | X80: =VLOOKUP(F80,[5]Sheet7!$A$2:$C$173,3,0) -> 54 | Y80: 是 | Z80: 172
A81: 微电子学院（集成电路学院） | B81: 集成电路设计与集成系统 | C81: 2025 | D81: 集252 | E81: 2537110195 | F81: 李柏霖 | G81: 88.17 | H81: 1.6 | I81: 89.77 | J81: 79.019417 | K81: 0 | L81: 79.019417 | M81: 70.95 | N81: 0.5 | O81: 71.45 | P81: 25 | Q81: 9 | R81: 34 | S81: 60 | T81: 40 | U81: 100 | V81: =I81*0.1+L81*0.75+O81*0.05+R81*0.05+0.05*U81 -> 78.514063 | W81: 77 | X81: =VLOOKUP(F81,[5]Sheet7!$A$2:$C$173,3,0) -> 93 | Y81: 否 | Z81: 172
A82: 微电子学院（集成电路学院） | B82: 集成电路设计与集成系统 | C82: 2025 | D82: 集253 | E82: 2537110223 | F82: 李仁龙 | G82: 84.6 | H82: 0 | I82: 84.6 | J82: 87.718447 | K82: 0 | L82: 87.718447 | M82: 83.55 | N82: 0 | O82: 83.55 | P82: 0 | Q82: 0 | R82: 0 | S82: 0 | T82: 0 | U82: 0 | V82: =I82*0.1+L82*0.75+O82*0.05+R82*0.05+0.05*U82 -> 78.426335 | W82: 78 | X82: =VLOOKUP(F82,[5]Sheet7!$A$2:$C$173,3,0) -> 21 | Y82: 否 | Z82: 172
A83: 微电子学院（集成电路学院） | B83: 集成电路设计与集成系统 | C83: 2025 | D83: 集255 | E83: 2537110275 | F83: 孙鹤然 | G83: 86.833333 | H83: 0 | I83: 86.833333 | J83: 85.84466 | K83: 0 | L83: 85.84466 | M83: 64.3 | N83: 0 | O83: 64.3 | P83: 25 | Q83: 0 | R83: 25 | S83: 12 | T83: 0 | U83: 12 | V83: =I83*0.1+L83*0.75+O83*0.05+R83*0.05+0.05*U83 -> 78.131828 | W83: 79 | X83: =VLOOKUP(F83,[5]Sheet7!$A$2:$C$173,3,0) -> 34 | Y83: 是 | Z83: 172
A84: 微电子学院（集成电路学院） | B84: 集成电路设计与集成系统 | C84: 2025 | D84: 集252 | E84: 2537110205 | F84: 姚博文 | G84: 85.67 | H84: 0 | I84: 85.67 | J84: 80.378641 | K84: 1 | L84: 81.378641 | M84: 77.025 | N84: 0 | O84: 77.025 | P84: 60 | Q84: 0 | R84: 60 | S84: 0 | T84: 30 | U84: 30 | V84: =I84*0.1+L84*0.75+O84*0.05+R84*0.05+0.05*U84 -> 77.952231 | W84: 80 | X84: =VLOOKUP(F84,[5]Sheet7!$A$2:$C$173,3,0) -> 83 | Y84: 否 | Z84: 172
A85: 微电子学院（集成电路学院） | B85: 集成电路设计与集成系统 | C85: 2025 | D85: 集255 | E85: 2537110295 | F85: 宋尧 | G85: 85.833333 | H85: 1 | I85: 86.833333 | J85: 77.650485 | K85: 1 | L85: 78.650485 | M85: 84.3 | N85: 0.5 | O85: 84.8 | P85: 45 | Q85: 5 | R85: 50 | S85: 60 | T85: 7.5 | U85: 67.5 | V85: =I85*0.1+L85*0.75+O85*0.05+R85*0.05+0.05*U85 -> 77.786197 | W85: 81 | X85: =VLOOKUP(F85,[5]Sheet7!$A$2:$C$173,3,0) -> 108 | Y85: 否 | Z85: 172
A86: 微电子学院（集成电路学院） | B86: 集成电路设计与集成系统 | C86: 2025 | D86: 集254 | E86: 2537110250 | F86: 张跃中 | G86: 86.333333 | H86: 0 | I86: 86.333333 | J86: 76.543689 | K86: 1 | L86: 77.543689 | M86: 81.1 | N86: 8 | O86: 89.1 | P86: 60 | Q86: 0 | R86: 60 | S86: 60 | T86: 8 | U86: 68 | V86: =I86*0.1+L86*0.75+O86*0.05+R86*0.05+0.05*U86 -> 77.6461 | W86: 82 | X86: =VLOOKUP(F86,[5]Sheet7!$A$2:$C$173,3,0) -> 117 | Y86: 否 | Z86: 172
A87: 微电子学院（集成电路学院） | B87: 集成电路设计与集成系统 | C87: 2025 | D87: 集254 | E87: 2415110201 | F87: 邢栋 | G87: 85.833333 | H87: 0 | I87: 85.833333 | J87: 86.660377 | K87: 0 | L87: 86.660377 | M87: 78.6 | N87: 0 | O87: 78.6 | P87: 0 | Q87: 0 | R87: 0 | S87: 0 | T87: 0 | U87: 0 | V87: =I87*0.1+L87*0.75+O87*0.05+R87*0.05+0.05*U87 -> 77.508616 | W87: 83 | X87: =VLOOKUP(F87,[5]Sheet7!$A$2:$C$173,3,0) -> 29 | Y87: 否 | Z87: 172
A88: 微电子学院（集成电路学院） | B88: 集成电路设计与集成系统 | C88: 2025 | D88: 集251 | E88: 2537110164 | F88: 杨磊 | G88: 87.333333 | H88: 0 | I88: 87.333333 | J88: 81.543689 | K88: 1 | L88: 82.543689 | M88: 68 | N88: 0 | O88: 68 | P88: 45 | Q88: 4 | R88: 49 | S88: 0 | T88: 20 | U88: 20 | V88: =I88*0.1+L88*0.75+O88*0.05+R88*0.05+0.05*U88 -> 77.4911 | W88: 84 | X88: =VLOOKUP(F88,[5]Sheet7!$A$2:$C$173,3,0) -> 70 | Y88: 否 | Z88: 172
A89: 微电子学院（集成电路学院） | B89: 集成电路设计与集成系统 | C89: 2025 | D89: 集253 | E89: 2537110234 | F89: 王俊杰 | G89: 84 | H89: 1 | I89: 85 | J89: 73.320388 | K89: 1 | L89: 74.320388 | M89: 83.55 | N89: 0 | O89: 83.55 | P89: 60 | Q89: 40 | R89: 100 | S89: 60 | T89: 20 | U89: 80 | V89: =I89*0.1+L89*0.75+O89*0.05+R89*0.05+0.05*U89 -> 77.417791 | W89: 85 | X89: =VLOOKUP(F89,[5]Sheet7!$A$2:$C$173,3,0) -> 141 | Y89: 是 | Z89: 172
... A176: 微电子学院（集成电路学院） | B176: 集成电路设计与集成系统 | C176: 2025 | D176: 集253 | E176: 2230110289 | F176: 顾晨曦 | G176: 81.2 | H176: 0 | I176: 81.2 | J176: 6.8932039 | K176: 0 | L176: 6.8932039 | M176: 35 | N176: 0 | O176: 35 | P176: 0 | Q176: 0 | R176: 0 | S176: 0 | T176: 0 | U176: 0 | V176: =I176*0.1+L176*0.75+O176*0.05+R176*0.05+0.05*U176 -> 15.039903 | W176: 172 | X176: =VLOOKUP(F176,[5]Sheet7!$A$2:$C$173,3,0) -> 172 | Y176: 是 | Z176: 172
A177: 填表说明： | B177: 1.请勿变动表格格式。
B178: 2.专业、年级、班级、学号、姓名请采用教务信息系统中导出的个人基本信息，勿手工输入，避免产生错误。
B179: 3.德育成绩、智育成绩、体育成绩为百分制。
B180: 4.综合测评排名符合优秀学生奖学金评比条件，但因“德育分未达标”、“课程考核不合格”或者“体育成绩不合格”等不符合者请在“奖学金等级”一栏进行标注。
B181: 5.是否有不及格课程，指的是成绩单中列入综测范围的科目是否有不及格，请填写是或者否。

Sheet 电子科学25
A1: 附件5：
A2: 微电子学院电子科学与技术专业2025年级综合测评排名表
A3: 学院: 微电子学院（集成电路学院） 盖章： | X3: 学院分管学生工作领导签名：
A4: 学院 | B4: 专业 | C4: 年级 | D4: 班级 | E4: 学号 | F4: 姓名 | G4: 德育 考评分 | H4: 德育 加减分 | I4: 德育 成绩 | J4: 智育 考试分 | K4: 智育 加减分 | L4: 智育 成绩 | M4: 体育 测评分 | N4: 体育 加减分 | O4: 体育 成绩 | P4: 美育 基础分 | Q4: 美育 奖惩分 | R4: 美育 成绩 | S4: 劳育 基础分 | T4: 劳育 奖惩分 | U4: 劳育 成绩 | V4: 综合 测评分 | W4: 综合测评排名 | X4: 学习成绩排名 | Y4: 是否有不及格课程 | Z4: 专业年级 总人数 | AA4: 奖学金 等级 | AB4: 单项 奖学金 | AC4: 荣誉称号 | AD4: 学生签名
A5: 微电子学院（集成电路学院） | B5: 电子科学与技术 | C5: 2025 | D5: 电科255 | E5: 2533110283 | F5: 尹一闵 | G5: 87.166667 | H5: 8.0333333 | I5: 95.2 | J5: 90.63 | K5: 5.4 | L5: 96.03 | M5: 88.7 | N5: 0.5 | O5: 89.2 | P5: 60 | Q5: 20 | R5: 80 | S5: 60 | T5: 40 | U5: 100 | V5: =I5*0.1+L5*0.75+0.05*O5+0.05*R5+0.05*U5 -> 95.0025 | W5: 1 | X5: =VLOOKUP(F5,[5]Sheet8!$A$2:$C$171,3,0) -> 7 | Y5: 否 | Z5: 170 | AA5: 一等奖学金 | AC5: 三好学生
A6: 微电子学院（集成电路学院） | B6: 电子科学与技术 | C6: 2025 | D6: 电科252 | E6: 2409110023 | F6: 刘煜翔 | G6: 88.5 | H6: 4.2 | I6: 92.7 | J6: 93.572816 | K6: 2.1 | L6: 95.672816 | M6: 88.45 | N6: 0 | O6: 88.45 | P6: 60 | Q6: 34 | R6: 94 | S6: 60 | T6: 35 | U6: 95 | V6: =I6*0.1+L6*0.75+0.05*O6+0.05*R6+0.05*U6 -> 94.897112 | W6: 2 | X6: =VLOOKUP(F6,[5]Sheet8!$A$2:$C$171,3,0) -> 2 | Y6: 否 | Z6: 170 | AA6: 一等奖学金 | AC6: 三好学生标兵
A7: 微电子学院（集成电路学院） | B7: 电子科学与技术 | C7: 2025 | D7: 电科253 | E7: 2537110085 | F7: 史浩然 | G7: 88 | H7: 2 | I7: 90 | J7: 93.252427 | K7: 4.2 | L7: 97.452427 | M7: 70.7 | N7: 5 | O7: 75.7 | P7: 60 | Q7: 22 | R7: 82 | S7: 60 | T7: 35 | U7: 95 | V7: =I7*0.1+L7*0.75+0.05*O7+0.05*R7+0.05*U7 -> 94.72432 | W7: 3 | X7: =VLOOKUP(F7,[5]Sheet8!$A$2:$C$171,3,0) -> 3 | Y7: 否 | Z7: 170 | AA7: 一等奖学金 | AC7: 三好学生标兵
A8: 微电子学院（集成电路学院） | B8: 电子科学与技术 | C8: 2025 | D8: 电科252 | E8: 2537110035 | F8: 吴贞 | G8: 89.67 | H8: 7.5 | I8: 97.17 | J8: 93.873786 | K8: 2 | L8: 95.873786 | M8: 84.65 | N8: 0 | O8: 84.65 | P8: 60 | Q8: 13 | R8: 73 | S8: 60 | T8: 40 | U8: 100 | V8: =I8*0.1+L8*0.75+0.05*O8+0.05*R8+0.05*U8 -> 94.50484 | W8: 4 | X8: =VLOOKUP(F8,[5]Sheet8!$A$2:$C$171,3,0) -> 1 | Y8: 否 | Z8: 170 | AA8: 一等奖学金 | AC8: 三好学生标兵
A9: 微电子学院（集成电路学院） | B9: 电子科学与技术 | C9: 2025 | D9: 电科253 | E9: 2537110065 | F9: 钱安琪 | G9: 88.166667 | H9: 4.5 | I9: 92.666667 | J9: 93.048544 | K9: 1.75 | L9: 94.798544 | M9: 85.45 | N9: 0 | O9: 85.45 | P9: 60 | Q9: 14 | R9: 74 | S9: 60 | T9: 35 | U9: 95 | V9: =I9*0.1+L9*0.75+0.05*O9+0.05*R9+0.05*U9 -> 93.088074 | W9: 5 | X9: =VLOOKUP(F9,[5]Sheet8!$A$2:$C$171,3,0) -> 4 | Y9: 否 | Z9: 170 | AA9: 一等奖学金 | AC9: 三好学生
A10: 微电子学院（集成电路学院） | B10: 电子科学与技术 | C10: 2025 | D10: 电科254 | E10: 2537110112 | F10: 单杨杰 | G10: 88.333333 | H10: 4.5 | I10: 92.833333 | J10: 92.359223 | K10: 2 | L10: 94.359223 | M10: 77.9 | N10: 0.5 | O10: 78.4 | P10: 60 | Q10: 19.5 | R10: 79.5 | S10: 60 | T10: 40 | U10: 100 | V10: =I10*0.1+L10*0.75+0.05*O10+0.05*R10+0.05*U10 -> 92.947751 | W10: 6 | X10: =VLOOKUP(F10,[5]Sheet8!$A$2:$C$171,3,0) -> 5 | Y10: 否 | Z10: 170 | AA10: 一等奖学金 | AC10: 三好学生
A11: 微电子学院（集成电路学院） | B11: 电子科学与技术 | C11: 2025 | D11: 电科251 | E11: 2537110003 | F11: 杨雅晴 | G11: 88.67 | H11: 4.5 | I11: 93.17 | J11: 90.543689 | K11: 1.25 | L11: 91.793689 | M11: 82.75 | N11: 0.5 | O11: 83.25 | P11: 60 | Q11: 35 | R11: 95 | S11: 60 | T11: 40 | U11: 100 | V11: =I11*0.1+L11*0.75+0.05*O11+0.05*R11+0.05*U11 -> 92.074767 | W11: 7 | X11: =VLOOKUP(F11,[5]Sheet8!$A$2:$C$171,3,0) -> 8 | Y11: 否 | Z11: 170 | AA11: 一等奖学金 | AC11: 三好学生
A12: 微电子学院（集成电路学院） | B12: 电子科学与技术 | C12: 2025 | D12: 电科252 | E12: 2537110032 | F12: 吕瑶嘉 | G12: 86.17 | H12: 5.5 | I12: 91.67 | J12: 87.349515 | K12: 3.55 | L12: 90.899515 | M12: 90.525 | N12: 3.5 | O12: 94.025 | P12: 60 | Q12: 24 | R12: 84 | S12: 60 | T12: 35 | U12: 95 | V12: =I12*0.1+L12*0.75+0.05*O12+0.05*R12+0.05*U12 -> 90.992886 | W12: 8 | X12: =VLOOKUP(F12,[5]Sheet8!$A$2:$C$171,3,0) -> 19 | Y12: 否 | Z12: 170 | AA12: 一等奖学金
A13: 微电子学院（集成电路学院） | B13: 电子科学与技术 | C13: 2025 | D13: 电科255 | E13: 2423110135 | F13: 王荣海 | G13: 85.166667 | H13: 5.03 | I13: 90.2 | J13: 89.980583 | K13: 1.1994175 | L13: 91.18 | M13: 83.55 | N13: 0 | O13: 83.55 | P13: 60 | Q13: 28 | R13: 88 | S13: 60 | T13: 35 | U13: 95 | V13: =I13*0.1+L13*0.75+0.05*O13+0.05*R13+0.05*U13 -> 90.7325 | W13: 9 | X13: =VLOOKUP(F13,[5]Sheet8!$A$2:$C$171,3,0) -> 9 | Y13: 否 | Z13: 170 | AA13: 二等奖学金 | AC13: 三好学生
A14: 微电子学院（集成电路学院） | B14: 电子科学与技术 | C14: 2025 | D14: 电科254 | E14: 2537110090 | F14: 周曼岭 | G14: 84.833333 | H14: 0 | I14: 84.833333 | J14: 89.873786 | K14: 2.25 | L14: 92.123786 | M14: 91.225 | N14: 0 | O14: 91.225 | P14: 60 | Q14: 10 | R14: 70 | S14: 60 | T14: 40 | U14: 100 | V14: =I14*0.1+L14*0.75+0.05*O14+0.05*R14+0.05*U14 -> 90.637423 | W14: 10 | X14: =VLOOKUP(F14,[5]Sheet8!$A$2:$C$171,3,0) -> 11 | Y14: 否 | Z14: 170 | AA14: 二等奖学金
A15: 微电子学院（集成电路学院） | B15: 电子科学与技术 | C15: 2025 | D15: 电科252 | E15: 2521110252 | F15: 何文洁 | G15: 89.5 | H15: 0.5 | I15: 90 | J15: 89.96 | K15: 1.125 | L15: 91.085 | M15: 91.35 | N15: 0 | O15: 91.35 | P15: 60 | Q15: 10 | R15: 70 | S15: 60 | T15: 37.25 | U15: 97.25 | V15: =I15*0.1+L15*0.75+0.05*O15+0.05*R15+0.05*U15 -> 90.24375 | W15: 11 | X15: =VLOOKUP(F15,[5]Sheet8!$A$2:$C$171,3,0) -> 10 | Y15: 否 | Z15: 170 | AA15: 二等奖学金 | AC15: 三好学生
A16: 微电子学院（集成电路学院） | B16: 电子科学与技术 | C16: 2025 | D16: 电科251 | E16: 2431110561 | F16: 郑明鑫 | G16: 90.17 | H16: 0.5 | I16: 90.67 | J16: 92.242718 | K16: 1.3875 | L16: 93.630218 | M16: 79.4 | N16: 0 | O16: 79.4 | P16: 60 | Q16: 0 | R16: 60 | S16: 60 | T16: 15 | U16: 75 | V16: =I16*0.1+L16*0.75+0.05*O16+0.05*R16+0.05*U16 -> 90.009664 | W16: 12 | X16: =VLOOKUP(F16,[5]Sheet8!$A$2:$C$171,3,0) -> 6 | Y16: 否 | Z16: 170 | AA16: 二等奖学金 | AC16: 三好学生
A17: 微电子学院（集成电路学院） | B17: 电子科学与技术 | C17: 2025 | D17: 电科254 | E17: 2537110094 | F17: 刘思怡 | G17: 87.833333 | H17: 3.1 | I17: 90.933333 | J17: 88.514563 | K17: 1 | L17: 89.514563 | M17: 81.875 | N17: 0 | O17: 81.875 | P17: 60 | Q17: 10 | R17: 70 | S17: 60 | T17: 40 | U17: 100 | V17: =I17*0.1+L17*0.75+0.05*O17+0.05*R17+0.05*U17 -> 88.823006 | W17: 13 | X17: =VLOOKUP(F17,[5]Sheet8!$A$2:$C$171,3,0) -> 14 | Y17: 否 | Z17: 170 | AA17: 二等奖学金 | AC17: 三好学生
A18: 微电子学院（集成电路学院） | B18: 电子科学与技术 | C18: 2025 | D18: 电科251 | E18: 2508110110 | F18: 韩舒语 | G18: 90.83 | H18: 0 | I18: 90.83 | J18: 89.27 | K18: 1.75 | L18: 91.02 | M18: 80.575 | N18: 0 | O18: 80.575 | P18: 60 | Q18: 20 | R18: 80 | S18: 60 | T18: 5 | U18: 65 | V18: =I18*0.1+L18*0.75+0.05*O18+0.05*R18+0.05*U18 -> 88.62675 | W18: 14 | X18: =VLOOKUP(F18,[5]Sheet8!$A$2:$C$171,3,0) -> 13 | Y18: 否 | Z18: 170 | AA18: 二等奖学金 | AC18: 三好学生
A19: 微电子学院（集成电路学院） | B19: 电子科学与技术 | C19: 2025 | D19: 电科253 | E19: 2537110064 | F19: 贾淑涵 | G19: 88 | H19: 12 | I19: 100 | J19: 85.174757 | K19: 1 | L19: 86.174757 | M19: 83.4 | N19: 0 | O19: 83.4 | P19: 60 | Q19: 27 | R19: 87 | S19: 60 | T19: 35 | U19: 95 | V19: =I19*0.1+L19*0.75+0.05*O19+0.05*R19+0.05*U19 -> 87.901068 | W19: 15 | X19: =VLOOKUP(F19,[5]Sheet8!$A$2:$C$171,3,0) -> 33 | Y19: 否 | Z19: 170 | AA19: 二等奖学金
A20: 微电子学院（集成电路学院） | B20: 电子科学与技术 | C20: 2025 | D20: 电科251 | E20: 2537110001 | F20: 张笑凡 | G20: 89 | H20: 2 | I20: 91 | J20: 86.427184 | K20: 0.75 | L20: 87.177184 | M20: 81.85 | N20: 0.5 | O20: 82.35 | P20: 60 | Q20: 26 | R20: 86 | S20: 60 | T20: 40 | U20: 100 | V20: =I20*0.1+L20*0.75+0.05*O20+0.05*R20+0.05*U20 -> 87.900388 | W20: 16 | X20: =VLOOKUP(F20,[5]Sheet8!$A$2:$C$171,3,0) -> 21 | Y20: 否 | Z20: 170 | AA20: 二等奖学金
A21: 微电子学院（集成电路学院） | B21: 电子科学与技术 | C21: 2025 | D21: 电科252 | E21: 2537110030 | F21: 邹兰兰 | G21: 89.83 | H21: 3.5 | I21: 93.33 | J21: 85.68932 | K21: 1 | L21: 86.68932 | M21: 80.85 | N21: 0 | O21: 80.85 | P21: 60 | Q21: 30 | R21: 90 | S21: 60 | T21: 40 | U21: 100 | V21: =I21*0.1+L21*0.75+0.05*O21+0.05*R21+0.05*U21 -> 87.89249 | W21: 17 | X21: =VLOOKUP(F21,[5]Sheet8!$A$2:$C$171,3,0) -> 29 | Y21: 否 | Z21: 170 | AA21: 二等奖学金
A22: 微电子学院（集成电路学院） | B22: 电子科学与技术 | C22: 2025 | D22: 电科251 | E22: 2537110020 | F22: 严浩 | G22: 89 | H22: 1 | I22: 90 | J22: 88.320388 | K22: 1 | L22: 89.320388 | M22: 86.225 | N22: 7.5 | O22: 93.725 | P22: 60 | Q22: 0 | R22: 60 | S22: 60 | T22: 18.5 | U22: 78.5 | V22: =I22*0.1+L22*0.75+0.05*O22+0.05*R22+0.05*U22 -> 87.601541 | W22: 18 | X22: =VLOOKUP(F22,[5]Sheet8!$A$2:$C$171,3,0) -> 15 | Y22: 否 | Z22: 170 | AA22: 二等奖学金 | AC22: 三好学生
A23: 微电子学院（集成电路学院） | B23: 电子科学与技术 | C23: 2025 | D23: 电科251 | E23: 2537110011 | F23: 熊淋 | G23: 89.67 | H23: 5 | I23: 94.67 | J23: 83.854369 | K23: 1.75 | L23: 85.604369 | M23: 82.75 | N23: 2 | O23: 84.75 | P23: 60 | Q23: 27 | R23: 87 | S23: 60 | T23: 40 | U23: 100 | V23: =I23*0.1+L23*0.75+0.05*O23+0.05*R23+0.05*U23 -> 87.257777 | W23: 19 | X23: =VLOOKUP(F23,[5]Sheet8!$A$2:$C$171,3,0) -> 49 | Y23: 否 | Z23: 170 | AA23: 二等奖学金
A24: 微电子学院（集成电路学院） | B24: 电子科学与技术 | C24: 2025 | D24: 电科254 | E24: 2537110096 | F24: 谢辰潇 | G24: 85 | H24: 0 | I24: 85 | J24: 86.339806 | K24: 2 | L24: 88.339806 | M24: 80.35 | N24: 0.5 | O24: 80.85 | P24: 60 | Q24: 14 | R24: 74 | S24: 60 | T24: 32 | U24: 92 | V24: =I24*0.1+L24*0.75+0.05*O24+0.05*R24+0.05*U24 -> 87.097354 | W24: 20 | X24: =VLOOKUP(F24,[5]Sheet8!$A$2:$C$171,3,0) -> 23 | Y24: 否 | Z24: 170 | AA24: 二等奖学金
A25: 微电子学院（集成电路学院） | B25: 电子科学与技术 | C25: 2025 | D25: 电科254 | E25: 2537110091 | F25: 倪涵 | G25: 89.333333 | H25: 5.5 | I25: 94.833333 | J25: 84.31068 | K25: 2 | L25: 86.31068 | M25: 82.775 | N25: 0 | O25: 82.775 | P25: 60 | Q25: 14 | R25: 74 | S25: 60 | T25: 40 | U25: 100 | V25: =I25*0.1+L25*0.75+0.05*O25+0.05*R25+0.05*U25 -> 87.055093 | W25: 21 | X25: =VLOOKUP(F25,[5]Sheet8!$A$2:$C$171,3,0) -> 44 | Y25: 否 | Z25: 170 | AA25: 二等奖学金
A26: 微电子学院（集成电路学院） | B26: 电子科学与技术 | C26: 2025 | D26: 电科254 | E26: 2515110100 | F26: 刘佳丽 | G26: 87.333333 | H26: 3.1 | I26: 90.433333 | J26: 88.16 | K26: 1 | L26: 89.16 | M26: 69.875 | N26: 0 | O26: 69.875 | P26: 60 | Q26: 10 | R26: 70 | S26: 60 | T26: 19.68 | U26: 79.68 | V26: =I26*0.1+L26*0.75+0.05*O26+0.05*R26+0.05*U26 -> 86.891083 | W26: 22 | X26: =VLOOKUP(F26,[5]Sheet8!$A$2:$C$171,3,0) -> 17 | Y26: 否 | Z26: 170 | AA26: 二等奖学金 | AC26: 三好学生
A27: 微电子学院（集成电路学院） | B27: 电子科学与技术 | C27: 2025 | D27: 电科255 | E27: 2537110123 | F27: 吴悠 | G27: 86.333333 | H27: 8.6666667 | I27: 95 | J27: 85.592233 | K27: 0.99776699 | L27: 86.59 | M27: 82.95 | N27: 0 | O27: 82.95 | P27: 60 | Q27: 10 | R27: 70 | S27: 60 | T27: 30 | U27: 90 | V27: =I27*0.1+L27*0.75+0.05*O27+0.05*R27+0.05*U27 -> 86.59 | W27: 23 | X27: =VLOOKUP(F27,[5]Sheet8!$A$2:$C$171,3,0) -> 30 | Y27: 否 | Z27: 170 | AA27: 二等奖学金
A28: 微电子学院（集成电路学院） | B28: 电子科学与技术 | C28: 2025 | D28: 电科251 | E28: 2537110012 | F28: 王勃 | G28: 86.67 | H28: 2 | I28: 88.67 | J28: 84.398058 | K28: 1 | L28: 85.398058 | M28: 82.9 | N28: 0.5 | O28: 83.4 | P28: 60 | Q28: 24 | R28: 84 | S28: 60 | T28: 40 | U28: 100 | V28: =I28*0.1+L28*0.75+0.05*O28+0.05*R28+0.05*U28 -> 86.285544 | W28: 24 | X28: =VLOOKUP(F28,[5]Sheet8!$A$2:$C$171,3,0) -> 40 | Y28: 否 | Z28: 170 | AA28: 二等奖学金
A29: 微电子学院（集成电路学院） | B29: 电子科学与技术 | C29: 2025 | D29: 电科253 | E29: 2537110073 | F29: 肖杨 | G29: 90 | H29: 3 | I29: 93 | J29: 78.165049 | K29: 9 | L29: 87.165049 | M29: 65.75 | N29: 0 | O29: 65.75 | P29: 60 | Q29: 7 | R29: 67 | S29: 60 | T29: 35 | U29: 95 | V29: =I29*0.1+L29*0.75+0.05*O29+0.05*R29+0.05*U29 -> 86.061286 | W29: 25 | X29: =VLOOKUP(F29,[5]Sheet8!$A$2:$C$171,3,0) -> 88 | Y29: 否 | Z29: 170 | AA29: 二等奖学金
A30: 微电子学院（集成电路学院） | B30: 电子科学与技术 | C30: 2025 | D30: 电科252 | E30: 2537110034 | F30: 蔡宜辰 | G30: 86 | H30: 1 | I30: 87 | J30: 86.038835 | K30: 1 | L30: 87.038835 | M30: 86.05 | N30: 0.5 | O30: 86.55 | P30: 60 | Q30: 10 | R30: 70 | S30: 60 | T30: 25 | U30: 85 | V30: =I30*0.1+L30*0.75+0.05*O30+0.05*R30+0.05*U30 -> 86.056626 | W30: 26 | X30: =VLOOKUP(F30,[5]Sheet8!$A$2:$C$171,3,0) -> 25 | Y30: 否 | Z30: 170 | AA30: 三等奖学金
A31: 微电子学院（集成电路学院） | B31: 电子科学与技术 | C31: 2025 | D31: 电科252 | E31: 2537110048 | F31: 顾温博 | G31: 87.17 | H31: 0 | I31: 87.17 | J31: 82.135922 | K31: 12.25 | L31: 94.385922 | M31: 81.8 | N31: 0 | O31: 81.8 | P31: 0 | Q31: 0 | R31: 0 | S31: 18 | T31: 25 | U31: 43 | V31: =I31*0.1+L31*0.75+0.05*O31+0.05*R31+0.05*U31 -> 85.746442 | W31: 27 | X31: =VLOOKUP(F31,[5]Sheet8!$A$2:$C$171,3,0) -> 61 | Y31: 否 | Z31: 170 | AA31: 三等奖学金
A32: 微电子学院（集成电路学院） | B32: 电子科学与技术 | C32: 2025 | D32: 电科251 | E32: 2409110020 | F32: 韩洲 | G32: 85.17 | H32: 0.5 | I32: 85.67 | J32: 84.941748 | K32: 0.5 | L32: 85.441748 | M32: 89.8 | N32: 0 | O32: 89.8 | P32: 60 | Q32: 16 | R32: 76 | S32: 60 | T32: 35 | U32: 95 | V32: =I32*0.1+L32*0.75+0.05*O32+0.05*R32+0.05*U32 -> 85.688311 | W32: 28 | X32: =VLOOKUP(F32,[5]Sheet8!$A$2:$C$171,3,0) -> 35 | Y32: 否 | Z32: 170 | AA32: 三等奖学金
A33: 微电子学院（集成电路学院） | B33: 电子科学与技术 | C33: 2025 | D33: 电科253 | E33: 2537110075 | F33: 胡方昊 | G33: 87.333333 | H33: 2.5 | I33: 89.833333 | J33: 87.029126 | K33: 2 | L33: 89.029126 | M33: 69.65 | N33: 0 | O33: 69.65 | P33: 25 | Q33: 8 | R33: 33 | S33: 60 | T33: 35 | U33: 95 | V33: =I33*0.1+L33*0.75+0.05*O33+0.05*R33+0.05*U33 -> 85.637678 | W33: 29 | X33: =VLOOKUP(F33,[5]Sheet8!$A$2:$C$171,3,0) -> 20 | Y33: 否 | Z33: 170 | AA33: 三等奖学金
A34: 微电子学院（集成电路学院） | B34: 电子科学与技术 | C34: 2025 | D34: 电科253 | E34: 2537110061 | F34: 祁淑冰 | G34: 87.25 | H34: 1 | I34: 88.25 | J34: 84.456311 | K34: 1 | L34: 85.456311 | M34: 82.75 | N34: 0 | O34: 82.75 | P34: 60 | Q34: 10 | R34: 70 | S34: 60 | T34: 40 | U34: 100 | V34: =I34*0.1+L34*0.75+0.05*O34+0.05*R34+0.05*U34 -> 85.554733 | W34: 30 | X34: =VLOOKUP(F34,[5]Sheet8!$A$2:$C$171,3,0) -> 39 | Y34: 否 | Z34: 170 | AA34: 三等奖学金
A35: 微电子学院（集成电路学院） | B35: 电子科学与技术 | C35: 2025 | D35: 电科251 | E35: 2537110004 | F35: 张子木 | G35: 87.67 | H35: 3 | I35: 90.67 | J35: 82.893204 | K35: 1 | L35: 83.893204 | M35: 82.25 | N35: 4.5 | O35: 86.75 | P35: 60 | Q35: 24 | R35: 84 | S35: 60 | T35: 40 | U35: 100 | V35: =I35*0.1+L35*0.75+0.05*O35+0.05*R35+0.05*U35 -> 85.524403 | W35: 31 | X35: =VLOOKUP(F35,[5]Sheet8!$A$2:$C$171,3,0) -> 53 | Y35: 否 | Z35: 170 | AA35: 三等奖学金
A36: 微电子学院（集成电路学院） | B36: 电子科学与技术 | C36: 2025 | D36: 电科254 | E36: 2537110108 | F36: 赵泽 | G36: 86.166667 | H36: 1.5 | I36: 87.666667 | J36: 84.300971 | K36: 2 | L36: 86.300971 | M36: 74.85 | N36: 0 | O36: 74.85 | P36: 60 | Q36: 9.5 | R36: 69.5 | S36: 60 | T36: 35 | U36: 95 | V36: =I36*0.1+L36*0.75+0.05*O36+0.05*R36+0.05*U36 -> 85.459895 | W36: 32 | X36: =VLOOKUP(F36,[5]Sheet8!$A$2:$C$171,3,0) -> 45 | Y36: 否 | Z36: 170 | AA36: 三等奖学金
A37: 微电子学院（集成电路学院） | B37: 电子科学与技术 | C37: 2025 | D37: 电科254 | E37: 2521110152 | F37: 邢钰盈 | G37: 84.5 | H37: 0 | I37: 84.5 | J37: 86.15 | K37: 1 | L37: 87.15 | M37: 83.875 | N37: 0 | O37: 83.875 | P37: 65 | Q37: 5 | R37: 70 | S37: 60 | T37: 16.5 | U37: 76.5 | V37: =I37*0.1+L37*0.75+0.05*O37+0.05*R37+0.05*U37 -> 85.33125 | W37: 33 | X37: =VLOOKUP(F37,[5]Sheet8!$A$2:$C$171,3,0) -> 24 | Y37: 否 | Z37: 170 | AA37: 三等奖学金
A38: 微电子学院（集成电路学院） | B38: 电子科学与技术 | C38: 2025 | D38: 电科253 | E38: 2537110089 | F38: 周宇杰 | G38: 86.5 | H38: 2 | I38: 88.5 | J38: 84.398058 | K38: 2.5 | L38: 86.898058 | M38: 78.65 | N38: 0 | O38: 78.65 | P38: 60 | Q38: 0 | R38: 60 | S38: 60 | T38: 20 | U38: 80 | V38: =I38*0.1+L38*0.75+0.05*O38+0.05*R38+0.05*U38 -> 84.956044 | W38: 34 | X38: =VLOOKUP(F38,[5]Sheet8!$A$2:$C$171,3,0) -> 41 | Y38: 否 | Z38: 170 | AA38: 三等奖学金
... A42: 微电子学院（集成电路学院） | B42: 电子科学与技术 | C42: 2025 | D42: 电科255 | E42: 2515110101 | F42: 张乔 | G42: 84.333333 | H42: -0.0033333333 | I42: 84.33 | J42: 88.02 | K42: 2 | L42: 90.02 | M42: 75.5 | N42: 0 | O42: 75.5 | P42: 60 | Q42: 0 | R42: 60 | S42: 15 | T42: 20 | U42: 35 | V42: =I42*0.1+L42*0.75+0.05*O42+0.05*R42+0.05*U42 -> 84.473 | W42: 38 | X42: =VLOOKUP(F42,[5]Sheet8!$A$2:$C$171,3,0) -> 18 | Y42: 否 | Z42: 170 | AA42: 三等奖学金
A43: 微电子学院（集成电路学院） | B43: 电子科学与技术 | C43: 2025 | D43: 电科251 | E43: 2537110007 | F43: 余欣恕 | G43: 88.67 | H43: 3.5 | I43: 92.17 | J43: 81.786408 | K43: 1 | L43: 82.786408 | M43: 86.4 | N43: 0.5 | O43: 86.9 | P43: 60 | Q43: 14 | R43: 74 | S43: 60 | T43: 40 | U43: 100 | V43: =I43*0.1+L43*0.75+0.05*O43+0.05*R43+0.05*U43 -> 84.351806 | W43: 39 | X43: =VLOOKUP(F43,[5]Sheet8!$A$2:$C$171,3,0) -> 63 | Y43: 是 | Z43: 170 | AA43: 课程考核不合格 | AB43: 学业进步奖
A44: 微电子学院（集成电路学院） | B44: 电子科学与技术 | C44: 2025 | D44: 电科254 | E44: 2537110109 | F44: 王行 | G44: 86.833333 | H44: 0.5 | I44: 87.333333 | J44: 82.718447 | K44: 2 | L44: 84.718447 | M44: 79.1 | N44: 0.5 | O44: 79.6 | P44: 60 | Q44: 13 | R44: 73 | S44: 60 | T44: 27 | U44: 87 | V44: =I44*0.1+L44*0.75+0.05*O44+0.05*R44+0.05*U44 -> 84.252168 | W44: 40 | X44: =VLOOKUP(F44,[5]Sheet8!$A$2:$C$171,3,0) -> 56 | Y44: 否 | Z44: 170 | AA44: 三等奖学金
A45: 微电子学院（集成电路学院） | B45: 电子科学与技术 | C45: 2025 | D45: 电科254 | E45: 2537110107 | F45: 梅小松 | G45: 88.5 | H45: 5.5 | I45: 94 | J45: 77.815534 | K45: 2 | L45: 79.815534 | M45: 96.75 | N45: 0.5 | O45: 97.25 | P45: 60 | Q45: 34 | R45: 94 | S45: 60 | T45: 40 | U45: 100 | V45: =I45*0.1+L45*0.75+0.05*O45+0.05*R45+0.05*U45 -> 83.82415 | W45: 41 | X45: =VLOOKUP(F45,[5]Sheet8!$A$2:$C$171,3,0) -> 90 | Y45: 是 | Z45: 170 | AA45: 课程考核不合格 | AB45: 文体活动类
A46: 微电子学院（集成电路学院） | B46: 电子科学与技术 | C46: 2025 | D46: 电科253 | E46: 2537110060 | F46: 冯开蝶 | G46: 85.833333 | H46: 0 | I46: 85.833333 | J46: 84.728155 | K46: 1 | L46: 85.728155 | M46: 87.1 | N46: 0 | O46: 87.1 | P46: 45 | Q46: 0 | R46: 45 | S46: 60 | T46: 21 | U46: 81 | V46: =I46*0.1+L46*0.75+0.05*O46+0.05*R46+0.05*U46 -> 83.53445 | W46: 42 | X46: =VLOOKUP(F46,[5]Sheet8!$A$2:$C$171,3,0) -> 37 | Y46: 否 | Z46: 170 | AA46: 三等奖学金
A47: 微电子学院（集成电路学院） | B47: 电子科学与技术 | C47: 2025 | D47: 电科255 | E47: 2537110130 | F47: 仇沈聪 | G47: 88.166667 | H47: 6.5333333 | I47: 94.7 | J47: 80.708738 | K47: 1.0012621 | L47: 81.71 | M47: 74.9 | N47: 0 | O47: 74.9 | P47: 60 | Q47: 20 | R47: 80 | S47: 60 | T47: 30 | U47: 90 | V47: =I47*0.1+L47*0.75+0.05*O47+0.05*R47+0.05*U47 -> 82.9975 | W47: 43 | X47: =VLOOKUP(F47,[5]Sheet8!$A$2:$C$171,3,0) -> 72 | Y47: 否 | Z47: 170 | AA47: 三等奖学金
A48: 微电子学院（集成电路学院） | B48: 电子科学与技术 | C48: 2025 | D48: 电科252 | E48: 2537110042 | F48: 王耀 | G48: 89.33 | H48: 5.5 | I48: 94.83 | J48: 81.864078 | K48: 0 | L48: 81.864078 | M48: 72.775 | N48: 0 | O48: 72.775 | P48: 60 | Q48: 20 | R48: 80 | S48: 60 | T48: 25 | U48: 85 | V48: =I48*0.1+L48*0.75+0.05*O48+0.05*R48+0.05*U48 -> 82.769808 | W48: 44 | X48: =VLOOKUP(F48,[5]Sheet8!$A$2:$C$171,3,0) -> 62 | Y48: 否 | Z48: 170 | AA48: 三等奖学金
A49: 微电子学院（集成电路学院） | B49: 电子科学与技术 | C49: 2025 | D49: 电科255 | E49: 2537110120 | F49: 殷静茹 | G49: 85.166667 | H49: 0.033333333 | I49: 85.2 | J49: 84.126214 | K49: 1.0037864 | L49: 85.13 | M49: 87.75 | N49: 0 | O49: 87.75 | P49: 45 | Q49: 0 | R49: 45 | S49: 60 | T49: 11.5 | U49: 71.5 | V49: =I49*0.1+L49*0.75+0.05*O49+0.05*R49+0.05*U49 -> 82.58 | W49: 45 | X49: =VLOOKUP(F49,[5]Sheet8!$A$2:$C$171,3,0) -> 46 | Y49: 否 | Z49: 170 | AA49: 三等奖学金
A50: 微电子学院（集成电路学院） | B50: 电子科学与技术 | C50: 2025 | D50: 电科252 | E50: 2537110049 | F50: 李王晨阳 | G50: 88 | H50: 1 | I50: 89 | J50: 81.097087 | K50: 1 | L50: 82.097087 | M50: 75.3 | N50: 0.5 | O50: 75.8 | P50: 60 | Q50: 10 | R50: 70 | S50: 60 | T50: 35 | U50: 95 | V50: =I50*0.1+L50*0.75+0.05*O50+0.05*R50+0.05*U50 -> 82.512816 | W50: 46 | X50: =VLOOKUP(F50,[5]Sheet8!$A$2:$C$171,3,0) -> 69 | Y50: 否 | Z50: 170 | AA50: 三等奖学金
A51: 微电子学院（集成电路学院） | B51: 电子科学与技术 | C51: 2025 | D51: 电科251 | E51: 2515110134 | F51: 陆异童 | G51: 84.5 | H51: 0 | I51: 84.5 | J51: 83.04 | K51: 1 | L51: 84.04 | M51: 79.85 | N51: 0 | O51: 79.85 | P51: 60 | Q51: 0 | R51: 60 | S51: 55.56 | T51: 25 | U51: 80.56 | V51: =I51*0.1+L51*0.75+0.05*O51+0.05*R51+0.05*U51 -> 82.5005 | W51: 47 | X51: =VLOOKUP(F51,[5]Sheet8!$A$2:$C$171,3,0) -> 52 | Y51: 否 | Z51: 170 | AA51: 三等奖学金
A52: 微电子学院（集成电路学院） | B52: 电子科学与技术 | C52: 2025 | D52: 电科253 | E52: 2537110083 | F52: 叶科研 | G52: 84.166667 | H52: 0 | I52: 84.166667 | J52: 82.174757 | K52: 0 | L52: 82.174757 | M52: 75.75 | N52: 0 | O52: 75.75 | P52: 60 | Q52: 14 | R52: 74 | S52: 60 | T52: 38.5 | U52: 98.5 | V52: =I52*0.1+L52*0.75+0.05*O52+0.05*R52+0.05*U52 -> 82.460235 | W52: 48 | X52: =VLOOKUP(F52,[5]Sheet8!$A$2:$C$171,3,0) -> 60 | Y52: 否 | Z52: 170 | AA52: 三等奖学金
A53: 微电子学院（集成电路学院） | B53: 电子科学与技术 | C53: 2025 | D53: 电科251 | E53: 2537110002 | F53: 赵铃 | G53: 84.17 | H53: 1 | I53: 85.17 | J53: 81.601942 | K53: 0 | L53: 81.601942 | M53: 77.4 | N53: 0.5 | O53: 77.9 | P53: 60 | Q53: 16.5 | R53: 76.5 | S53: 60 | T53: 40 | U53: 100 | V53: =I53*0.1+L53*0.75+0.05*O53+0.05*R53+0.05*U53 -> 82.438456 | W53: 49 | X53: =VLOOKUP(F53,[5]Sheet8!$A$2:$C$171,3,0) -> 66 | Y53: 否 | Z53: 170 | AA53: 三等奖学金
A54: 微电子学院（集成电路学院） | B54: 电子科学与技术 | C54: 2025 | D54: 电科251 | E54: 2537110014 | F54: 倪蒋浩 | G54: 87.17 | H54: 4.5 | I54: 91.67 | J54: 81.320388 | K54: 1 | L54: 82.320388 | M54: 70.025 | N54: 0 | O54: 70.025 | P54: 60 | Q54: 5 | R54: 65 | S54: 60 | T54: 35 | U54: 95 | V54: =I54*0.1+L54*0.75+0.05*O54+0.05*R54+0.05*U54 -> 82.408541 | W54: 50 | X54: =VLOOKUP(F54,[5]Sheet8!$A$2:$C$171,3,0) -> 68 | Y54: 否 | Z54: 170 | AA54: 三等奖学金
A55: 微电子学院（集成电路学院） | B55: 电子科学与技术 | C55: 2025 | D55: 电科255 | E55: 2537110121 | F55: 陈熙 | G55: 85 | H55: 0.5 | I55: 85.5 | J55: 81.747573 | K55: 1.0024272 | L55: 82.75 | M55: 79.825 | N55: 0 | O55: 79.825 | P55: 60 | Q55: 10 | R55: 70 | S55: 60 | T55: 20 | U55: 80 | V55: =I55*0.1+L55*0.75+0.05*O55+0.05*R55+0.05*U55 -> 82.10375 | W55: 51 | X55: =VLOOKUP(F55,[5]Sheet8!$A$2:$C$171,3,0) -> 64 | Y55: 否 | Z55: 170 | AA55: 三等奖学金
A56: 微电子学院（集成电路学院） | B56: 电子科学与技术 | C56: 2025 | D56: 电科252 | E56: 2537110045 | F56: 张瑾泽 | G56: 87.83 | H56: 5.5 | I56: 93.33 | J56: 77.135922 | K56: 2.75 | L56: 79.885922 | M56: 67.025 | N56: 0 | O56: 67.025 | P56: 60 | Q56: 27 | R56: 87 | S56: 60 | T56: 40 | U56: 100 | V56: =I56*0.1+L56*0.75+0.05*O56+0.05*R56+0.05*U56 -> 81.948692 | W56: 52 | X56: =VLOOKUP(F56,[5]Sheet8!$A$2:$C$171,3,0) -> 92 | Y56: 否 | Z56: 170 | AA56: 三等奖学金
A57: 微电子学院（集成电路学院） | B57: 电子科学与技术 | C57: 2025 | D57: 电科252 | E57: 2515110306 | F57: 杨婧仪 | G57: 85.33 | H57: 0 | I57: 85.33 | J57: 84.12 | K57: 1 | L57: 85.12 | M57: 80 | N57: 0 | O57: 80 | P57: 25 | Q57: 8 | R57: 33 | S57: 60 | T57: 15 | U57: 75 | V57: =I57*0.1+L57*0.75+0.05*O57+0.05*R57+0.05*U57 -> 81.773 | W57: 53 | X57: =VLOOKUP(F57,[5]Sheet8!$A$2:$C$171,3,0) -> 47 | Y57: 否 | Z57: 170 | AA57: 三等奖学金
... A79: 微电子学院（集成电路学院） | B79: 电子科学与技术 | C79: 2025 | D79: 电科252 | E79: 2537110040 | F79: 陈亮 | G79: 86.83 | H79: 1 | I79: 87.83 | J79: 79.932039 | K79: 1 | L79: 80.932039 | M79: 75 | N79: 0.5 | O79: 75.5 | P79: 25 | Q79: 5 | R79: 30 | S79: 60 | T79: 15 | U79: 75 | V79: =I79*0.1+L79*0.75+0.05*O79+0.05*R79+0.05*U79 -> 78.507029 | W79: 75 | X79: =VLOOKUP(F79,[5]Sheet8!$A$2:$C$171,3,0) -> 77 | Y79: 否 | Z79: 170 | AA79: 三等奖学金
A80: 微电子学院（集成电路学院） | B80: 电子科学与技术 | C80: 2025 | D80: 电科253 | E80: 2537110070 | F80: 王乐祺 | G80: 85.666667 | H80: 0.5 | I80: 86.166667 | J80: 82.815534 | K80: 1 | L80: 83.815534 | M80: 80.05 | N80: 0 | O80: 80.05 | P80: 25 | Q80: 0 | R80: 25 | S80: 24 | T80: 10 | U80: 34 | V80: =I80*0.1+L80*0.75+0.05*O80+0.05*R80+0.05*U80 -> 78.430817 | W80: 76 | X80: =VLOOKUP(F80,[5]Sheet8!$A$2:$C$171,3,0) -> 54 | Y80: 否 | Z80: 170
A81: 微电子学院（集成电路学院） | B81: 电子科学与技术 | C81: 2025 | D81: 电科253 | E81: 2537110084 | F81: 王伟鉴 | G81: 84.166667 | H81: 0 | I81: 84.166667 | J81: 76.514563 | K81: 1 | L81: 77.514563 | M81: 66.65 | N81: 0 | O81: 66.65 | P81: 60 | Q81: 18 | R81: 78 | S81: 60 | T81: 32.5 | U81: 92.5 | V81: =I81*0.1+L81*0.75+0.05*O81+0.05*R81+0.05*U81 -> 78.410089 | W81: 77 | X81: =VLOOKUP(F81,[5]Sheet8!$A$2:$C$171,3,0) -> 98 | Y81: 否 | Z81: 170
A82: 微电子学院（集成电路学院） | B82: 电子科学与技术 | C82: 2025 | D82: 电科254 | E82: 2537110095 | F82: 韩欲阳 | G82: 83.833333 | H82: 0 | I82: 83.833333 | J82: 75.592233 | K82: 1 | L82: 76.592233 | M82: 84.05 | N82: 0 | O82: 84.05 | P82: 65 | Q82: 14 | R82: 79 | S82: 60 | T82: 25 | U82: 85 | V82: =I82*0.1+L82*0.75+0.05*O82+0.05*R82+0.05*U82 -> 78.230008 | W82: 78 | X82: =VLOOKUP(F82,[5]Sheet8!$A$2:$C$171,3,0) -> 107 | Y82: 否 | Z82: 170
A83: 微电子学院（集成电路学院） | B83: 电子科学与技术 | C83: 2025 | D83: 电科251 | E83: 2537110024 | F83: 乔名宇 | G83: 85.17 | H83: 0 | I83: 85.17 | J83: 85.349515 | K83: 1 | L83: 86.349515 | M83: 69.55 | N83: 0 | O83: 69.55 | P83: 25 | Q83: 0 | R83: 25 | S83: 0 | T83: 0 | U83: 0 | V83: =I83*0.1+L83*0.75+0.05*O83+0.05*R83+0.05*U83 -> 78.006636 | W83: 79 | X83: =VLOOKUP(F83,[5]Sheet8!$A$2:$C$171,3,0) -> 32 | Y83: 否 | Z83: 170
A84: 微电子学院（集成电路学院） | B84: 电子科学与技术 | C84: 2025 | D84: 电科253 | E84: 2537110088 | F84: 朱迅一 | G84: 85.5 | H84: 1 | I84: 86.5 | J84: 74.126214 | K84: 1 | L84: 75.126214 | M84: 82.75 | N84: 0 | O84: 82.75 | P84: 60 | Q84: 31 | R84: 91 | S84: 60 | T84: 25 | U84: 85 | V84: =I84*0.1+L84*0.75+0.05*O84+0.05*R84+0.05*U84 -> 77.93216 | W84: 80 | X84: =VLOOKUP(F84,[5]Sheet8!$A$2:$C$171,3,0) -> 120 | Y84: 是 | Z84: 170
A85: 微电子学院（集成电路学院） | B85: 电子科学与技术 | C85: 2025 | D85: 电科253 | E85: 2521110147 | F85: 冯晓萱 | G85: 84.166667 | H85: 0 | I85: 84.166667 | J85: 84.33 | K85: 0 | L85: 84.33 | M85: 82.7 | N85: 0 | O85: 82.7 | P85: 0 | Q85: 0 | R85: 0 | S85: 24 | T85: 15 | U85: 39 | V85: =I85*0.1+L85*0.75+0.05*O85+0.05*R85+0.05*U85 -> 77.749167 | W85: 81 | X85: =VLOOKUP(F85,[5]Sheet8!$A$2:$C$171,3,0) -> 43 | Y85: 否 | Z85: 170
A86: 微电子学院（集成电路学院） | B86: 电子科学与技术 | C86: 2025 | D86: 电科254 | E86: 2537110099 | F86: 刘君鑫 | G86: 84.333333 | H86: 0 | I86: 84.333333 | J86: 79.466019 | K86: 0 | L86: 79.466019 | M86: 81.15 | N86: 0 | O86: 81.15 | P86: 45 | Q86: 0 | R86: 45 | S86: 60 | T86: 0 | U86: 60 | V86: =I86*0.1+L86*0.75+0.05*O86+0.05*R86+0.05*U86 -> 77.340348 | W86: 82 | X86: =VLOOKUP(F86,[5]Sheet8!$A$2:$C$171,3,0) -> 81 | Y86: 否 | Z86: 170
A87: 微电子学院（集成电路学院） | B87: 电子科学与技术 | C87: 2025 | D87: 电科251 | E87: 2537110008 | F87: 林开 | G87: 84.5 | H87: 0 | I87: 84.5 | J87: 79.271845 | K87: 0 | L87: 79.271845 | M87: 68.1 | N87: 0 | O87: 68.1 | P87: 60 | Q87: 0 | R87: 60 | S87: 60 | T87: 0 | U87: 60 | V87: =I87*0.1+L87*0.75+0.05*O87+0.05*R87+0.05*U87 -> 77.308883 | W87: 83 | X87: =VLOOKUP(F87,[5]Sheet8!$A$2:$C$171,3,0) -> 82 | Y87: 是 | Z87: 170
A88: 微电子学院（集成电路学院） | B88: 电子科学与技术 | C88: 2025 | D88: 电科253 | E88: 2537110072 | F88: 黄生昇 | G88: 82.666667 | H88: 1 | I88: 83.666667 | J88: 72.728155 | K88: 1 | L88: 73.728155 | M88: 81.35 | N88: 0 | O88: 81.35 | P88: 60 | Q88: 28 | R88: 88 | S88: 60 | T88: 40 | U88: 100 | V88: =I88*0.1+L88*0.75+0.05*O88+0.05*R88+0.05*U88 -> 77.130283 | W88: 84 | X88: =VLOOKUP(F88,[5]Sheet8!$A$2:$C$171,3,0) -> 128 | Y88: 是 | Z88: 170
A89: 微电子学院（集成电路学院） | B89: 电子科学与技术 | C89: 2025 | D89: 电科253 | E89: 2537110087 | F89: 徐峥成 | G89: 85 | H89: 0 | I89: 85 | J89: 80 | K89: 1 | L89: 81 | M89: 72.2 | N89: 0 | O89: 72.2 | P89: 60 | Q89: 10 | R89: 70 | S89: 0 | T89: 15 | U89: 15 | V89: =I89*0.1+L89*0.75+0.05*O89+0.05*R89+0.05*U89 -> 77.11 | W89: 85 | X89: =VLOOKUP(F89,[5]Sheet8!$A$2:$C$171,3,0) -> 76 | Y89: 否 | Z89: 170
A90: 微电子学院（集成电路学院） | B90: 电子科学与技术 | C90: 2025 | D90: 电科255 | E90: 2537110136 | F90: 张辰 | G90: 83.5 | H90: 0 | I90: 83.5 | J90: 80.038835 | K90: 1.001165 | L90: 81.04 | M90: 72.2 | N90: 0 | O90: 72.2 | P90: 25 | Q90: 0 | R90: 25 | S90: 60 | T90: 0 | U90: 60 | V90: =I90*0.1+L90*0.75+0.05*O90+0.05*R90+0.05*U90 -> 76.99 | W90: 86 | X90: =VLOOKUP(F90,[5]Sheet8!$A$2:$C$171,3,0) -> 75 | Y90: 否 | Z90: 170
A91: 微电子学院（集成电路学院） | B91: 电子科学与技术 | C91: 2025 | D91: 电科251 | E91: 2537110026 | F91: 袁德帅 | G91: 85.5 | H91: 0 | I91: 85.5 | J91: 82.747573 | K91: 1 | L91: 83.747573 | M91: 81.5 | N91: 0 | O91: 81.5 | P91: 25 | Q91: 0 | R91: 25 | S91: 0 | T91: 0 | U91: 0 | V91: =I91*0.1+L91*0.75+0.05*O91+0.05*R91+0.05*U91 -> 76.68568 | W91: 87 | X91: =VLOOKUP(F91,[5]Sheet8!$A$2:$C$171,3,0) -> 55 | Y91: 否 | Z91: 170
... A100: 微电子学院（集成电路学院） | B100: 电子科学与技术 | C100: 2025 | D100: 电科253 | E100: 2537110063 | F100: 杜子慧 | G100: 84.75 | H100: 1.5 | I100: 86.25 | J100: 75.378641 | K100: 1 | L100: 76.378641 | M100: 79.65 | N100: 0 | O100: 79.65 | P100: 60 | Q100: 0 | R100: 60 | S100: 60 | T100: 10 | U100: 70 | V100: =I100*0.1+L100*0.75+0.05*O100+0.05*R100+0.05*U100 -> 76.391481 | W100: 96 | X100: =VLOOKUP(F100,[5]Sheet8!$A$2:$C$171,3,0) -> 109 | Y100: 是 | Z100: 170
A101: 微电子学院（集成电路学院） | B101: 电子科学与技术 | C101: 2025 | D101: 电科255 | E101: 2537110141 | F101: 常帅 | G101: 83.833333 | H101: 3.9666667 | I101: 87.8 | J101: 74.932039 | K101: 0.99796117 | L101: 75.93 | M101: 82.5 | N101: 0 | O101: 82.5 | P101: 60 | Q101: 0 | R101: 60 | S101: 60 | T101: 10 | U101: 70 | V101: =I101*0.1+L101*0.75+0.05*O101+0.05*R101+0.05*U101 -> 76.3525 | W101: 97 | X101: =VLOOKUP(F101,[5]Sheet8!$A$2:$C$171,3,0) -> 115 | Y101: 否 | Z101: 170
A102: 微电子学院（集成电路学院） | B102: 电子科学与技术 | C102: 2025 | D102: 电科252 | E102: 2537110038 | F102: 许锐哲 | G102: 84.67 | H102: 0.5 | I102: 85.17 | J102: 72.145631 | K102: 1 | L102: 73.145631 | M102: 86.3 | N102: 0 | O102: 86.3 | P102: 60 | Q102: 40 | R102: 100 | S102: 48 | T102: 25 | U102: 73 | V102: =I102*0.1+L102*0.75+0.05*O102+0.05*R102+0.05*U102 -> 76.341223 | W102: 98 | X102: =VLOOKUP(F102,[5]Sheet8!$A$2:$C$171,3,0) -> 133 | Y102: 否 | Z102: 170
A103: 微电子学院（集成电路学院） | B103: 电子科学与技术 | C103: 2025 | D103: 电科255 | E103: 2537110125 | F103: 陈静雅 | G103: 84.5 | H103: 0 | I103: 84.5 | J103: 72.466019 | K103: 1.0039806 | L103: 73.47 | M103: 83.6 | N103: 0 | O103: 83.6 | P103: 60 | Q103: 22 | R103: 82 | S103: 60 | T103: 30 | U103: 90 | V103: =I103*0.1+L103*0.75+0.05*O103+0.05*R103+0.05*U103 -> 76.3325 | W103: 99 | X103: =VLOOKUP(F103,[5]Sheet8!$A$2:$C$171,3,0) -> 131 | Y103: 是 | Z103: 170
A104: 微电子学院（集成电路学院） | B104: 电子科学与技术 | C104: 2025 | D104: 电科254 | E104: 2537110117 | F104: 丁宇扬 | G104: 84.666667 | H104: 0 | I104: 84.666667 | J104: 83.631068 | K104: 1 | L104: 84.631068 | M104: 65.85 | N104: 0 | O104: 65.85 | P104: 0 | Q104: 0 | R104: 0 | S104: 0 | T104: 20 | U104: 20 | V104: =I104*0.1+L104*0.75+0.05*O104+0.05*R104+0.05*U104 -> 76.232468 | W104: 100 | X104: =VLOOKUP(F104,[5]Sheet8!$A$2:$C$171,3,0) -> 50 | Y104: 否 | Z104: 170
A105: 微电子学院（集成电路学院） | B105: 电子科学与技术 | C105: 2025 | D105: 电科255 | E105: 2537110142 | F105: 陆俊杰 | G105: 84.666667 | H105: 0.033333333 | I105: 84.7 | J105: 78.436893 | K105: 1.0031068 | L105: 79.44 | M105: 82.45 | N105: 0 | O105: 82.45 | P105: 25 | Q105: 0 | R105: 25 | S105: 54 | T105: 0 | U105: 54 | V105: =I105*0.1+L105*0.75+0.05*O105+0.05*R105+0.05*U105 -> 76.1225 | W105: 101 | X105: =VLOOKUP(F105,[5]Sheet8!$A$2:$C$171,3,0) -> 85 | Y105: 否 | Z105: 170
A106: 微电子学院（集成电路学院） | B106: 电子科学与技术 | C106: 2025 | D106: 电科255 | E106: 2537110124 | F106: 秦译卿 | G106: 85.5 | H106: 2.5 | I106: 88 | J106: 71.165049 | K106: 1.0049515 | L106: 72.17 | M106: 86.25 | N106: 0 | O106: 86.25 | P106: 60 | Q106: 29 | R106: 89 | S106: 60 | T106: 28 | U106: 88 | V106: =I106*0.1+L106*0.75+0.05*O106+0.05*R106+0.05*U106 -> 76.09 | W106: 102 | X106: =VLOOKUP(F106,[5]Sheet8!$A$2:$C$171,3,0) -> 140 | Y106: 是 | Z106: 170
A107: 微电子学院（集成电路学院） | B107: 电子科学与技术 | C107: 2025 | D107: 电科251 | E107: 2537110021 | F107: 李森源 | G107: 85.5 | H107: 1 | I107: 86.5 | J107: 83.951456 | K107: 1 | L107: 84.951456 | M107: 73.35 | N107: 0 | O107: 73.35 | P107: 0 | Q107: 0 | R107: 0 | S107: 0 | T107: 0 | U107: 0 | V107: =I107*0.1+L107*0.75+0.05*O107+0.05*R107+0.05*U107 -> 76.031092 | W107: 103 | X107: =VLOOKUP(F107,[5]Sheet8!$A$2:$C$171,3,0) -> 48 | Y107: 否 | Z107: 170
A108: 微电子学院（集成电路学院） | B108: 电子科学与技术 | C108: 2025 | D108: 电科252 | E108: 2537110050 | F108: 叶梓豪 | G108: 84.83 | H108: 0 | I108: 84.83 | J108: 80.601942 | K108: 1 | L108: 81.601942 | M108: 77.725 | N108: 0 | O108: 77.725 | P108: 0 | Q108: 0 | R108: 0 | S108: 12 | T108: 35 | U108: 47 | V108: =I108*0.1+L108*0.75+0.05*O108+0.05*R108+0.05*U108 -> 75.920706 | W108: 104 | X108: =VLOOKUP(F108,[5]Sheet8!$A$2:$C$171,3,0) -> 74 | Y108: 否 | Z108: 170
A109: 微电子学院（集成电路学院） | B109: 电子科学与技术 | C109: 2025 | D109: 电科255 | E109: 2537110129 | F109: 梁锦辉 | G109: 87 | H109: 0 | I109: 87 | J109: 74.854369 | K109: 0.99563107 | L109: 75.85 | M109: 83.975 | N109: 0 | O109: 83.975 | P109: 60 | Q109: 0 | R109: 60 | S109: 60 | T109: 0 | U109: 60 | V109: =I109*0.1+L109*0.75+0.05*O109+0.05*R109+0.05*U109 -> 75.78625 | W109: 105 | X109: =VLOOKUP(F109,[5]Sheet8!$A$2:$C$171,3,0) -> 117 | Y109: 是 | Z109: 170
A110: 微电子学院（集成电路学院） | B110: 电子科学与技术 | C110: 2025 | D110: 电科253 | E110: 2537110081 | F110: 温韬 | G110: 84.833333 | H110: 3.2 | I110: 88.033333 | J110: 72.563107 | K110: 1 | L110: 73.563107 | M110: 84.4 | N110: 0 | O110: 84.4 | P110: 60 | Q110: 12 | R110: 72 | S110: 60 | T110: 19.5 | U110: 79.5 | V110: =I110*0.1+L110*0.75+0.05*O110+0.05*R110+0.05*U110 -> 75.770663 | W110: 106 | X110: =VLOOKUP(F110,[5]Sheet8!$A$2:$C$171,3,0) -> 129 | Y110: 是 | Z110: 170
A111: 微电子学院（集成电路学院） | B111: 电子科学与技术 | C111: 2025 | D111: 电科254 | E111: 2537110115 | F111: 华明岩 | G111: 84.5 | H111: 0 | I111: 84.5 | J111: 82.708738 | K111: 2 | L111: 84.708738 | M111: 69 | N111: 0 | O111: 69 | P111: 0 | Q111: 0 | R111: 0 | S111: 0 | T111: 5 | U111: 5 | V111: =I111*0.1+L111*0.75+0.05*O111+0.05*R111+0.05*U111 -> 75.681553 | W111: 107 | X111: =VLOOKUP(F111,[5]Sheet8!$A$2:$C$171,3,0) -> 57 | Y111: 否 | Z111: 170
A112: 微电子学院（集成电路学院） | B112: 电子科学与技术 | C112: 2025 | D112: 电科252 | E112: 2534110016 | F112: 刘釉文 | G112: 85.67 | H112: 0 | I112: 85.67 | J112: 78.38 | K112: 1 | L112: 79.38 | M112: 76.9 | N112: 0 | O112: 76.9 | P112: 0 | Q112: 0 | R112: 0 | S112: 36 | T112: 25 | U112: 61 | V112: =I112*0.1+L112*0.75+0.05*O112+0.05*R112+0.05*U112 -> 74.997 | W112: 108 | X112: =VLOOKUP(F112,[5]Sheet8!$A$2:$C$171,3,0) -> 86 | Y112: 否 | Z112: 170
A113: 微电子学院（集成电路学院） | B113: 电子科学与技术 | C113: 2025 | D113: 电科251 | E113: 2537110005 | F113: 刘紫婷 | G113: 85.5 | H113: 0 | I113: 85.5 | J113: 71.504854 | K113: 1 | L113: 72.504854 | M113: 78.45 | N113: 0.5 | O113: 78.95 | P113: 60 | Q113: 9 | R113: 69 | S113: 60 | T113: 31.5 | U113: 91.5 | V113: =I113*0.1+L113*0.75+0.05*O113+0.05*R113+0.05*U113 -> 74.901141 | W113: 109 | X113: =VLOOKUP(F113,[5]Sheet8!$A$2:$C$171,3,0) -> 137 | Y113: 是 | Z113: 170
... A141: 微电子学院（集成电路学院） | B141: 电子科学与技术 | C141: 2025 | D141: 电科252 | E141: 2537110058 | F141: 何明达 | G141: 85 | H141: 0 | I141: 85 | J141: 73.349515 | K141: 0 | L141: 73.349515 | M141: 71.65 | N141: 0 | O141: 71.65 | P141: 0 | Q141: 0 | R141: 0 | S141: 60 | T141: 0 | U141: 60 | V141: =I141*0.1+L141*0.75+0.05*O141+0.05*R141+0.05*U141 -> 70.094636 | W141: 137 | X141: =VLOOKUP(F141,[5]Sheet8!$A$2:$C$171,3,0) -> 122 | Y141: 是 | Z141: 170
A142: 微电子学院（集成电路学院） | B142: 电子科学与技术 | C142: 2025 | D142: 电科252 | E142: 2537110059 | F142: 肖鑫豪 | G142: 84.83 | H142: 0 | I142: 84.83 | J142: 73.504854 | K142: 0 | L142: 73.504854 | M142: 71.7 | N142: 0 | O142: 71.7 | P142: 0 | Q142: 0 | R142: 0 | S142: 54 | T142: 0 | U142: 54 | V142: =I142*0.1+L142*0.75+0.05*O142+0.05*R142+0.05*U142 -> 69.896641 | W142: 138 | X142: =VLOOKUP(F142,[5]Sheet8!$A$2:$C$171,3,0) -> 121 | Y142: 是 | Z142: 170
A143: 微电子学院（集成电路学院） | B143: 电子科学与技术 | C143: 2025 | D143: 电科255 | E143: 2537110148 | F143: 陈福临 | G143: 85.166667 | H143: 1.0333333 | I143: 86.2 | J143: 70.31068 | K143: 0.99932039 | L143: 71.31 | M143: 70.55 | N143: 0 | O143: 70.55 | P143: 25 | Q143: 0 | R143: 25 | S143: 60 | T143: 0 | U143: 60 | V143: =I143*0.1+L143*0.75+0.05*O143+0.05*R143+0.05*U143 -> 69.88 | W143: 139 | X143: =VLOOKUP(F143,[5]Sheet8!$A$2:$C$171,3,0) -> 145 | Y143: 是 | Z143: 170
A144: 微电子学院（集成电路学院） | B144: 电子科学与技术 | C144: 2025 | D144: 电科255 | E144: 2537110137 | F144: 陈嘉 | G144: 84 | H144: 0.5 | I144: 84.5 | J144: 71.76699 | K144: 1.0030097 | L144: 72.77 | M144: 68.95 | N144: 0 | O144: 68.95 | P144: 45 | Q144: 0 | R144: 45 | S144: 18 | T144: 0 | U144: 18 | V144: =I144*0.1+L144*0.75+0.05*O144+0.05*R144+0.05*U144 -> 69.625 | W144: 140 | X144: =VLOOKUP(F144,[5]Sheet8!$A$2:$C$171,3,0) -> 135 | Y144: 是 | Z144: 170
A145: 微电子学院（集成电路学院） | B145: 电子科学与技术 | C145: 2025 | D145: 电科252 | E145: 2537110055 | F145: 彭志远 | G145: 85.83 | H145: 0 | I145: 85.83 | J145: 76.747573 | K145: 0 | L145: 76.747573 | M145: 56.375 | N145: 0 | O145: 56.375 | P145: 0 | Q145: 0 | R145: 0 | S145: 0 | T145: 0 | U145: 0 | V145: =I145*0.1+L145*0.75+0.05*O145+0.05*R145+0.05*U145 -> 68.96243 | W145: 141 | X145: =VLOOKUP(F145,[5]Sheet8!$A$2:$C$171,3,0) -> 97 | Y145: 是 | Z145: 170
A146: 微电子学院（集成电路学院） | B146: 电子科学与技术 | C146: 2025 | D146: 电科255 | E146: 2537110138 | F146: 陆铭轩 | G146: 84.833333 | H146: 0.96666667 | I146: 85.8 | J146: 67.203883 | K146: 0.9961165 | L146: 68.2 | M146: 60 | N146: 0 | O146: 60 | P146: 60 | Q146: 0 | R146: 60 | S146: 60 | T146: 0 | U146: 60 | V146: =I146*0.1+L146*0.75+0.05*O146+0.05*R146+0.05*U146 -> 68.73 | W146: 142 | X146: =VLOOKUP(F146,[5]Sheet8!$A$2:$C$171,3,0) -> 156 | Y146: 是 | Z146: 170
A147: 微电子学院（集成电路学院） | B147: 电子科学与技术 | C147: 2025 | D147: 电科253 | E147: 2537110076 | F147: 陈飞扬 | G147: 85.916667 | H147: 0.5 | I147: 86.416667 | J147: 73.135922 | K147: 1 | L147: 74.135922 | M147: 75.6 | N147: 0 | O147: 75.6 | P147: 0 | Q147: 0 | R147: 0 | S147: 0 | T147: 5 | U147: 5 | V147: =I147*0.1+L147*0.75+0.05*O147+0.05*R147+0.05*U147 -> 68.273608 | W147: 143 | X147: =VLOOKUP(F147,[5]Sheet8!$A$2:$C$171,3,0) -> 124 | Y147: 否 | Z147: 170
A148: 微电子学院（集成电路学院） | B148: 电子科学与技术 | C148: 2025 | D148: 电科253 | E148: 2537110079 | F148: 吴廷钰 | G148: 83.5 | H148: 0 | I148: 83.5 | J148: 68.504854 | K148: 1 | L148: 69.504854 | M148: 83.5 | N148: 0 | O148: 83.5 | P148: 25 | Q148: 2.5 | R148: 27.5 | S148: 42 | T148: 0 | U148: 42 | V148: =I148*0.1+L148*0.75+0.05*O148+0.05*R148+0.05*U148 -> 68.128641 | W148: 144 | X148: =VLOOKUP(F148,[5]Sheet8!$A$2:$C$171,3,0) -> 151 | Y148: 是 | Z148: 170
A149: 微电子学院（集成电路学院） | B149: 电子科学与技术 | C149: 2025 | D149: 电科253 | E149: 2537110062 | F149: 罗顾佳 | G149: 85 | H149: 0 | I149: 85 | J149: 70.68932 | K149: 1 | L149: 71.68932 | M149: 78 | N149: 0 | O149: 78 | P149: 25 | Q149: 4 | R149: 29 | S149: 0 | T149: 10 | U149: 10 | V149: =I149*0.1+L149*0.75+0.05*O149+0.05*R149+0.05*U149 -> 68.11699 | W149: 145 | X149: =VLOOKUP(F149,[5]Sheet8!$A$2:$C$171,3,0) -> 142 | Y149: 是 | Z149: 170
A150: 微电子学院（集成电路学院） | B150: 电子科学与技术 | C150: 2025 | D150: 电科252 | E150: 2537110037 | F150: 宋文杰 | G150: 85.17 | H150: 0 | I150: 85.17 | J150: 74.825243 | K150: 0 | L150: 74.825243 | M150: 60.25 | N150: 0 | O150: 60.25 | P150: 0 | Q150: 0 | R150: 0 | S150: 0 | T150: 0 | U150: 0 | V150: =I150*0.1+L150*0.75+0.05*O150+0.05*R150+0.05*U150 -> 67.648432 | W150: 146 | X150: =VLOOKUP(F150,[5]Sheet8!$A$2:$C$171,3,0) -> 118 | Y150: 是 | Z150: 170
A151: 微电子学院（集成电路学院） | B151: 电子科学与技术 | C151: 2025 | D151: 电科251 | E151: 2537110006 | F151: 时翊宸 | G151: 84.17 | H151: 3 | I151: 87.17 | J151: 64.640777 | K151: 1 | L151: 65.640777 | M151: 69.275 | N151: 0 | O151: 69.275 | P151: 60 | Q151: 0 | R151: 60 | S151: 60 | T151: 1.5 | U151: 61.5 | V151: =I151*0.1+L151*0.75+0.05*O151+0.05*R151+0.05*U151 -> 67.486333 | W151: 147 | X151: =VLOOKUP(F151,[5]Sheet8!$A$2:$C$171,3,0) -> 163 | Y151: 是 | Z151: 170
A152: 微电子学院（集成电路学院） | B152: 电子科学与技术 | C152: 2025 | D152: 电科252 | E152: 2537110043 | F152: 孙涵 | G152: 84.67 | H152: 0 | I152: 84.67 | J152: 70.737864 | K152: 0 | L152: 70.737864 | M152: 58.45 | N152: 0 | O152: 58.45 | P152: 0 | Q152: 0 | R152: 0 | S152: 60 | T152: 0 | U152: 60 | V152: =I152*0.1+L152*0.75+0.05*O152+0.05*R152+0.05*U152 -> 67.442898 | W152: 148 | X152: =VLOOKUP(F152,[5]Sheet8!$A$2:$C$171,3,0) -> 141 | Y152: 是 | Z152: 170
A153: 微电子学院（集成电路学院） | B153: 电子科学与技术 | C153: 2025 | D153: 电科253 | E153: 2537110077 | F153: 张嘉路 | G153: 83.5 | H153: 0 | I153: 83.5 | J153: 68.970874 | K153: 0 | L153: 68.970874 | M153: 75.825 | N153: 1 | O153: 76.825 | P153: 0 | Q153: 0 | R153: 0 | S153: 48 | T153: 5 | U153: 53 | V153: =I153*0.1+L153*0.75+0.05*O153+0.05*R153+0.05*U153 -> 66.569405 | W153: 149 | X153: =VLOOKUP(F153,[5]Sheet8!$A$2:$C$171,3,0) -> 149 | Y153: 是 | Z153: 170
A154: 微电子学院（集成电路学院） | B154: 电子科学与技术 | C154: 2025 | D154: 电科254 | E154: 2537110105 | F154: 罗传乐 | G154: 84.5 | H154: 1 | I154: 85.5 | J154: 71.320388 | K154: 0 | L154: 71.320388 | M154: 64.9 | N154: 0 | O154: 64.9 | P154: 25 | Q154: 0 | R154: 25 | S154: 0 | T154: 0 | U154: 0 | V154: =I154*0.1+L154*0.75+0.05*O154+0.05*R154+0.05*U154 -> 66.535291 | W154: 150 | X154: =VLOOKUP(F154,[5]Sheet8!$A$2:$C$171,3,0) -> 138 | Y154: 是 | Z154: 170
... A174: 微电子学院（集成电路学院） | B174: 电子科学与技术 | C174: 2025 | D174: 电科251 | E174: 2437110087 | F174: 袁青涛 | G174: 81.17 | H174: -8 | I174: 73.17 | J174: 8.3495146 | K174: 0 | L174: 8.3495146 | M174: 68.975 | N174: 0 | O174: 68.975 | P174: 0 | Q174: 0 | R174: 0 | S174: 0 | T174: 0 | U174: 0 | V174: =I174*0.1+L174*0.75+0.05*O174+0.05*R174+0.05*U174 -> 17.027886 | W174: 170 | X174: =VLOOKUP(F174,[5]Sheet8!$A$2:$C$171,3,0) -> 170 | Y174: 是 | Z174: 170
A175: 填表说明： | B175: 1.请勿变动表格格式。
B176: 2.专业、年级、班级、学号、姓名请采用教务信息系统中导出的个人基本信息，勿手工输入，避免产生错误。
B177: 3.德育成绩、智育成绩、体育成绩为百分制。
B178: 4.综合测评排名符合优秀学生奖学金评比条件，但因“德育分未达标”、“课程考核不合格”或者“体育成绩不合格”等不符合者请在“奖学金等级”一栏进行标注。
...
