Workbook

Sheet 集23
A1: 微电子学院（集成电路学院）集成电路设计与集成系统专业2023年级综合测评排名表
A2: 学院：微电子学院（集成电路学院） | C2: 盖章： | Q2: 学院分管学生工作领导签名：
A3: 学院 | B3: 专业年级 | C3: 专业年 级人数 | D3: 班级 | E3: 学号 | F3: 姓名 | G3: 德育 考评分 | H3: 德育 加减分 | I3: 德育 成绩 | J3: 智育 考试分 | K3: 智育 加减分 | L3: 智育 成绩 | M3: 体育 测评分 | N3: 体育 加减分 | O3: 体育 成绩 | P3: 综合 测评分 | Q3: 综合测评排名 | R3: 学习成绩排名 | S3: 是否有不及格 | T3: 奖学金 等级 | U3: 单项 奖学金 | V3: 荣誉称号 | W3: 学生签名
A4: 微电子学院（集成电路学院) | B4: 集成电路设计与集成系统 | C4: 109 | D4: 集231 | E4: 2330110248 | F4: 曲子研 | G4: 92 | H4: 3 | I4: =G4+H4 -> 95 | J4: 90.91 | K4: 11.75 | L4: 100 | M4: 88.3 | O4: =M4+N4 -> 88.3 | P4: =I4*0.15+L4*0.75+O4*0.1 -> 98.08 | Q4: 1 | R4: =VLOOKUP(F4,[1]Sheet12!A$2:C$110,3,0) -> 2 | S4: 否 | T4: 一等奖学金 | V4: 三好学生标兵
A5: 微电子学院（集成电路学院) | B5: 集成电路设计与集成系统 | C5: 109 | D5: 集232 | E5: 2330110286 | F5: 杨武溢 | G5: 92 | H5: 4.25 | I5: =SUM(G5,H5) -> 96.25 | J5: 90.728395 | K5: 10.5 | L5: 100 | M5: 81.6 | O5: 81.6 | P5: =I5*0.15+L5*0.75+O5*0.1 -> 97.5975 | Q5: 2 | R5: =VLOOKUP(F5,[1]Sheet12!A$2:C$110,3,0) -> 3 | S5: 否 | T5: 一等奖学金 | V5: 三好学生
A6: 微电子学院（集成电路学院) | B6: 集成电路设计与集成系统 | C6: 109 | D6: 集233 | E6: 2330110292 | F6: 荣蓉 | G6: 92 | H6: 10 | I6: 100 | J6: =VLOOKUP(F6,[2]导出计数_姓名!A$2:E$31,5,0) -> 90.48 | K6: 11.5 | L6: 100 | M6: =VLOOKUP(F6,[2]导出计数_姓名!A$2:G$31,7,0) -> 74.3 | O6: =M6+N6 -> 74.3 | P6: =I6*0.15+L6*0.75+O6*0.1 -> 97.43 | Q6: 3 | R6: =VLOOKUP(F6,[1]Sheet12!A$2:C$110,3,0) -> 4 | S6: 否 | T6: 一等奖学金 | V6: 优秀学生干部
A7: 微电子学院（集成电路学院) | B7: 集成电路设计与集成系统 | C7: 109 | D7: 集234 | E7: 2330110317 | F7: 邱苗苗 | G7: 92 | H7: 6 | I7: =G7+H7 -> 98 | J7: 89.34 | K7: 6.56 | L7: =J7+K7 -> 95.9 | M7: 76.4 | O7: 76.4 | P7: =I7*0.15+L7*0.75+O7*0.1 -> 94.265 | Q7: 4 | R7: =VLOOKUP(F7,[1]Sheet12!A$2:C$110,3,0) -> 8 | S7: 否 | T7: 一等奖学金 | V7: 三好学生
A8: 微电子学院（集成电路学院) | B8: 集成电路设计与集成系统 | C8: 109 | D8: 集231 | E8: 2330110235 | F8: 李诗雅 | G8: 92 | H8: 2 | I8: =G8+H8 -> 94 | J8: 90.98 | L8: =J8+K8 -> 90.98 | M8: 77.8 | O8: =M8+N8 -> 77.8 | P8: =I8*0.15+L8*0.75+O8*0.1 -> 90.115 | Q8: 5 | R8: =VLOOKUP(F8,[1]Sheet12!A$2:C$110,3,0) -> 1 | S8: 否 | T8: 一等奖学金 | V8: 三好学生标兵
A9: 微电子学院（集成电路学院) | B9: 集成电路设计与集成系统 | C9: 109 | D9: 集232 | E9: 2330110264 | F9: 王奕瑶 | G9: 92 | I9: =SUM(G9,H9) -> 92 | J9: 89.518519 | K9: 1.45 | L9: =SUM(J9:K9) -> 90.968519 | M9: 80 | O9: 80 | P9: =I9*0.15+L9*0.75+O9*0.1 -> 90.026389 | Q9: 6 | R9: =VLOOKUP(F9,[1]Sheet12!A$2:C$110,3,0) -> 6 | S9: 否 | T9: 二等奖学金 | V9: 三好学生
A10: 微电子学院（集成电路学院) | B10: 集成电路设计与集成系统 | C10: 109 | D10: 集231 | E10: 2333110043 | F10: 周璇 | G10: 92 | H10: 6.25 | I10: =G10+H10 -> 98.25 | J10: 87.69 | K10: 1.2 | L10: =J10+K10 -> 88.89 | M10: 82.8 | O10: =M10+N10 -> 82.8 | P10: =I10*0.15+L10*0.75+O10*0.1 -> 89.685 | Q10: 7 | R10: =VLOOKUP(F10,[1]Sheet12!A$2:C$110,3,0) -> 12 | S10: 否 | T10: 二等奖学金
A11: 微电子学院（集成电路学院) | B11: 集成电路设计与集成系统 | C11: 109 | D11: 集234 | E11: 2330110319 | F11: 岳诺言 | G11: 92 | H11: 0.95 | I11: =G11+H11 -> 92.95 | J11: 89.98 | L11: =J11+K11 -> 89.98 | M11: 80.5 | O11: 80.5 | P11: =I11*0.15+L11*0.75+O11*0.1 -> 89.4775 | Q11: 8 | R11: =VLOOKUP(F11,[1]Sheet12!A$2:C$110,3,0) -> 5 | S11: 否 | T11: 二等奖学金 | V11: 三好学生
A12: 微电子学院（集成电路学院) | B12: 集成电路设计与集成系统 | C12: 109 | D12: 集231 | E12: 2330110239 | F12: 朱静茹 | G12: 92 | H12: 1.25 | I12: =G12+H12 -> 93.25 | J12: 87.95 | K12: 1.2 | L12: =J12+K12 -> 89.15 | M12: 76.7 | O12: =M12+N12 -> 76.7 | P12: =I12*0.15+L12*0.75+O12*0.1 -> 88.52 | Q12: 9 | R12: =VLOOKUP(F12,[1]Sheet12!A$2:C$110,3,0) -> 10 | S12: 否 | T12: 二等奖学金 | V12: 三好学生
A13: 微电子学院（集成电路学院) | B13: 集成电路设计与集成系统 | C13: 109 | D13: 集232 | E13: 2330110270 | F13: 胡国际 | G13: 92 | H13: 2 | I13: =SUM(G13,H13) -> 94 | J13: 89.419753 | L13: =SUM(J13:K13) -> 89.419753 | M13: 70.8 | O13: 70.8 | P13: =I13*0.15+L13*0.75+O13*0.1 -> 88.244815 | Q13: 10 | R13: =VLOOKUP(F13,[1]Sheet12!A$2:C$110,3,0) -> 7 | S13: 否 | T13: 二等奖学金 | V13: 优秀学生干部
A14: 微电子学院（集成电路学院) | B14: 集成电路设计与集成系统 | C14: 109 | D14: 集231 | E14: 2330110254 | F14: 徐超 | G14: 92 | H14: 0.75 | I14: =G14+H14 -> 92.75 | J14: 86.28 | K14: 1.75 | L14: =J14+K14 -> 88.03 | M14: 82.15 | O14: =M14+N14 -> 82.15 | P14: =I14*0.15+L14*0.75+O14*0.1 -> 88.15 | Q14: 11 | R14: =VLOOKUP(F14,[1]Sheet12!A$2:C$110,3,0) -> 18 | S14: 否 | T14: 二等奖学金
A15: 微电子学院（集成电路学院) | B15: 集成电路设计与集成系统 | C15: 109 | D15: 集234 | E15: 2330110318 | F15: 吴婷 | G15: 92 | H15: 4.45 | I15: =G15+H15 -> 96.45 | J15: 88.56 | L15: =J15+K15 -> 88.56 | M15: 68.1 | O15: 68.1 | P15: =I15*0.15+L15*0.75+O15*0.1 -> 87.6975 | Q15: 12 | R15: =VLOOKUP(F15,[1]Sheet12!A$2:C$110,3,0) -> 9 | S15: 否 | T15: 二等奖学金 | U15: 社会工作奖 | V15: 优秀学生干部
A16: 微电子学院（集成电路学院) | B16: 集成电路设计与集成系统 | C16: 109 | D16: 集233 | E16: 2330110290 | F16: 龚梦琪 | G16: 92 | H16: 3.5 | I16: =G16+H16 -> 95.5 | J16: =VLOOKUP(F16,[2]导出计数_姓名!A$2:E$31,5,0) -> 87.8 | K16: 0.125 | L16: =J16+K16 -> 87.925 | M16: =VLOOKUP(F16,[2]导出计数_姓名!A$2:G$31,7,0) -> 70.7 | O16: =M16+N16 -> 70.7 | P16: =I16*0.15+L16*0.75+O16*0.1 -> 87.33875 | Q16: 13 | R16: =VLOOKUP(F16,[1]Sheet12!A$2:C$110,3,0) -> 11 | S16: 否 | T16: 二等奖学金
A17: 微电子学院（集成电路学院) | B17: 集成电路设计与集成系统 | C17: 109 | D17: 集233 | E17: 2330110315 | F17: 张晓东 | G17: 92 | H17: 3 | I17: =G17+H17 -> 95 | J17: =VLOOKUP(F17,[2]导出计数_姓名!A$2:E$31,5,0) -> 83.79 | K17: 2.3125 | L17: =J17+K17 -> 86.1025 | M17: =VLOOKUP(F17,[2]导出计数_姓名!A$2:G$31,7,0) -> 81 | O17: =M17+N17 -> 81 | P17: =I17*0.15+L17*0.75+O17*0.1 -> 86.926875 | Q17: 14 | R17: =VLOOKUP(F17,[1]Sheet12!A$2:C$110,3,0) -> 27 | S17: 否 | T17: 二等奖学金
A18: 微电子学院（集成电路学院) | B18: 集成电路设计与集成系统 | C18: 109 | D18: 集231 | E18: 2330110236 | F18: 钱雯婕 | G18: 92 | H18: 1.5 | I18: =G18+H18 -> 93.5 | J18: 86.67 | L18: =J18+K18 -> 86.67 | M18: 78.3 | O18: =M18+N18 -> 78.3 | P18: =I18*0.15+L18*0.75+O18*0.1 -> 86.8575 | Q18: 15 | R18: =VLOOKUP(F18,[1]Sheet12!A$2:C$110,3,0) -> 15 | S18: 否 | T18: 二等奖学金
A19: 微电子学院（集成电路学院) | B19: 集成电路设计与集成系统 | C19: 109 | D19: 集233 | E19: 2330110302 | F19: 刘军 | G19: 92 | H19: 1.25 | I19: =G19+H19 -> 93.25 | J19: =VLOOKUP(F19,[2]导出计数_姓名!A$2:E$31,5,0) -> 86.3 | L19: =J19+K19 -> 86.3 | M19: =VLOOKUP(F19,[2]导出计数_姓名!A$2:G$31,7,0) -> 79.8 | O19: =M19+N19 -> 79.8 | P19: =I19*0.15+L19*0.75+O19*0.1 -> 86.6925 | Q19: 16 | R19: =VLOOKUP(F19,[1]Sheet12!A$2:C$110,3,0) -> 17 | S19: 否 | T19: 二等奖学金
A20: 微电子学院（集成电路学院) | B20: 集成电路设计与集成系统 | C20: 109 | D20: 集232 | E20: 2330110273 | F20: 李奕琨 | G20: 92 | H20: 1.25 | I20: =SUM(G20,H20) -> 93.25 | J20: 82.444444 | K20: 6.2 | L20: =SUM(J20:K20) -> 88.644444 | M20: 53.2 | O20: 60 | P20: =I20*0.15+L20*0.75+O20*0.1 -> 86.470833 | Q20: 17 | R20: =VLOOKUP(F20,[1]Sheet12!A$2:C$110,3,0) -> 37 | S20: 否 | T20: 三等奖学金
A21: 微电子学院（集成电路学院) | B21: 集成电路设计与集成系统 | C21: 109 | D21: 集232 | E21: 2330110262 | F21: 邓蒨蒨 | G21: 92 | H21: 1.8 | I21: =SUM(G21,H21) -> 93.8 | J21: 84.876543 | K21: 1.2 | L21: =SUM(J21:K21) -> 86.076543 | M21: 76.2 | O21: 76.2 | P21: =I21*0.15+L21*0.75+O21*0.1 -> 86.247407 | Q21: 18 | R21: =VLOOKUP(F21,[1]Sheet12!A$2:C$110,3,0) -> 19 | S21: 否 | T21: 三等奖学金
A22: 微电子学院（集成电路学院) | B22: 集成电路设计与集成系统 | C22: 109 | D22: 集232 | E22: 2330110263 | F22: 钱美琪 | G22: 92 | I22: =SUM(G22,H22) -> 92 | J22: 87.234568 | L22: =SUM(J22:K22) -> 87.234568 | M22: 69.3 | O22: 69.3 | P22: =I22*0.15+L22*0.75+O22*0.1 -> 86.155926 | Q22: 19 | R22: =VLOOKUP(F22,[1]Sheet12!A$2:C$110,3,0) -> 13 | S22: 否 | T22: 三等奖学金
A23: 微电子学院（集成电路学院) | B23: 集成电路设计与集成系统 | C23: 109 | D23: 集232 | E23: 2330110284 | F23: 王子超 | G23: 92 | I23: =SUM(G23,H23) -> 92 | J23: 86.419753 | L23: =SUM(J23:K23) -> 86.419753 | M23: 66.7 | O23: 66.7 | P23: =I23*0.15+L23*0.75+O23*0.1 -> 85.284815 | Q23: 20 | R23: =VLOOKUP(F23,[1]Sheet12!A$2:C$110,3,0) -> 16 | S23: 否 | T23: 三等奖学金
A24: 微电子学院（集成电路学院) | B24: 集成电路设计与集成系统 | C24: 109 | D24: 集232 | E24: 2330110283 | F24: 汪涵 | G24: 92 | I24: =SUM(G24,H24) -> 92 | J24: 86.851852 | L24: =SUM(J24:K24) -> 86.851852 | M24: 63.2 | O24: 63.2 | P24: =I24*0.15+L24*0.75+O24*0.1 -> 85.258889 | Q24: 21 | R24: =VLOOKUP(F24,[1]Sheet12!A$2:C$110,3,0) -> 14 | S24: 否 | T24: 三等奖学金
A25: 微电子学院（集成电路学院) | B25: 集成电路设计与集成系统 | C25: 109 | D25: 集233 | E25: 2330110289 | F25: 付妍雪 | G25: 92 | H25: 5.5 | I25: =G25+H25 -> 97.5 | J25: =VLOOKUP(F25,[2]导出计数_姓名!A$2:E$31,5,0) -> 84.21 | L25: =J25+K25 -> 84.21 | M25: =VLOOKUP(F25,[2]导出计数_姓名!A$2:G$31,7,0) -> 74.2 | O25: =M25+N25 -> 74.2 | P25: =I25*0.15+L25*0.75+O25*0.1 -> 85.2025 | Q25: 22 | R25: =VLOOKUP(F25,[1]Sheet12!A$2:C$110,3,0) -> 22 | S25: 否 | T25: 三等奖学金
A26: 微电子学院（集成电路学院) | B26: 集成电路设计与集成系统 | C26: 109 | D26: 集233 | E26: 2330110293 | F26: 汪贝贝 | G26: 92 | H26: 2.25 | I26: =G26+H26 -> 94.25 | J26: =VLOOKUP(F26,[2]导出计数_姓名!A$2:E$31,5,0) -> 84.4 | K26: 0.5 | L26: =J26+K26 -> 84.9 | M26: =VLOOKUP(F26,[2]导出计数_姓名!A$2:G$31,7,0) -> 72.55 | O26: =M26+N26 -> 72.55 | P26: =I26*0.15+L26*0.75+O26*0.1 -> 85.0675 | Q26: 23 | R26: =VLOOKUP(F26,[1]Sheet12!A$2:C$110,3,0) -> 21 | S26: 否 | T26: 三等奖学金
A27: 微电子学院（集成电路学院) | B27: 集成电路设计与集成系统 | C27: 109 | D27: 集234 | E27: 2330110340 | F27: 张卫 | G27: 92 | H27: 1.5 | I27: =G27+H27 -> 93.5 | J27: 83.89 | K27: 1.2 | L27: =J27+K27 -> 85.09 | M27: 67.75 | O27: 67.75 | P27: =I27*0.15+L27*0.75+O27*0.1 -> 84.6175 | Q27: 24 | R27: =VLOOKUP(F27,[1]Sheet12!A$2:C$110,3,0) -> 26 | S27: 否 | T27: 三等奖学金
A28: 微电子学院（集成电路学院) | B28: 集成电路设计与集成系统 | C28: 109 | D28: 集233 | E28: 2330110291 | F28: 刘雁昕 | G28: 92 | H28: 1.5 | I28: =G28+H28 -> 93.5 | J28: =VLOOKUP(F28,[2]导出计数_姓名!A$2:E$31,5,0) -> 84.11 | L28: =J28+K28 -> 84.11 | M28: =VLOOKUP(F28,[2]导出计数_姓名!A$2:G$31,7,0) -> 71.75 | O28: =M28+N28 -> 71.75 | P28: =I28*0.15+L28*0.75+O28*0.1 -> 84.2825 | Q28: 25 | R28: =VLOOKUP(F28,[1]Sheet12!A$2:C$110,3,0) -> 24 | S28: 否 | T28: 三等奖学金
A29: 微电子学院（集成电路学院) | B29: 集成电路设计与集成系统 | C29: 109 | D29: 集234 | E29: 2330110323 | F29: 后琪琪 | G29: 92 | H29: 1.25 | I29: =G29+H29 -> 93.25 | J29: 80.38 | K29: 1.2 | L29: =J29+K29 -> 81.58 | M29: 90.4 | O29: 90.4 | P29: =I29*0.15+L29*0.75+O29*0.1 -> 84.2125 | Q29: 26 | R29: =VLOOKUP(F29,[1]Sheet12!A$2:C$110,3,0) -> 53 | S29: 否 | T29: 三等奖学金
A30: 微电子学院（集成电路学院) | B30: 集成电路设计与集成系统 | C30: 109 | D30: 集234 | E30: 2233110373 | F30: 王培志 | G30: 92 | H30: 1.75 | I30: =G30+H30 -> 93.75 | J30: 83 | L30: =J30+K30 -> 83 | M30: 78.7 | O30: 78.7 | P30: =I30*0.15+L30*0.75+O30*0.1 -> 84.1825 | Q30: 27 | R30: =VLOOKUP(F30,[1]Sheet12!A$2:C$110,3,0) -> 34 | S30: 否 | T30: 三等奖学金
A31: 微电子学院（集成电路学院) | B31: 集成电路设计与集成系统 | C31: 109 | D31: 集233 | E31: 2310110347 | F31: 徐子睿 | G31: 92 | H31: 1.5 | I31: =G31+H31 -> 93.5 | J31: =VLOOKUP(F31,[2]导出计数_姓名!A$2:E$31,5,0) -> 81.59 | K31: 1.2 | L31: =J31+K31 -> 82.79 | M31: =VLOOKUP(F31,[2]导出计数_姓名!A$2:G$31,7,0) -> 80.5 | O31: =M31+N31 -> 80.5 | P31: =I31*0.15+L31*0.75+O31*0.1 -> 84.1675 | Q31: 28 | R31: =VLOOKUP(F31,[1]Sheet12!A$2:C$110,3,0) -> 42 | S31: 否 | T31: 三等奖学金
A32: 微电子学院（集成电路学院) | B32: 集成电路设计与集成系统 | C32: 109 | D32: 集233 | E32: 2330110309 | F32: 王铮浩 | G32: 92 | H32: 0.75 | I32: =G32+H32 -> 92.75 | J32: =VLOOKUP(F32,[2]导出计数_姓名!A$2:E$31,5,0) -> 84.63 | L32: =J32+K32 -> 84.63 | M32: =VLOOKUP(F32,[2]导出计数_姓名!A$2:G$31,7,0) -> 67.3 | O32: =M32+N32 -> 67.3 | P32: =I32*0.15+L32*0.75+O32*0.1 -> 84.115 | Q32: 29 | R32: =VLOOKUP(F32,[1]Sheet12!A$2:C$110,3,0) -> 20 | S32: 否 | T32: 三等奖学金
A33: 微电子学院（集成电路学院) | B33: 集成电路设计与集成系统 | C33: 109 | D33: 集231 | E33: 2330110243 | F33: 黄浩 | G33: 92 | H33: 3 | I33: =G33+H33 -> 95 | J33: 83.7 | L33: =J33+K33 -> 83.7 | M33: 70.2 | O33: =M33+N33 -> 70.2 | P33: =I33*0.15+L33*0.75+O33*0.1 -> 84.045 | Q33: 30 | R33: =VLOOKUP(F33,[1]Sheet12!A$2:C$110,3,0) -> 29 | S33: 否 | T33: 三等奖学金
A34: 微电子学院（集成电路学院) | B34: 集成电路设计与集成系统 | C34: 109 | D34: 集234 | E34: 2330110334 | F34: 徐志超 | G34: 92 | H34: 0.75 | I34: =G34+H34 -> 92.75 | J34: 83.73 | L34: =J34+K34 -> 83.73 | M34: 72.9 | O34: 72.9 | P34: =I34*0.15+L34*0.75+O34*0.1 -> 84 | Q34: 31 | R34: =VLOOKUP(F34,[1]Sheet12!A$2:C$110,3,0) -> 28 | S34: 否 | T34: 三等奖学金
A35: 微电子学院（集成电路学院) | B35: 集成电路设计与集成系统 | C35: 109 | D35: 集231 | E35: 2330110237 | F35: 任蕊 | G35: 92 | H35: 2 | I35: =G35+H35 -> 94 | J35: 84.15 | L35: =J35+K35 -> 84.15 | M35: 66.55 | O35: =M35+N35 -> 66.55 | P35: =I35*0.15+L35*0.75+O35*0.1 -> 83.8675 | Q35: 32 | R35: =VLOOKUP(F35,[1]Sheet12!A$2:C$110,3,0) -> 23 | S35: 否 | T35: 三等奖学金
A36: 微电子学院（集成电路学院) | B36: 集成电路设计与集成系统 | C36: 109 | D36: 集231 | E36: 2330110246 | F36: 李宇翔 | G36: 92 | H36: 1.5 | I36: =G36+H36 -> 93.5 | J36: 84.09 | L36: =J36+K36 -> 84.09 | M36: 67.7 | O36: =M36+N36 -> 67.7 | P36: =I36*0.15+L36*0.75+O36*0.1 -> 83.8625 | Q36: 33 | R36: =VLOOKUP(F36,[1]Sheet12!A$2:C$110,3,0) -> 25 | S36: 否 | T36: 三等奖学金
A37: 微电子学院（集成电路学院) | B37: 集成电路设计与集成系统 | C37: 109 | D37: 集231 | E37: 2330110249 | F37: 宋瑞杰 | G37: 92 | H37: 1.25 | I37: =G37+H37 -> 93.25 | J37: 83.4 | L37: =J37+K37 -> 83.4 | M37: 71 | O37: =M37+N37 -> 71 | P37: =I37*0.15+L37*0.75+O37*0.1 -> 83.6375 | Q37: 34 | R37: =VLOOKUP(F37,[1]Sheet12!A$2:C$110,3,0) -> 33 | S37: 否 | T37: 三等奖学金
A38: 微电子学院（集成电路学院) | B38: 集成电路设计与集成系统 | C38: 109 | D38: 集232 | E38: 2330110278 | F38: 孙源 | G38: 92 | H38: 0.5 | I38: =SUM(G38,H38) -> 92.5 | J38: 82.641975 | K38: 1.5 | L38: =SUM(J38:K38) -> 84.141975 | M38: 63 | O38: 63 | P38: =I38*0.15+L38*0.75+O38*0.1 -> 83.281481 | Q38: 35 | R38: =VLOOKUP(F38,[1]Sheet12!A$2:C$110,3,0) -> 35 | S38: 否 | T38: 三等奖学金
A39: 微电子学院（集成电路学院) | B39: 集成电路设计与集成系统 | C39: 109 | D39: 集233 | E39: 2330110300 | F39: 匡筱曦 | G39: 92 | H39: 0.75 | I39: =G39+H39 -> 92.75 | J39: =VLOOKUP(F39,[2]导出计数_姓名!A$2:E$31,5,0) -> 83.48 | L39: =J39+K39 -> 83.48 | M39: =VLOOKUP(F39,[2]导出计数_姓名!A$2:G$31,7,0) -> 63.8 | O39: =M39+N39 -> 63.8 | P39: =I39*0.15+L39*0.75+O39*0.1 -> 82.9025 | Q39: 36 | R39: =VLOOKUP(F39,[1]Sheet12!A$2:C$110,3,0) -> 32 | S39: 否 | T39: 三等奖学金
A40: 微电子学院（集成电路学院) | B40: 集成电路设计与集成系统 | C40: 109 | D40: 集234 | E40: 2330110320 | F40: 张盼盼 | G40: 92 | H40: 0.75 | I40: =G40+H40 -> 92.75 | J40: 81.72 | L40: =J40+K40 -> 81.72 | M40: 76.1 | O40: 76.1 | P40: =I40*0.15+L40*0.75+O40*0.1 -> 82.8125 | Q40: 37 | R40: =VLOOKUP(F40,[1]Sheet12!A$2:C$110,3,0) -> 41 | S40: 否 | T40: 三等奖学金
...

Sheet 电子科学23
A1: 微电子学院（集成电路学院）电子科学与技术专业2023年级综合测评排名表
A2: 学院: 微电子学院（集成电路学院） | C2: 盖章： | Q2: 学院分管学生工作领导签名：
A3: 学院 | B3: 专业年级 | C3: 专业年 级人数 | D3: 班级 | E3: 学号 | F3: 姓名 | G3: 德育 考评分 | H3: 德育 加减分 | I3: 德育 成绩 | J3: 智育 考试分 | K3: 智育 加减分 | L3: 智育 成绩 | M3: 体育 测评分 | N3: 体育 加减分 | O3: 体育 成绩 | P3: 综合 测评分 | Q3: 综合测评排名 | R3: 学习成绩排名 | S3: 是否有不及格 | T3: 奖学金 等级 | U3: 单项 奖学金 | V3: 荣誉称号 | W3: 学生签名
A4: 微电子学院（集成电路学院) | B4: 电子科学与技术 | C4: 120 | D4: 电子科学232 | E4: 2330110035 | F4: 王白羽 | G4: 92 | H4: 8.05 | I4: 100 | J4: 88.71 | K4: 13.625 | L4: 100 | M4: 81.4 | O4: 81.4 | P4: =I4*15%+L4*75%+O4*10% -> 98.14 | Q4: 1 | R4: 11 | S4: 否 | T4: 一等奖学金 | V4: 优秀学生干部
A5: 微电子学院（集成电路学院) | B5: 电子科学与技术 | C5: 120 | D5: 电子科学234 | E5: 2330110089 | F5: 冯心莲 | G5: 92 | H5: 0.75 | I5: =G5+H5 -> 92.75 | J5: 91.681818 | K5: 10.25 | L5: 100 | M5: 84.65 | O5: 84.65 | P5: =I5*15%+L5*75%+O5*10% -> 97.3775 | Q5: 2 | R5: 2 | S5: 否 | T5: 一等奖学金 | V5: 三好学生标兵
A6: 微电子学院（集成电路学院) | B6: 电子科学与技术 | C6: 120 | D6: 电子科学232 | E6: 2330110050 | F6: 肖子晔 | G6: 92 | H6: 3.75 | I6: =G6+H6 -> 95.75 | J6: 92.12 | K6: 11.4 | L6: 100 | M6: 70.9 | O6: 70.9 | P6: =I6*15%+L6*75%+O6*10% -> 96.4525 | Q6: 3 | R6: 1 | S6: 否 | T6: 一等奖学金 | V6: 三好学生标兵
A7: 微电子学院（集成电路学院) | B7: 电子科学与技术 | C7: 120 | D7: 电子科学232 | E7: 2330110045 | F7: 林琛皓 | G7: 92 | H7: 4 | I7: =G7+H7 -> 96 | J7: 89.05 | K7: 12.5 | L7: 100 | M7: 68.2 | O7: 68.2 | P7: =I7*15%+L7*75%+O7*10% -> 96.22 | Q7: 4 | R7: 9 | S7: 否 | T7: 一等奖学金 | V7: 三好学生
A8: 微电子学院（集成电路学院) | B8: 电子科学与技术 | C8: 120 | D8: 电子科学232 | E8: 2310110166 | F8: 张煜昕 | G8: 92 | H8: 5.5 | I8: =G8+H8 -> 97.5 | J8: 91.29 | K8: 5.25 | L8: =J8+K8 -> 96.54 | M8: 80.15 | O8: 80.15 | P8: =I8*15%+L8*75%+O8*10% -> 95.045 | Q8: 5 | R8: 3 | S8: 否 | T8: 一等奖学金 | V8: 三好学生
A9: 微电子学院（集成电路学院) | B9: 电子科学与技术 | C9: 120 | D9: 电子科学234 | E9: 2330110090 | F9: 郭依涵 | G9: 92 | H9: 4.625 | I9: =G9+H9 -> 96.625 | J9: 89.886364 | K9: 6.2 | L9: =J9+K9 -> 96.086364 | M9: 77.7 | O9: 77.7 | P9: =I9*15%+L9*75%+O9*10% -> 94.328523 | Q9: 6 | R9: 5 | S9: 否 | T9: 一等奖学金 | V9: 三好学生
A10: 微电子学院（集成电路学院) | B10: 电子科学与技术 | C10: 120 | D10: 电子科学231 | E10: 2330110024 | F10: 郑治文 | G10: 92 | H10: 2 | I10: =G10+H10 -> 94 | J10: 89.607143 | K10: =4.475+1.2 -> 5.675 | L10: =J10+K10 -> 95.282143 | M10: 66.85 | O10: =M10 -> 66.85 | P10: =I10*15%+L10*75%+O10*10% -> 92.246607 | Q10: 7 | R10: 6 | S10: 否 | T10: 二等奖学金 | V10: 三好学生
A11: 微电子学院（集成电路学院) | B11: 电子科学与技术 | C11: 120 | D11: 电子科学234 | E11: 2330110088 | F11: 陈舒婷 | G11: 92 | H11: 3.25 | I11: =G11+H11 -> 95.25 | J11: 88.386364 | K11: 5 | L11: =J11+K11 -> 93.386364 | M11: 77.75 | O11: 77.75 | P11: =I11*15%+L11*75%+O11*10% -> 92.102273 | Q11: 8 | R11: 12 | S11: 否 | T11: 二等奖学金 | V11: 三好学生
A12: 微电子学院（集成电路学院) | B12: 电子科学与技术 | C12: 120 | D12: 电子科学233 | E12: 2330110063 | F12: 唐娜 | G12: 92 | H12: 2.75 | I12: =G12+H12 -> 94.75 | J12: 90.5 | K12: 1.2 | L12: =J12+K12 -> 91.7 | M12: 87.5 | O12: 87.5 | P12: =I12*15%+L12*75%+O12*10% -> 91.7375 | Q12: 9 | R12: 4 | S12: 否 | T12: 二等奖学金 | V12: 三好学生
A13: 微电子学院（集成电路学院) | B13: 电子科学与技术 | C13: 120 | D13: 电子科学233 | E13: 2330110076 | F13: 宋朝 | G13: 92 | H13: 1.5 | I13: =G13+H13 -> 93.5 | J13: 88.965909 | K13: 1.695 | L13: =J13+K13 -> 90.660909 | M13: 76.1 | O13: 76.1 | P13: =I13*15%+L13*75%+O13*10% -> 89.630682 | Q13: 10 | R13: 10 | S13: 否 | T13: 二等奖学金 | V13: 三好学生
A14: 微电子学院（集成电路学院) | B14: 电子科学与技术 | C14: 120 | D14: 电子科学231 | E14: 2330110006 | F14: 杨明 | G14: 92 | H14: =0.75 -> 0.75 | I14: =G14+H14 -> 92.75 | J14: 89.488095 | K14: 0.9 | L14: =J14+K14 -> 90.388095 | M14: 78.55 | O14: =M14 -> 78.55 | P14: =I14*15%+L14*75%+O14*10% -> 89.558571 | Q14: 11 | R14: 7 | S14: 否 | T14: 二等奖学金 | V14: 三好学生
A15: 微电子学院（集成电路学院) | B15: 电子科学与技术 | C15: 120 | D15: 电子科学232 | E15: 2330110043 | F15: 李俊贤 | G15: 92 | H15: 6.5 | I15: =G15+H15 -> 98.5 | J15: 81.7 | K15: 8.15 | L15: =J15+K15 -> 89.85 | M15: 70.35 | O15: 70.35 | P15: =I15*15%+L15*75%+O15*10% -> 89.1975 | Q15: 12 | R15: 40 | S15: 否 | T15: 二等奖学金 | U15: 社会工作奖
A16: 微电子学院（集成电路学院) | B16: 电子科学与技术 | C16: 120 | D16: 电子科学234 | E16: 2234110303 | F16: 徐良玉 | G16: 92 | H16: 4.5 | I16: =G16+H16 -> 96.5 | J16: 85.272727 | K16: 5 | L16: =J16+K16 -> 90.272727 | M16: 67.2 | O16: 67.2 | P16: =I16*15%+L16*75%+O16*10% -> 88.899545 | Q16: 13 | R16: 23 | S16: 否 | T16: 二等奖学金
A17: 微电子学院（集成电路学院) | B17: 电子科学与技术 | C17: 120 | D17: 电子科学231 | E17: 2215110122 | F17: 崔晨阳 | G17: 92 | H17: 4 | I17: =G17+H17 -> 96 | J17: 87.452381 | K17: 2 | L17: =J17+K17 -> 89.452381 | M17: 68.4 | O17: =M17 -> 68.4 | P17: =I17*15%+L17*75%+O17*10% -> 88.329286 | Q17: 14 | R17: 14 | S17: 否 | T17: 二等奖学金
A18: 微电子学院（集成电路学院) | B18: 电子科学与技术 | C18: 120 | D18: 电子科学232 | E18: 2330110044 | F18: 李双 | G18: 92 | I18: =G18+H18 -> 92 | J18: 89.29 | K18: 1.2 | L18: =J18+K18 -> 90.49 | M18: 60 | O18: 60 | P18: =I18*15%+L18*75%+O18*10% -> 87.6675 | Q18: 15 | R18: 8 | S18: 否 | T18: 二等奖学金 | V18: 三好学生
A19: 微电子学院（集成电路学院) | B19: 电子科学与技术 | C19: 120 | D19: 电子科学233 | E19: 2330110060 | F19: 贺然 | G19: 92 | I19: =G19+H19 -> 92 | J19: 87.352273 | K19: 1.2 | L19: =J19+K19 -> 88.552273 | M19: 73.6 | O19: 73.6 | P19: =I19*15%+L19*75%+O19*10% -> 87.574205 | Q19: 16 | R19: 15 | S19: 否 | T19: 二等奖学金
A20: 微电子学院（集成电路学院) | B20: 电子科学与技术 | C20: 120 | D20: 电子科学231 | E20: 2330110015 | F20: 黄晶 | G20: 92 | H20: =0.75 -> 0.75 | I20: =G20+H20 -> 92.75 | J20: 84.547619 | K20: 1.2 | L20: =J20+K20 -> 85.747619 | M20: 87.7 | O20: =M20 -> 87.7 | P20: =I20*15%+L20*75%+O20*10% -> 86.993214 | Q20: 17 | R20: 25 | S20: 否 | T20: 二等奖学金
A21: 微电子学院（集成电路学院) | B21: 电子科学与技术 | C21: 120 | D21: 电子科学233 | E21: 2330110062 | F21: 李月 | G21: 92 | I21: =G21+H21 -> 92 | J21: 88.284091 | K21: 0.25 | L21: =J21+K21 -> 88.534091 | M21: 67.3 | O21: 67.3 | P21: =I21*15%+L21*75%+O21*10% -> 86.930568 | Q21: 18 | R21: 13 | S21: 否 | T21: 二等奖学金
A22: 微电子学院（集成电路学院) | B22: 电子科学与技术 | C22: 120 | D22: 电子科学231 | E22: 2330110012 | F22: 管嘉鑫 | G22: 92 | H22: =1.75 -> 1.75 | I22: =G22+H22 -> 93.75 | J22: 86.035714 | K22: 0.5 | L22: =J22+K22 -> 86.535714 | M22: 78.3 | O22: =M22 -> 78.3 | P22: =I22*15%+L22*75%+O22*10% -> 86.794286 | Q22: 19 | R22: 19 | S22: 否 | T22: 三等奖学金
A23: 微电子学院（集成电路学院) | B23: 电子科学与技术 | C23: 120 | D23: 电子科学233 | E23: 2330110081 | F23: 徐康 | G23: 92 | I23: =G23+H23 -> 92 | J23: 86.113636 | L23: =J23+K23 -> 86.113636 | M23: 75 | O23: 75 | P23: =I23*15%+L23*75%+O23*10% -> 85.885227 | Q23: 20 | R23: 17 | S23: 否 | T23: 三等奖学金
A24: 微电子学院（集成电路学院) | B24: 电子科学与技术 | C24: 120 | D24: 电子科学232 | E24: 2330110034 | F24: 史雅倩 | G24: 92 | I24: =G24+H24 -> 92 | J24: 84.38 | L24: =J24+K24 -> 84.38 | M24: 87.8 | O24: 87.8 | P24: =I24*15%+L24*75%+O24*10% -> 85.865 | Q24: 21 | R24: 28 | S24: 否 | T24: 三等奖学金
A25: 微电子学院（集成电路学院) | B25: 电子科学与技术 | C25: 120 | D25: 电子科学232 | E25: 2330110047 | F25: 时硕 | G25: 92 | I25: =G25+H25 -> 92 | J25: 84.64 | K25: 1.2 | L25: =J25+K25 -> 85.84 | M25: 76.55 | O25: 76.55 | P25: =I25*15%+L25*75%+O25*10% -> 85.835 | Q25: 22 | R25: 24 | S25: 否 | T25: 三等奖学金
A26: 微电子学院（集成电路学院) | B26: 电子科学与技术 | C26: 120 | D26: 电子科学231 | E26: 2330110011 | F26: 耿天睿 | G26: 92 | H26: 5.25 | I26: =G26+H26 -> 97.25 | J26: 85.642857 | K26: 1.2 | L26: =J26+K26 -> 86.842857 | M26: 56.15 | O26: =M26 -> 56.15 | P26: =I26*15%+L26*75%+O26*10% -> 85.334643 | Q26: 23 | R26: 21 | S26: 是 | T26: 体测成绩不合格
A27: 微电子学院（集成电路学院) | B27: 电子科学与技术 | C27: 120 | D27: 电子科学233 | E27: 2330110073 | F27: 鲁星宇 | G27: 92 | I27: =G27+H27 -> 92 | J27: 84.136364 | K27: 1.2 | L27: =J27+K27 -> 85.336364 | M27: 75.2 | O27: 75.2 | P27: =I27*15%+L27*75%+O27*10% -> 85.322273 | Q27: 24 | R27: 30 | S27: 否 | T27: 三等奖学金
A28: 微电子学院（集成电路学院) | B28: 电子科学与技术 | C28: 120 | D28: 电子科学233 | E28: 2330110064 | F28: 张婷婷 | G28: 92 | H28: 0.75 | I28: =G28+H28 -> 92.75 | J28: 85.579545 | L28: =J28+K28 -> 85.579545 | M28: 71.4 | O28: 71.4 | P28: =I28*15%+L28*75%+O28*10% -> 85.237159 | Q28: 25 | R28: 22 | S28: 否 | T28: 三等奖学金
A29: 微电子学院（集成电路学院) | B29: 电子科学与技术 | C29: 120 | D29: 电子科学233 | E29: 2330110077 | F29: 王淼 | G29: 92 | I29: =G29+H29 -> 92 | J29: 85.670455 | L29: =J29+K29 -> 85.670455 | M29: 71.2 | O29: 71.2 | P29: =I29*15%+L29*75%+O29*10% -> 85.172841 | Q29: 26 | R29: 20 | S29: 否 | T29: 三等奖学金
A30: 微电子学院（集成电路学院) | B30: 电子科学与技术 | C30: 120 | D30: 电子科学233 | E30: 2330110061 | F30: 金芷萱 | G30: 92 | I30: =G30+H30 -> 92 | J30: 86.170455 | L30: =J30+K30 -> 86.170455 | M30: 67.3 | O30: 67.3 | P30: =I30*15%+L30*75%+O30*10% -> 85.157841 | Q30: 27 | R30: 16 | S30: 否 | T30: 三等奖学金
A31: 微电子学院（集成电路学院) | B31: 电子科学与技术 | C31: 120 | D31: 电子科学233 | E31: 2330110059 | F31: 谷嘉 | G31: 92 | H31: 1 | I31: =G31+H31 -> 93 | J31: 83.420455 | K31: 1.2 | L31: =J31+K31 -> 84.620455 | M31: 75.8 | O31: 75.8 | P31: =I31*15%+L31*75%+O31*10% -> 84.995341 | Q31: 28 | R31: 34 | S31: 否 | T31: 三等奖学金
A32: 微电子学院（集成电路学院) | B32: 电子科学与技术 | C32: 120 | D32: 电子科学231 | E32: 2330110005 | F32: 熊静怡 | G32: 92 | H32: 1.25 | I32: =G32+H32 -> 93.25 | J32: 84.214286 | L32: =J32+K32 -> 84.214286 | M32: 76.7 | O32: =M32 -> 76.7 | P32: =I32*15%+L32*75%+O32*10% -> 84.818214 | Q32: 29 | R32: 29 | S32: 否 | T32: 三等奖学金
A33: 微电子学院（集成电路学院) | B33: 电子科学与技术 | C33: 120 | D33: 电子科学234 | E33: 2330110094 | F33: 陈盛 | G33: 92 | I33: =G33+H33 -> 92 | J33: 86.045455 | L33: =J33+K33 -> 86.045455 | M33: 64.8 | O33: 64.8 | P33: =I33*15%+L33*75%+O33*10% -> 84.814091 | Q33: 30 | R33: 18 | S33: 否 | T33: 三等奖学金
A34: 微电子学院（集成电路学院) | B34: 电子科学与技术 | C34: 120 | D34: 电子科学234 | E34: 2330110093 | F34: 吴培芳 | G34: 92 | I34: =G34+H34 -> 92 | J34: 82.965909 | K34: 1.2 | L34: =J34+K34 -> 84.165909 | M34: 76.7 | O34: 76.7 | P34: =I34*15%+L34*75%+O34*10% -> 84.594432 | Q34: 31 | R34: 37 | S34: 否 | T34: 三等奖学金
A35: 微电子学院（集成电路学院) | B35: 电子科学与技术 | C35: 120 | D35: 电子科学231 | E35: 2330110003 | F35: 李思熠 | G35: 92 | H35: =0.75+1.5 -> 2.25 | I35: =G35+H35 -> 94.25 | J35: 84.535714 | L35: =J35+K35 -> 84.535714 | M35: 66.65 | O35: =M35 -> 66.65 | P35: =I35*15%+L35*75%+O35*10% -> 84.204286 | Q35: 32 | R35: 26 | S35: 否 | T35: 三等奖学金
A36: 微电子学院（集成电路学院) | B36: 电子科学与技术 | C36: 120 | D36: 电子科学231 | E36: 2330110027 | F36: 周宇轩 | G36: 92 | H36: 1.5 | I36: =G36+H36 -> 93.5 | J36: 84.47619 | L36: =J36+K36 -> 84.47619 | M36: 66.5 | O36: =M36 -> 66.5 | P36: =I36*15%+L36*75%+O36*10% -> 84.032143 | Q36: 33 | R36: 27 | S36: 否 | T36: 三等奖学金
A37: 微电子学院（集成电路学院) | B37: 电子科学与技术 | C37: 120 | D37: 电子科学234 | E37: 2330110105 | F37: 祁瑞 | G37: 92 | I37: =G37+H37 -> 92 | J37: 83.522727 | L37: =J37+K37 -> 83.522727 | M37: 72.7 | O37: 72.7 | P37: =I37*15%+L37*75%+O37*10% -> 83.712045 | Q37: 34 | R37: 33 | S37: 否 | T37: 三等奖学金
A38: 微电子学院（集成电路学院) | B38: 电子科学与技术 | C38: 120 | D38: 电子科学231 | E38: 2215110232 | F38: 刘佳煜 | G38: 92 | H38: 8.25 | I38: 100 | J38: 82.440476 | K38: 1 | L38: =J38+K38 -> 83.440476 | M38: 60 | O38: =M38 -> 60 | P38: =I38*15%+L38*75%+O38*10% -> 83.580357 | Q38: 35 | R38: 39 | S38: 否 | T38: 三等奖学金
A39: 微电子学院（集成电路学院) | B39: 电子科学与技术 | C39: 120 | D39: 电子科学234 | E39: 2330110092 | F39: 童丽颖 | G39: 92 | I39: =G39+H39 -> 92 | J39: 82.977273 | L39: =J39+K39 -> 82.977273 | M39: 72.3 | O39: 72.3 | P39: =I39*15%+L39*75%+O39*10% -> 83.262955 | Q39: 36 | R39: 36 | S39: 否 | T39: 三等奖学金
A40: 微电子学院（集成电路学院) | B40: 电子科学与技术 | C40: 120 | D40: 电子科学231 | E40: 2330110022 | F40: 徐涛 | G40: 92 | H40: =0.75 -> 0.75 | I40: =G40+H40 -> 92.75 | J40: 83.880952 | K40: 1.2 | L40: =J40+K40 -> 85.080952 | M40: 55 | O40: =M40 -> 55 | P40: =I40*15%+L40*75%+O40*10% -> 83.223214 | Q40: 37 | R40: 31 | S40: 是 | T40: 体测成绩不合格
...

Sheet 集24
A1: 附件5：
D2: 微电子学院（集成电路学院）集成电路设计与集成系统专业2024年级综合测评排名表
A3: 学院:微电子学院（集成电路学院） | C3: （盖章） | X3: 学院分管学生工作领导签名：
A4: 学院 | B4: 专业 | C4: 年级 | D4: 班级 | E4: 学号 | F4: 姓名 | G4: 德育 考评分 | H4: 德育 加减分 | I4: 德育 成绩 | J4: 智育 考试分 | K4: 智育 加减分 | L4: 智育 成绩 | M4: 体育 测评分 | N4: 体育 加减分 | O4: 体育 成绩 | P4: 美育 基础分 | Q4: 美育 奖惩分 | R4: 美育 成绩 | S4: 劳育 基础分 | T4: 劳育 奖惩分 | U4: 劳育 成绩 | V4: 综合 测评分 | W4: 综合测评排名 | X4: 学习成绩排名 | Y4: 是否有不及格课程 | Z4: 专业年级 总人数 | AA4: 奖学金 等级 | AB4: 单项 奖学金 | AC4: 荣誉称号 | AD4: 学生签名
A5: 微电子学院（集成电路学院） | B5: 集成电路设计与集成系统 | C5: 2024 | D5: 集243 | E5: 2421110155 | F5: 范梦妍 | G5: 92 | H5: 7 | I5: =G5+H5 -> 99 | J5: =VLOOKUP(F5,[3]Sheet2!$A:$B,2,FALSE) -> 95.254902 | K5: 4.75 | L5: =J5+K5 -> 100.0049 | M5: =VLOOKUP(F5,[4]Sheet2!$A:$B,2,FALSE) -> 82.575 | N5: 2 | O5: =M5+N5 -> 84.575 | P5: 60 | Q5: 19 | R5: =P5+Q5 -> 79 | S5: 60 | T5: 40 | U5: =S5+T5 -> 100 | V5: =I5*0.1+L5*0.75+O5*0.05+R5*0.05+U5*0.05 -> 98.082426 | W5: 1 | X5: 1 | Y5: 否 | Z5: 145 | AA5: 一等奖学金 | AC5: 三好学生标兵
A6: 微电子学院（集成电路学院） | B6: 集成电路设计与集成系统 | C6: 2024 | D6: 集242 | E6: 2437110167 | F6: 邱浚羽 | G6: 91 | H6: 2.5 | I6: =G6+H6 -> 93.5 | J6: =VLOOKUP(F6,[3]Sheet2!$A:$B,2,FALSE) -> 92.058824 | K6: 7.94 | L6: =J6+K6 -> 99.998824 | M6: =VLOOKUP(F6,[4]Sheet2!$A:$B,2,FALSE) -> 94.45 | N6: 0 | O6: =M6+N6 -> 94.45 | P6: 60 | Q6: 0 | R6: =P6+Q6 -> 60 | S6: 60 | T6: 40 | U6: =S6+T6 -> 100 | V6: =I6*0.1+L6*0.75+O6*0.05+R6*0.05+U6*0.05 -> 97.071618 | W6: 2 | X6: 8 | Y6: 否 | Z6: 145 | AA6: 一等奖学金 | AC6: 优秀学生干部
A7: 微电子学院（集成电路学院） | B7: 集成电路设计与集成系统 | C7: 2024 | D7: 集243 | E7: 2437110197 | F7: 孙邱齐 | G7: 91.64 | H7: 6.5 | I7: =G7+H7 -> 98.14 | J7: =VLOOKUP(F7,[3]Sheet2!$A:$B,2,FALSE) -> 92.137255 | K7: 7.86 | L7: =J7+K7 -> 99.997255 | M7: =VLOOKUP(F7,[4]Sheet2!$A:$B,2,FALSE) -> 63.25 | N7: 0 | O7: =M7+N7 -> 63.25 | P7: 60 | Q7: 2 | R7: =P7+Q7 -> 62 | S7: 60 | T7: 40 | U7: =S7+T7 -> 100 | V7: =I7*0.1+L7*0.75+O7*0.05+R7*0.05+U7*0.05 -> 96.074441 | W7: 3 | X7: 6 | Y7: 否 | Z7: 145 | AA7: 一等奖学金 | AC7: 三好学生
A8: 微电子学院（集成电路学院） | B8: 集成电路设计与集成系统 | C8: 2024 | D8: 集244 | E8: 2437110214 | F8: 张家敏 | G8: 91.5 | H8: 1 | I8: =G8+H8 -> 92.5 | J8: =VLOOKUP(F8,[3]Sheet2!$A:$B,2,FALSE) -> 94.54902 | K8: 2.95 | L8: =J8+K8 -> 97.49902 | M8: =VLOOKUP(F8,[4]Sheet2!$A:$B,2,FALSE) -> 87.55 | N8: 0 | O8: =M8+N8 -> 87.55 | P8: 60 | Q8: 5 | R8: =P8+Q8 -> 65 | S8: 60 | T8: 40 | U8: =S8+T8 -> 100 | V8: =I8*0.1+L8*0.75+O8*0.05+R8*0.05+U8*0.05 -> 95.001765 | W8: 4 | X8: 2 | Y8: 否 | Z8: 145 | AA8: 一等奖学金 | AC8: 三好学生标兵
A9: 微电子学院（集成电路学院） | B9: 集成电路设计与集成系统 | C9: 2024 | D9: 集241 | E9: 2334110514 | F9: 王俊翔 | G9: 92 | H9: 6 | I9: =G9+H9 -> 98 | J9: =VLOOKUP(F9,[3]Sheet2!$A:$B,2,FALSE) -> 94.078431 | K9: 2.99 | L9: =J9+K9 -> 97.068431 | M9: =VLOOKUP(F9,[4]Sheet2!$A:$B,2,FALSE) -> 68.8 | N9: 0 | O9: =M9+N9 -> 68.8 | P9: 60 | Q9: 10 | R9: =P9+Q9 -> 70 | S9: 60 | T9: 30 | U9: =S9+T9 -> 90 | V9: =I9*0.1+L9*0.75+O9*0.05+R9*0.05+U9*0.05 -> 94.041324 | W9: 5 | X9: 4 | Y9: 是 | Z9: 145 | AA9: 体测成绩不合格 | AB9: 研究与创新奖
A10: 微电子学院（集成电路学院） | B10: 集成电路设计与集成系统 | C10: 2024 | D10: 集241 | E10: 2437110122 | F10: 巩雯嘉 | G10: 92 | H10: 2 | I10: =G10+H10 -> 94 | J10: =VLOOKUP(F10,[3]Sheet2!$A:$B,2,FALSE) -> 90.45098 | K10: 5 | L10: =J10+K10 -> 95.45098 | M10: =VLOOKUP(F10,[4]Sheet2!$A:$B,2,FALSE) -> 79.75 | N10: 0 | O10: =M10+N10 -> 79.75 | P10: 60 | Q10: 15 | R10: =P10+Q10 -> 75 | S10: 60 | T10: 40 | U10: =S10+T10 -> 100 | V10: =I10*0.1+L10*0.75+O10*0.05+R10*0.05+U10*0.05 -> 93.725735 | W10: 6 | X10: 13 | Y10: 否 | Z10: 145 | AA10: 一等奖学金 | AC10: 三好学生
A11: 微电子学院（集成电路学院） | B11: 集成电路设计与集成系统 | C11: 2024 | D11: 集242 | E11: 2437110155 | F11: 朱欣钰 | G11: 89.62 | H11: 6.5 | I11: =G11+H11 -> 96.12 | J11: =VLOOKUP(F11,[3]Sheet2!$A:$B,2,FALSE) -> 92.058824 | K11: 3.95 | L11: =J11+K11 -> 96.008824 | M11: =VLOOKUP(F11,[4]Sheet2!$A:$B,2,FALSE) -> 81.825 | N11: 0 | O11: =M11+N11 -> 81.825 | P11: 60 | Q11: 0 | R11: =P11+Q11 -> 60 | S11: 60 | T11: 40 | U11: =S11+T11 -> 100 | V11: =I11*0.1+L11*0.75+O11*0.05+R11*0.05+U11*0.05 -> 93.709868 | W11: 7 | X11: 9 | Y11: 否 | Z11: 145 | AA11: 一等奖学金 | AC11: 三好学生
A12: 微电子学院（集成电路学院） | B12: 集成电路设计与集成系统 | C12: 2024 | D12: 集243 | E12: 2437110198 | F12: 王磊 | G12: 92 | H12: 5 | I12: =G12+H12 -> 97 | J12: =VLOOKUP(F12,[3]Sheet2!$A:$B,2,FALSE) -> 94.117647 | K12: 2 | L12: =J12+K12 -> 96.117647 | M12: =VLOOKUP(F12,[4]Sheet2!$A:$B,2,FALSE) -> 76.85 | N12: 0 | O12: =M12+N12 -> 76.85 | P12: 60 | Q12: 0 | R12: =P12+Q12 -> 60 | S12: 60 | T12: 40 | U12: =S12+T12 -> 100 | V12: =I12*0.1+L12*0.75+O12*0.05+R12*0.05+U12*0.05 -> 93.630735 | W12: 8 | X12: 3 | Y12: 否 | Z12: 145 | AA12: 二等奖学金 | AC12: 优秀学生干部
A13: 微电子学院（集成电路学院） | B13: 集成电路设计与集成系统 | C13: 2024 | D13: 集244 | E13: 2437110213 | F13: 颜思婷 | G13: 91.5 | H13: 4.5 | I13: =G13+H13 -> 96 | J13: =VLOOKUP(F13,[3]Sheet2!$A:$B,2,FALSE) -> 92.333333 | K13: 2.2 | L13: =J13+K13 -> 94.533333 | M13: =VLOOKUP(F13,[4]Sheet2!$A:$B,2,FALSE) -> 79.75 | N13: 0 | O13: =M13+N13 -> 79.75 | P13: 60 | Q13: 10 | R13: =P13+Q13 -> 70 | S13: 60 | T13: 40 | U13: =S13+T13 -> 100 | V13: =I13*0.1+L13*0.75+O13*0.05+R13*0.05+U13*0.05 -> 92.9875 | W13: 9 | X13: 5 | Y13: 否 | Z13: 145 | AA13: 二等奖学金 | AC13: 三好学生
A14: 微电子学院（集成电路学院） | B14: 集成电路设计与集成系统 | C14: 2024 | D14: 集244 | E14: 2437110211 | F14: 丁广涵 | G14: 91 | H14: 8 | I14: =G14+H14 -> 99 | J14: =VLOOKUP(F14,[3]Sheet2!$A:$B,2,FALSE) -> 89.431373 | K14: 2.825 | L14: =J14+K14 -> 92.256373 | M14: =VLOOKUP(F14,[4]Sheet2!$A:$B,2,FALSE) -> 86.55 | N14: 0 | O14: =M14+N14 -> 86.55 | P14: 60 | Q14: 10 | R14: =P14+Q14 -> 70 | S14: 60 | T14: 40 | U14: =S14+T14 -> 100 | V14: =I14*0.1+L14*0.75+O14*0.05+R14*0.05+U14*0.05 -> 91.919779 | W14: 10 | X14: 16 | Y14: 否 | Z14: 145 | AA14: 二等奖学金
A15: 微电子学院（集成电路学院） | B15: 集成电路设计与集成系统 | C15: 2024 | D15: 集241 | E15: 2437110146 | F15: 严一航 | G15: 92 | H15: 3 | I15: =G15+H15 -> 95 | J15: =VLOOKUP(F15,[3]Sheet2!$A:$B,2,FALSE) -> 85.705882 | K15: 6.95 | L15: =J15+K15 -> 92.655882 | M15: =VLOOKUP(F15,[4]Sheet2!$A:$B,2,FALSE) -> 89.1 | N15: 1.5 | O15: =M15+N15 -> 90.6 | P15: 60 | Q15: 0 | R15: =P15+Q15 -> 60 | S15: 60 | T15: 40 | U15: =S15+T15 -> 100 | V15: =I15*0.1+L15*0.75+O15*0.05+R15*0.05+U15*0.05 -> 91.521912 | W15: 11 | X15: 30 | Y15: 否 | Z15: 145 | AA15: 二等奖学金
A16: 微电子学院（集成电路学院） | B16: 集成电路设计与集成系统 | C16: 2024 | D16: 集242 | E16: 2437110177 | F16: 张家瑞 | G16: 90.42 | H16: 6.5 | I16: =G16+H16 -> 96.92 | J16: =VLOOKUP(F16,[3]Sheet2!$A:$B,2,FALSE) -> 81.72549 | K16: 11.025 | L16: =J16+K16 -> 92.75049 | M16: =VLOOKUP(F16,[4]Sheet2!$A:$B,2,FALSE) -> 80.1 | N16: 2 | O16: =M16+N16 -> 82.1 | P16: 60 | Q16: 0 | R16: =P16+Q16 -> 60 | S16: 60 | T16: 40 | U16: =S16+T16 -> 100 | V16: =I16*0.1+L16*0.75+O16*0.05+R16*0.05+U16*0.05 -> 91.359868 | W16: 12 | X16: 52 | Y16: 否 | Z16: 145 | AA16: 二等奖学金
A17: 微电子学院（集成电路学院） | B17: 集成电路设计与集成系统 | C17: 2024 | D17: 集242 | E17: 2315110385 | F17: 吴同启 | G17: 90.571 | H17: 2 | I17: =G17+H17 -> 92.571 | J17: =VLOOKUP(F17,[3]Sheet2!$A:$B,2,FALSE) -> 85.764706 | K17: 6.77 | L17: =J17+K17 -> 92.534706 | M17: =VLOOKUP(F17,[4]Sheet2!$A:$B,2,FALSE) -> 93.15 | N17: 0 | O17: =M17+N17 -> 93.15 | P17: 60 | Q17: 0 | R17: =P17+Q17 -> 60 | S17: 60 | T17: 30 | U17: =S17+T17 -> 90 | V17: =I17*0.1+L17*0.75+O17*0.05+R17*0.05+U17*0.05 -> 90.815629 | W17: 13 | X17: 28 | Y17: 否 | Z17: 145 | AA17: 二等奖学金
A18: 微电子学院（集成电路学院） | B18: 集成电路设计与集成系统 | C18: 2024 | D18: 集243 | E18: 2433110422 | F18: 丁跃 | G18: 90.71 | H18: 0 | I18: =G18+H18 -> 90.71 | J18: =VLOOKUP(F18,[3]Sheet2!$A:$B,2,FALSE) -> 91.666667 | K18: 2.2 | L18: =J18+K18 -> 93.866667 | M18: =VLOOKUP(F18,[4]Sheet2!$A:$B,2,FALSE) -> 83.775 | N18: 0 | O18: =M18+N18 -> 83.775 | P18: 60 | Q18: 0 | R18: =P18+Q18 -> 60 | S18: 60 | T18: 18 | U18: =S18+T18 -> 78 | V18: =I18*0.1+L18*0.75+O18*0.05+R18*0.05+U18*0.05 -> 90.55975 | W18: 14 | X18: 11 | Y18: 否 | Z18: 145 | AA18: 二等奖学金 | AC18: 三好学生
A19: 微电子学院（集成电路学院） | B19: 集成电路设计与集成系统 | C19: 2024 | D19: 集243 | E19: 2437110185 | F19: 杨星新 | G19: 90.28 | H19: 3.5 | I19: =G19+H19 -> 93.78 | J19: =VLOOKUP(F19,[3]Sheet2!$A:$B,2,FALSE) -> 89.901961 | K19: 1 | L19: =J19+K19 -> 90.901961 | M19: =VLOOKUP(F19,[4]Sheet2!$A:$B,2,FALSE) -> 79.05 | N19: 0 | O19: =M19+N19 -> 79.05 | P19: 60 | Q19: 8 | R19: =P19+Q19 -> 68 | S19: 60 | T19: 40 | U19: =S19+T19 -> 100 | V19: =I19*0.1+L19*0.75+O19*0.05+R19*0.05+U19*0.05 -> 89.906971 | W19: 15 | X19: 14 | Y19: 否 | Z19: 145 | AA19: 二等奖学金 | AC19: 三好学生
A20: 微电子学院（集成电路学院） | B20: 集成电路设计与集成系统 | C20: 2024 | D20: 集244 | E20: 2437110231 | F20: 吴昶磊 | G20: 91.5 | H20: 4.7 | I20: =G20+H20 -> 96.2 | J20: =VLOOKUP(F20,[3]Sheet2!$A:$B,2,FALSE) -> 88.823529 | K20: 2.5 | L20: =J20+K20 -> 91.323529 | M20: =VLOOKUP(F20,[4]Sheet2!$A:$B,2,FALSE) -> 88.95 | N20: 0 | O20: =M20+N20 -> 88.95 | P20: 60 | Q20: 0 | R20: =P20+Q20 -> 60 | S20: 60 | T20: 25 | U20: =S20+T20 -> 85 | V20: =I20*0.1+L20*0.75+O20*0.05+R20*0.05+U20*0.05 -> 89.810147 | W20: 16 | X20: 20 | Y20: 否 | Z20: 145 | AA20: 二等奖学金
A21: 微电子学院（集成电路学院） | B21: 集成电路设计与集成系统 | C21: 2024 | D21: 集242 | E21: 2430110208 | F21: 况佳怡 | G21: 91 | H21: 9 | I21: =G21+H21 -> 100 | J21: =VLOOKUP(F21,[3]Sheet2!$A:$B,2,FALSE) -> 88.941176 | K21: 0.06 | L21: =J21+K21 -> 89.001176 | M21: =VLOOKUP(F21,[4]Sheet2!$A:$B,2,FALSE) -> 81.05 | N21: 3 | O21: =M21+N21 -> 84.05 | P21: 60 | Q21: 6 | R21: =P21+Q21 -> 66 | S21: 60 | T21: 40 | U21: =S21+T21 -> 100 | V21: =I21*0.1+L21*0.75+O21*0.05+R21*0.05+U21*0.05 -> 89.253382 | W21: 17 | X21: 19 | Y21: 否 | Z21: 145 | AA21: 二等奖学金
A22: 微电子学院（集成电路学院） | B22: 集成电路设计与集成系统 | C22: 2024 | D22: 集243 | E22: 2437110181 | F22: 丁雅欣 | G22: 90.28 | H22: 0 | I22: =G22+H22 -> 90.28 | J22: =VLOOKUP(F22,[3]Sheet2!$A:$B,2,FALSE) -> 91.72549 | K22: 1.95 | L22: =J22+K22 -> 93.67549 | M22: =VLOOKUP(F22,[4]Sheet2!$A:$B,2,FALSE) -> 80.8 | N22: 0 | O22: =M22+N22 -> 80.8 | P22: 60 | Q22: 0 | R22: =P22+Q22 -> 60 | S22: 40 | T22: 15 | U22: =S22+T22 -> 55 | V22: =I22*0.1+L22*0.75+O22*0.05+R22*0.05+U22*0.05 -> 89.074618 | W22: 18 | X22: 10 | Y22: 否 | Z22: 145 | AA22: 二等奖学金 | AC22: 三好学生
A23: 微电子学院（集成电路学院） | B23: 集成电路设计与集成系统 | C23: 2024 | D23: 集241 | E23: 2437110123 | F23: 李怡文 | G23: 92 | H23: 5 | I23: =G23+H23 -> 97 | J23: =VLOOKUP(F23,[3]Sheet2!$A:$B,2,FALSE) -> 89.254902 | K23: 0.25 | L23: =J23+K23 -> 89.504902 | M23: =VLOOKUP(F23,[4]Sheet2!$A:$B,2,FALSE) -> 79.45 | N23: 0 | O23: =M23+N23 -> 79.45 | P23: 60 | Q23: 5 | R23: =P23+Q23 -> 65 | S23: 60 | T23: 40 | U23: =S23+T23 -> 100 | V23: =I23*0.1+L23*0.75+O23*0.05+R23*0.05+U23*0.05 -> 89.051176 | W23: 19 | X23: 18 | Y23: 否 | Z23: 145 | AA23: 二等奖学金
A24: 微电子学院（集成电路学院） | B24: 集成电路设计与集成系统 | C24: 2024 | D24: 集241 | E24: 2421110229 | F24: 曹正宇 | G24: 92 | H24: 2 | I24: =G24+H24 -> 94 | J24: =VLOOKUP(F24,[3]Sheet2!$A:$B,2,FALSE) -> 92.137255 | K24: 1.2 | L24: =J24+K24 -> 93.337255 | M24: =VLOOKUP(F24,[4]Sheet2!$A:$B,2,FALSE) -> 73.85 | N24: 0 | O24: =M24+N24 -> 73.85 | P24: 60 | Q24: 0 | R24: =P24+Q24 -> 60 | S24: 40 | T24: 10 | U24: =S24+T24 -> 50 | V24: =I24*0.1+L24*0.75+O24*0.05+R24*0.05+U24*0.05 -> 88.595441 | W24: 20 | X24: 7 | Y24: 否 | Z24: 145 | AA24: 二等奖学金 | AC24: 三好学生
A25: 微电子学院（集成电路学院） | B25: 集成电路设计与集成系统 | C25: 2024 | D25: 集242 | E25: 2437110154 | F25: 张锦 | G25: 90.71 | H25: 4.5 | I25: =G25+H25 -> 95.21 | J25: =VLOOKUP(F25,[3]Sheet2!$A:$B,2,FALSE) -> 87.666667 | K25: 1.625 | L25: =J25+K25 -> 89.291667 | M25: =VLOOKUP(F25,[4]Sheet2!$A:$B,2,FALSE) -> 79.65 | N25: 0 | O25: =M25+N25 -> 79.65 | P25: 60 | Q25: 0 | R25: =P25+Q25 -> 60 | S25: 60 | T25: 40 | U25: =S25+T25 -> 100 | V25: =I25*0.1+L25*0.75+O25*0.05+R25*0.05+U25*0.05 -> 88.47225 | W25: 21 | X25: 21 | Y25: 否 | Z25: 145 | AA25: 二等奖学金
A26: 微电子学院（集成电路学院） | B26: 集成电路设计与集成系统 | C26: 2024 | D26: 集244 | E26: 2437110240 | F26: 宗剑鸣 | G26: 92 | H26: 6.6 | I26: =G26+H26 -> 98.6 | J26: =VLOOKUP(F26,[3]Sheet2!$A:$B,2,FALSE) -> 86.960784 | K26: 0 | L26: =J26+K26 -> 86.960784 | M26: =VLOOKUP(F26,[4]Sheet2!$A:$B,2,FALSE) -> 77.975 | N26: 0 | O26: =M26+N26 -> 77.975 | P26: 60 | Q26: 5 | R26: =P26+Q26 -> 65 | S26: 60 | T26: 40 | U26: =S26+T26 -> 100 | V26: =I26*0.1+L26*0.75+O26*0.05+R26*0.05+U26*0.05 -> 87.229338 | W26: 22 | X26: 24 | Y26: 否 | Z26: 145 | AA26: 三等奖学金
A27: 微电子学院（集成电路学院） | B27: 集成电路设计与集成系统 | C27: 2024 | D27: 集243 | E27: 2437110193 | F27: 刘文斌 | G27: 90.14 | H27: 0 | I27: =G27+H27 -> 90.14 | J27: =VLOOKUP(F27,[3]Sheet2!$A:$B,2,FALSE) -> 89.470588 | K27: 1.7 | L27: =J27+K27 -> 91.170588 | M27: =VLOOKUP(F27,[4]Sheet2!$A:$B,2,FALSE) -> 66.9 | N27: 0 | O27: =M27+N27 -> 66.9 | P27: 60 | Q27: 0 | R27: =P27+Q27 -> 60 | S27: 40 | T27: 25 | U27: =S27+T27 -> 65 | V27: =I27*0.1+L27*0.75+O27*0.05+R27*0.05+U27*0.05 -> 86.986941 | W27: 23 | X27: 15 | Y27: 否 | Z27: 145 | AA27: 三等奖学金
A28: 微电子学院（集成电路学院） | B28: 集成电路设计与集成系统 | C28: 2024 | D28: 集244 | E28: 2437110223 | F28: 戚成功 | G28: 90 | H28: 0 | I28: =G28+H28 -> 90 | J28: =VLOOKUP(F28,[3]Sheet2!$A:$B,2,FALSE) -> 85.686275 | K28: 2.2 | L28: =J28+K28 -> 87.886275 | M28: =VLOOKUP(F28,[4]Sheet2!$A:$B,2,FALSE) -> 80.1 | N28: 0 | O28: =M28+N28 -> 80.1 | P28: 60 | Q28: 0 | R28: =P28+Q28 -> 60 | S28: 60 | T28: 40 | U28: =S28+T28 -> 100 | V28: =I28*0.1+L28*0.75+O28*0.05+R28*0.05+U28*0.05 -> 86.919706 | W28: 24 | X28: 31 | Y28: 否 | Z28: 145 | AA28: 三等奖学金
A29: 微电子学院（集成电路学院） | B29: 集成电路设计与集成系统 | C29: 2024 | D29: 集243 | E29: 2437110196 | F29: 宋子昂 | G29: 91.42 | H29: 4 | I29: =G29+H29 -> 95.42 | J29: =VLOOKUP(F29,[3]Sheet2!$A:$B,2,FALSE) -> 85.72549 | K29: 1.2 | L29: =J29+K29 -> 86.92549 | M29: =VLOOKUP(F29,[4]Sheet2!$A:$B,2,FALSE) -> 97.5 | N29: 0 | O29: =M29+N29 -> 97.5 | P29: 60 | Q29: 0 | R29: =P29+Q29 -> 60 | S29: 52 | T29: 30 | U29: =S29+T29 -> 82 | V29: =I29*0.1+L29*0.75+O29*0.05+R29*0.05+U29*0.05 -> 86.711118 | W29: 25 | X29: 29 | Y29: 否 | Z29: 145 | AA29: 三等奖学金
A30: 微电子学院（集成电路学院） | B30: 集成电路设计与集成系统 | C30: 2024 | D30: 集241 | E30: 2437110134 | F30: 高迎源 | G30: 91 | H30: 0 | I30: =G30+H30 -> 91 | J30: =VLOOKUP(F30,[3]Sheet2!$A:$B,2,FALSE) -> 90.490196 | K30: 0.03125 | L30: =J30+K30 -> 90.521446 | M30: =VLOOKUP(F30,[4]Sheet2!$A:$B,2,FALSE) -> 71.95 | N30: 0 | O30: =M30+N30 -> 71.95 | P30: 60 | Q30: 0 | R30: =P30+Q30 -> 60 | S30: 40 | T30: 10 | U30: =S30+T30 -> 50 | V30: =I30*0.1+L30*0.75+O30*0.05+R30*0.05+U30*0.05 -> 86.088585 | W30: 26 | X30: 12 | Y30: 否 | Z30: 145 | AA30: 三等奖学金
A31: 微电子学院（集成电路学院） | B31: 集成电路设计与集成系统 | C31: 2024 | D31: 集241 | E31: 2415110069 | F31: 易妍 | G31: 90.5 | H31: 7.5 | I31: =G31+H31 -> 98 | J31: =VLOOKUP(F31,[3]Sheet2!$A:$B,2,FALSE) -> 82.764706 | K31: 1.2 | L31: =J31+K31 -> 83.964706 | M31: =VLOOKUP(F31,[4]Sheet2!$A:$B,2,FALSE) -> 82.3 | N31: 0 | O31: =M31+N31 -> 82.3 | P31: 60 | Q31: 20 | R31: =P31+Q31 -> 80 | S31: 60 | T31: 40 | U31: =S31+T31 -> 100 | V31: =I31*0.1+L31*0.75+O31*0.05+R31*0.05+U31*0.05 -> 85.888529 | W31: 27 | X31: 44 | Y31: 否 | Z31: 145 | AA31: 三等奖学金
A32: 微电子学院（集成电路学院） | B32: 集成电路设计与集成系统 | C32: 2024 | D32: 集243 | E32: 2315110406 | F32: 杜帅 | G32: 88.71 | H32: 0.5 | I32: =G32+H32 -> 89.21 | J32: =VLOOKUP(F32,[3]Sheet2!$A:$B,2,FALSE) -> 89.313725 | K32: 1.2 | L32: =J32+K32 -> 90.513725 | M32: =VLOOKUP(F32,[4]Sheet2!$A:$B,2,FALSE) -> 76.45 | N32: 0 | O32: =M32+N32 -> 76.45 | P32: 60 | Q32: 0 | R32: =P32+Q32 -> 60 | S32: 40 | T32: 0 | U32: =S32+T32 -> 40 | V32: =I32*0.1+L32*0.75+O32*0.05+R32*0.05+U32*0.05 -> 85.628794 | W32: 28 | X32: 17 | Y32: 否 | Z32: 145 | AA32: 三等奖学金
A33: 微电子学院（集成电路学院） | B33: 集成电路设计与集成系统 | C33: 2024 | D33: 集244 | E33: 2437110239 | F33: 郑子健 | G33: 92 | H33: 8 | I33: =G33+H33 -> 100 | J33: =VLOOKUP(F33,[3]Sheet2!$A:$B,2,FALSE) -> 82.960784 | K33: 0.7517 | L33: =J33+K33 -> 83.712484 | M33: =VLOOKUP(F33,[4]Sheet2!$A:$B,2,FALSE) -> 74.85 | N33: 1.5 | O33: =M33+N33 -> 76.35 | P33: 60 | Q33: 11 | R33: =P33+Q33 -> 71 | S33: 60 | T33: 40 | U33: =S33+T33 -> 100 | V33: =I33*0.1+L33*0.75+O33*0.05+R33*0.05+U33*0.05 -> 85.151863 | W33: 29 | X33: 43 | Y33: 否 | Z33: 145 | AA33: 三等奖学金
A34: 微电子学院（集成电路学院） | B34: 集成电路设计与集成系统 | C34: 2024 | D34: 集244 | E34: 2437110212 | F34: 顾芯铱 | G34: 89.5 | H34: 4.5 | I34: =G34+H34 -> 94 | J34: =VLOOKUP(F34,[3]Sheet2!$A:$B,2,FALSE) -> 81.745098 | K34: 2.45 | L34: =J34+K34 -> 84.195098 | M34: =VLOOKUP(F34,[4]Sheet2!$A:$B,2,FALSE) -> 81.4 | N34: 0 | O34: =M34+N34 -> 81.4 | P34: 60 | Q34: 10 | R34: =P34+Q34 -> 70 | S34: 60 | T34: 40 | U34: =S34+T34 -> 100 | V34: =I34*0.1+L34*0.75+O34*0.05+R34*0.05+U34*0.05 -> 85.116324 | W34: 30 | X34: 51 | Y34: 否 | Z34: 145 | AA34: 三等奖学金
A35: 微电子学院（集成电路学院） | B35: 集成电路设计与集成系统 | C35: 2024 | D35: 集244 | E35: 2437110220 | F35: 李想 | G35: 91 | H35: 2 | I35: =G35+H35 -> 93 | J35: =VLOOKUP(F35,[3]Sheet2!$A:$B,2,FALSE) -> 84.27451 | K35: 0 | L35: =J35+K35 -> 84.27451 | M35: =VLOOKUP(F35,[4]Sheet2!$A:$B,2,FALSE) -> 86.8 | N35: 0 | O35: =M35+N35 -> 86.8 | P35: 60 | Q35: 5 | R35: =P35+Q35 -> 65 | S35: 60 | T35: 35 | U35: =S35+T35 -> 95 | V35: =I35*0.1+L35*0.75+O35*0.05+R35*0.05+U35*0.05 -> 84.845882 | W35: 31 | X35: 38 | Y35: 否 | Z35: 145 | AA35: 三等奖学金
A36: 微电子学院（集成电路学院） | B36: 集成电路设计与集成系统 | C36: 2024 | D36: 集244 | E36: 2437110226 | F36: 苏裕城 | G36: 88.5 | H36: 0 | I36: =G36+H36 -> 88.5 | J36: =VLOOKUP(F36,[3]Sheet2!$A:$B,2,FALSE) -> 84 | K36: 1 | L36: =J36+K36 -> 85 | M36: =VLOOKUP(F36,[4]Sheet2!$A:$B,2,FALSE) -> 93.55 | N36: 1.5 | O36: =M36+N36 -> 95.05 | P36: 60 | Q36: 0 | R36: =P36+Q36 -> 60 | S36: 60 | T36: 25 | U36: =S36+T36 -> 85 | V36: =I36*0.1+L36*0.75+O36*0.05+R36*0.05+U36*0.05 -> 84.6025 | W36: 32 | X36: 39 | Y36: 否 | Z36: 145 | AA36: 三等奖学金
... A62: 微电子学院（集成电路学院） | B62: 集成电路设计与集成系统 | C62: 2024 | D62: 集243 | E62: 2437110206 | F62: 张恒毅 | G62: 88.57 | H62: 0 | I62: =G62+H62 -> 88.57 | J62: =VLOOKUP(F62,[3]Sheet2!$A:$B,2,FALSE) -> 82 | K62: 0 | L62: =J62+K62 -> 82 | M62: =VLOOKUP(F62,[4]Sheet2!$A:$B,2,FALSE) -> 80.575 | N62: 0 | O62: =M62+N62 -> 80.575 | P62: 60 | Q62: 0 | R62: =P62+Q62 -> 60 | S62: 40 | T62: 0 | U62: =S62+T62 -> 40 | V62: =I62*0.1+L62*0.75+O62*0.05+R62*0.05+U62*0.05 -> 79.38575 | W62: 58 | X62: 49 | Y62: 否 | Z62: 145 | AA62: 三等奖学金
A63: 微电子学院（集成电路学院） | B63: 集成电路设计与集成系统 | C63: 2024 | D63: 集242 | E63: 2408110165 | F63: 李帅男 | G63: 90.12 | H63: 0.5 | I63: =G63+H63 -> 90.62 | J63: =VLOOKUP(F63,[3]Sheet2!$A:$B,2,FALSE) -> 82.27451 | K63: 0 | L63: =J63+K63 -> 82.27451 | M63: =VLOOKUP(F63,[4]Sheet2!$A:$B,2,FALSE) -> 70.65 | N63: 1.5 | O63: =M63+N63 -> 72.15 | P63: 60 | Q63: 0 | R63: =P63+Q63 -> 60 | S63: 40 | T63: 0 | U63: =S63+T63 -> 40 | V63: =I63*0.1+L63*0.75+O63*0.05+R63*0.05+U63*0.05 -> 79.375382 | W63: 59 | X63: 47 | Y63: 否 | Z63: 145
A64: 微电子学院（集成电路学院） | B64: 集成电路设计与集成系统 | C64: 2024 | D64: 集244 | E64: 2434110543 | F64: 李涵宇 | G64: 88 | H64: 0 | I64: =G64+H64 -> 88 | J64: =VLOOKUP(F64,[3]Sheet2!$A:$B,2,FALSE) -> 77.607843 | K64: 1.7 | L64: =J64+K64 -> 79.307843 | M64: =VLOOKUP(F64,[4]Sheet2!$A:$B,2,FALSE) -> 80.1 | N64: 0 | O64: =M64+N64 -> 80.1 | P64: 60 | Q64: 0 | R64: =P64+Q64 -> 60 | S64: 60 | T64: 20 | U64: =S64+T64 -> 80 | V64: =I64*0.1+L64*0.75+O64*0.05+R64*0.05+U64*0.05 -> 79.285882 | W64: 60 | X64: 83 | Y64: 否 | Z64: 145
A65: 微电子学院（集成电路学院） | B65: 集成电路设计与集成系统 | C65: 2024 | D65: 集244 | E65: 2437110236 | F65: 殷敢优 | G65: 87.5 | H65: 0 | I65: =G65+H65 -> 87.5 | J65: =VLOOKUP(F65,[3]Sheet2!$A:$B,2,FALSE) -> 83.235294 | K65: 0 | L65: =J65+K65 -> 83.235294 | M65: =VLOOKUP(F65,[4]Sheet2!$A:$B,2,FALSE) -> 60 | N65: 0 | O65: =M65+N65 -> 60 | P65: 60 | Q65: 0 | R65: =P65+Q65 -> 60 | S65: 40 | T65: 0 | U65: =S65+T65 -> 40 | V65: =I65*0.1+L65*0.75+O65*0.05+R65*0.05+U65*0.05 -> 79.176471 | W65: 61 | X65: 42 | Y65: 否 | Z65: 145
...

Sheet 电子科学24
A1: 附件5：
A2: 微电子学院（集成电路学院）电子科学与技术专业2024年级综合测评排名表
A3: 学院: 微电子学院（集成电路学院） | C3: （盖章） | X3: 学院分管学生工作领导签名：
A4: 学院 | B4: 专业 | C4: 年级 | D4: 班级 | E4: 学号 | F4: 姓名 | G4: 德育 考评分 | H4: 德育 加减分 | I4: 德育 成绩 | J4: 智育 考试分 | K4: 智育 加减分 | L4: 智育 成绩 | M4: 体育 测评分 | N4: 体育 加减分 | O4: 体育 成绩 | P4: 美育 基础分 | Q4: 美育 奖惩分 | R4: 美育 成绩 | S4: 劳育 基础分 | T4: 劳育 奖惩分 | U4: 劳育 成绩 | V4: 综合 测评分 | W4: 综合测评排名 | X4: 学习成绩排名 | Y4: 是否有不及格课程 | Z4: 专业年级 总人数 | AA4: 奖学金 等级 | AB4: 单项 奖学金 | AC4: 荣誉称号 | AD4: 学生签名
A5: 微电子学院（集成电路学院） | B5: 电子科学与技术 | C5: 2024 | D5: 电子科学244 | E5: 2437110093 | F5: 马欣妍 | G5: 92 | H5: 8 | I5: =G5+H5 -> 100 | J5: =VLOOKUP(F5,[3]Sheet1!$A:$B,2,FALSE) -> 94.163265 | K5: 5.84 | L5: =J5+K5 -> 100.00327 | M5: =VLOOKUP(F5,[4]Sheet1!$A:$B,2,FALSE) -> 89.3 | N5: 10 | O5: =M5+N5 -> 99.3 | P5: 60 | Q5: 29 | R5: =P5+Q5 -> 89 | S5: 40 | T5: 60 | U5: =S5+T5 -> 100 | V5: =I5*0.1+L5*0.75+O5*0.05+R5*0.05+U5*0.05 -> 99.417449 | W5: 1 | X5: 2 | Y5: 否 | Z5: 136 | AA5: 一等奖学金 | AC5: 三好学生标兵
A6: 微电子学院（集成电路学院） | B6: 电子科学与技术 | C6: 2024 | D6: 电子科学243 | E6: 2437110064 | F6: 徐晴 | G6: 91.428571 | H6: 7 | I6: =G6+H6 -> 98.428571 | J6: =VLOOKUP(F6,[3]Sheet1!$A:$B,2,FALSE) -> 94.142857 | K6: 5.86 | L6: =J6+K6 -> 100.00286 | M6: =VLOOKUP(F6,[4]Sheet1!$A:$B,2,FALSE) -> 84.425 | N6: 0 | O6: =M6+N6 -> 84.425 | P6: 60 | Q6: 10 | R6: =P6+Q6 -> 70 | S6: 40 | T6: 60 | U6: =S6+T6 -> 100 | V6: =I6*0.1+L6*0.75+O6*0.05+R6*0.05+U6*0.05 -> 97.56625 | W6: 2 | X6: 4 | Y6: 否 | Z6: 136 | AA6: 一等奖学金 | AC6: 三好学生
A7: 微电子学院（集成电路学院） | B7: 电子科学与技术 | C7: 2024 | D7: 电子科学241 | E7: 2437110002 | F7: 唐雨晴 | G7: 92 | H7: 5 | I7: =G7+H7 -> 97 | J7: =VLOOKUP(F7,[3]Sheet1!$A:$B,2,FALSE) -> 94.836735 | K7: 3.7 | L7: =J7+K7 -> 98.536735 | M7: =VLOOKUP(F7,[4]Sheet1!$A:$B,2,FALSE) -> 89.35 | N7: 0 | O7: =M7+N7 -> 89.35 | P7: 60 | Q7: 8 | R7: =P7+Q7 -> 68 | S7: 40 | T7: 55 | U7: =S7+T7 -> 95 | V7: =I7*0.1+L7*0.75+O7*0.05+R7*0.05+U7*0.05 -> 96.220051 | W7: 3 | X7: 1 | Y7: 否 | Z7: 136 | AA7: 一等奖学金 | AC7: 三好学生标兵
A8: 微电子学院（集成电路学院） | B8: 电子科学与技术 | C8: 2024 | D8: 电子科学244 | E8: 2437110118 | F8: 徐惊宇 | G8: 92 | H8: 8 | I8: =G8+H8 -> 100 | J8: =VLOOKUP(F8,[3]Sheet1!$A:$B,2,FALSE) -> 82.653061 | K8: 11.68 | L8: =J8+K8 -> 94.333061 | M8: =VLOOKUP(F8,[4]Sheet1!$A:$B,2,FALSE) -> 90.9 | N8: 0 | O8: =M8+N8 -> 90.9 | P8: 60 | Q8: 0 | R8: =P8+Q8 -> 60 | S8: 40 | T8: 59 | U8: =S8+T8 -> 99 | V8: =I8*0.1+L8*0.75+O8*0.05+R8*0.05+U8*0.05 -> 93.244796 | W8: 4 | X8: 44 | Y8: 否 | Z8: 136 | AA8: 一等奖学金
A9: 微电子学院（集成电路学院） | B9: 电子科学与技术 | C9: 2024 | D9: 电子科学243 | E9: 2321110068 | F9: 王诗雅 | G9: 91 | H9: 6 | I9: =G9+H9 -> 97 | J9: =VLOOKUP(F9,[3]Sheet1!$A:$B,2,FALSE) -> 87.428571 | K9: 4.905 | L9: =J9+K9 -> 92.333571 | M9: =VLOOKUP(F9,[4]Sheet1!$A:$B,2,FALSE) -> 95.05 | N9: 0 | O9: =M9+N9 -> 95.05 | P9: 60 | Q9: 10 | R9: =P9+Q9 -> 70 | S9: 40 | T9: 60 | U9: =S9+T9 -> 100 | V9: =I9*0.1+L9*0.75+O9*0.05+R9*0.05+U9*0.05 -> 92.202679 | W9: 5 | X9: 23 | Y9: 否 | Z9: 136 | AA9: 一等奖学金
A10: 微电子学院（集成电路学院） | B10: 电子科学与技术 | C10: 2024 | D10: 电子科学242 | E10: 2437110031 | F10: 白紫涵 | G10: 91.67 | H10: 8.33 | I10: =G10+H10 -> 100 | J10: =VLOOKUP(F10,[3]Sheet1!$A:$B,2,FALSE) -> 91.897959 | K10: 1.2 | L10: =J10+K10 -> 93.097959 | M10: =VLOOKUP(F10,[4]Sheet1!$A:$B,2,FALSE) -> 82.45 | N10: 0 | O10: =M10+N10 -> 82.45 | P10: 60 | Q10: 5 | R10: =P10+Q10 -> 65 | S10: 40 | T10: 52.5 | U10: =S10+T10 -> 92.5 | V10: =I10*0.1+L10*0.75+O10*0.05+R10*0.05+U10*0.05 -> 91.820969 | W10: 6 | X10: 9 | Y10: 否 | Z10: 136 | AA10: 一等奖学金 | AC10: 三好学生
A11: 微电子学院（集成电路学院） | B11: 电子科学与技术 | C11: 2024 | D11: 电子科学243 | E11: 2406110106 | F11: 刘亚蕊 | G11: 90.875 | H11: 0 | I11: =G11+H11 -> 90.875 | J11: =VLOOKUP(F11,[3]Sheet1!$A:$B,2,FALSE) -> 89.979592 | K11: 2.2 | L11: =J11+K11 -> 92.179592 | M11: =VLOOKUP(F11,[4]Sheet1!$A:$B,2,FALSE) -> 85.25 | N11: 0 | O11: =M11+N11 -> 85.25 | P11: 60 | Q11: 5 | R11: =P11+Q11 -> 65 | S11: 40 | T11: 57 | U11: =S11+T11 -> 97 | V11: =I11*0.1+L11*0.75+O11*0.05+R11*0.05+U11*0.05 -> 90.584694 | W11: 7 | X11: 14 | Y11: 否 | Z11: 136 | AA11: 二等奖学金
A12: 微电子学院（集成电路学院） | B12: 电子科学与技术 | C12: 2024 | D12: 电子科学243 | E12: 2437110066 | F12: 张雪娇 | G12: 91.428571 | H12: 8.57 | I12: =G12+H12 -> 99.998571 | J12: =VLOOKUP(F12,[3]Sheet1!$A:$B,2,FALSE) -> 89.346939 | K12: 1.4375 | L12: =J12+K12 -> 90.784439 | M12: =VLOOKUP(F12,[4]Sheet1!$A:$B,2,FALSE) -> 85.65 | N12: 0 | O12: =M12+N12 -> 85.65 | P12: 60 | Q12: 10 | R12: =P12+Q12 -> 70 | S12: 40 | T12: 53 | U12: =S12+T12 -> 93 | V12: =I12*0.1+L12*0.75+O12*0.05+R12*0.05+U12*0.05 -> 90.520686 | W12: 8 | X12: 16 | Y12: 否 | Z12: 136 | AA12: 二等奖学金
A13: 微电子学院（集成电路学院） | B13: 电子科学与技术 | C13: 2024 | D13: 电子科学243 | E13: 2437110077 | F13: 沈阳 | G13: 91.142857 | H13: 1 | I13: =G13+H13 -> 92.142857 | J13: =VLOOKUP(F13,[3]Sheet1!$A:$B,2,FALSE) -> 92.673469 | K13: 1.2 | L13: =J13+K13 -> 93.873469 | M13: =VLOOKUP(F13,[4]Sheet1!$A:$B,2,FALSE) -> 73.2 | N13: 0 | O13: =M13+N13 -> 73.2 | P13: 60 | Q13: 5 | R13: =P13+Q13 -> 65 | S13: 40 | T13: 39 | U13: =S13+T13 -> 79 | V13: =I13*0.1+L13*0.75+O13*0.05+R13*0.05+U13*0.05 -> 90.479388 | W13: 9 | X13: 5 | Y13: 否 | Z13: 136 | AA13: 二等奖学金 | AC13: 三好学生
A14: 微电子学院（集成电路学院） | B14: 电子科学与技术 | C14: 2024 | D14: 电子科学244 | E14: 2437110096 | F14: 张琪凤 | G14: 92 | H14: 4.5 | I14: =G14+H14 -> 96.5 | J14: =VLOOKUP(F14,[3]Sheet1!$A:$B,2,FALSE) -> 90.55102 | K14: 0.75 | L14: =J14+K14 -> 91.30102 | M14: =VLOOKUP(F14,[4]Sheet1!$A:$B,2,FALSE) -> 88.6 | N14: 2 | O14: =M14+N14 -> 90.6 | P14: 60 | Q14: 0 | R14: =P14+Q14 -> 60 | S14: 40 | T14: 51 | U14: =S14+T14 -> 91 | V14: =I14*0.1+L14*0.75+O14*0.05+R14*0.05+U14*0.05 -> 90.205765 | W14: 10 | X14: 11 | Y14: 否 | Z14: 136 | AA14: 二等奖学金 | AC14: 优秀学生干部
A15: 微电子学院（集成电路学院） | B15: 电子科学与技术 | C15: 2024 | D15: 电子科学242 | E15: 2415110143 | F15: 白瑞敏 | G15: 91.33 | H15: 0 | I15: =G15+H15 -> 91.33 | J15: =VLOOKUP(F15,[3]Sheet1!$A:$B,2,FALSE) -> 92.632653 | K15: 1.2 | L15: =J15+K15 -> 93.832653 | M15: =VLOOKUP(F15,[4]Sheet1!$A:$B,2,FALSE) -> 84.275 | N15: 0 | O15: =M15+N15 -> 84.275 | P15: 60 | Q15: 0 | R15: =P15+Q15 -> 60 | S15: 40 | T15: 29 | U15: =S15+T15 -> 69 | V15: =I15*0.1+L15*0.75+O15*0.05+R15*0.05+U15*0.05 -> 90.17124 | W15: 11 | X15: 6 | Y15: 否 | Z15: 136 | AA15: 二等奖学金 | AC15: 三好学生
A16: 微电子学院（集成电路学院） | B16: 电子科学与技术 | C16: 2024 | D16: 电子科学243 | E16: 2437110078 | F16: 司栋淇 | G16: 91.142857 | H16: 0 | I16: =G16+H16 -> 91.142857 | J16: =VLOOKUP(F16,[3]Sheet1!$A:$B,2,FALSE) -> 91.938776 | K16: 1.2 | L16: =J16+K16 -> 93.138776 | M16: =VLOOKUP(F16,[4]Sheet1!$A:$B,2,FALSE) -> 64 | N16: 0 | O16: =M16+N16 -> 64 | P16: 60 | Q16: 0 | R16: =P16+Q16 -> 60 | S16: 40 | T16: 60 | U16: =S16+T16 -> 100 | V16: =I16*0.1+L16*0.75+O16*0.05+R16*0.05+U16*0.05 -> 90.168367 | W16: 12 | X16: 8 | Y16: 否 | Z16: 136 | AA16: 二等奖学金 | AC16: 三好学生
A17: 微电子学院（集成电路学院） | B17: 电子科学与技术 | C17: 2024 | D17: 电子科学241 | E17: 2437110005 | F17: 赵思佳 | G17: 92 | H17: 1 | I17: =G17+H17 -> 93 | J17: =VLOOKUP(F17,[3]Sheet1!$A:$B,2,FALSE) -> 90.040816 | K17: 1.2 | L17: =J17+K17 -> 91.240816 | M17: =VLOOKUP(F17,[4]Sheet1!$A:$B,2,FALSE) -> 81.75 | N17: 0 | O17: =M17+N17 -> 81.75 | P17: 60 | Q17: 8 | R17: =P17+Q17 -> 68 | S17: 40 | T17: 55 | U17: =S17+T17 -> 95 | V17: =I17*0.1+L17*0.75+O17*0.05+R17*0.05+U17*0.05 -> 89.968112 | W17: 13 | X17: 13 | Y17: 否 | Z17: 136 | AA17: 二等奖学金 | AC17: 三好学生
A18: 微电子学院（集成电路学院） | B18: 电子科学与技术 | C18: 2024 | D18: 电子科学241 | E18: 2437110003 | F18: 叶圣芸 | G18: 92 | H18: 0 | I18: =G18+H18 -> 92 | J18: =VLOOKUP(F18,[3]Sheet1!$A:$B,2,FALSE) -> 94.163265 | K18: 1.2 | L18: =J18+K18 -> 95.363265 | M18: =VLOOKUP(F18,[4]Sheet1!$A:$B,2,FALSE) -> 60 | N18: 0 | O18: =M18+N18 -> 60 | P18: 60 | Q18: 0 | R18: =P18+Q18 -> 60 | S18: 40 | T18: 20 | U18: =S18+T18 -> 60 | V18: =I18*0.1+L18*0.75+O18*0.05+R18*0.05+U18*0.05 -> 89.722449 | W18: 14 | X18: 3 | Y18: 否 | Z18: 136 | AA18: 二等奖学金 | AC18: 三好学生
A19: 微电子学院（集成电路学院） | B19: 电子科学与技术 | C19: 2024 | D19: 电子科学241 | E19: 2437110006 | F19: 常峻梵 | G19: 90.75 | H19: 2 | I19: =G19+H19 -> 92.75 | J19: =VLOOKUP(F19,[3]Sheet1!$A:$B,2,FALSE) -> 86.571429 | K19: 6 | L19: =J19+K19 -> 92.571429 | M19: =VLOOKUP(F19,[4]Sheet1!$A:$B,2,FALSE) -> 89.1 | N19: 0 | O19: =M19+N19 -> 89.1 | P19: 60 | Q19: 0 | R19: =P19+Q19 -> 60 | S19: 40 | T19: 31 | U19: =S19+T19 -> 71 | V19: =I19*0.1+L19*0.75+O19*0.05+R19*0.05+U19*0.05 -> 89.708571 | W19: 15 | X19: 27 | Y19: 否 | Z19: 136 | AA19: 二等奖学金
A20: 微电子学院（集成电路学院） | B20: 电子科学与技术 | C20: 2024 | D20: 电子科学241 | E20: 2437110001 | F20: 何玉娇 | G20: 91.5 | H20: 2 | I20: =G20+H20 -> 93.5 | J20: =VLOOKUP(F20,[3]Sheet1!$A:$B,2,FALSE) -> 90.285714 | K20: 0 | L20: =J20+K20 -> 90.285714 | M20: =VLOOKUP(F20,[4]Sheet1!$A:$B,2,FALSE) -> 81.6 | N20: 0 | O20: =M20+N20 -> 81.6 | P20: 60 | Q20: 5 | R20: =P20+Q20 -> 65 | S20: 40 | T20: 58 | U20: =S20+T20 -> 98 | V20: =I20*0.1+L20*0.75+O20*0.05+R20*0.05+U20*0.05 -> 89.294286 | W20: 16 | X20: 12 | Y20: 否 | Z20: 136 | AA20: 二等奖学金 | AC20: 三好学生
A21: 微电子学院（集成电路学院） | B21: 电子科学与技术 | C21: 2024 | D21: 电子科学244 | E21: 2437110092 | F21: 李兴燕 | G21: 91.33 | H21: 1 | I21: =G21+H21 -> 92.33 | J21: =VLOOKUP(F21,[3]Sheet1!$A:$B,2,FALSE) -> 92 | K21: 1.2 | L21: =J21+K21 -> 93.2 | M21: =VLOOKUP(F21,[4]Sheet1!$A:$B,2,FALSE) -> 83.3 | N21: 0 | O21: =M21+N21 -> 83.3 | P21: 60 | Q21: 0 | R21: =P21+Q21 -> 60 | S21: 40 | T21: 11 | U21: =S21+T21 -> 51 | V21: =I21*0.1+L21*0.75+O21*0.05+R21*0.05+U21*0.05 -> 88.848 | W21: 17 | X21: 7 | Y21: 否 | Z21: 136 | AA21: 二等奖学金 | AC21: 三好学生
A22: 微电子学院（集成电路学院） | B22: 电子科学与技术 | C22: 2024 | D22: 电子科学242 | E22: 2437110051 | F22: 濮荣幸 | G22: 91.33 | H22: 8.67 | I22: =G22+H22 -> 100 | J22: =VLOOKUP(F22,[3]Sheet1!$A:$B,2,FALSE) -> 86.734694 | K22: 1.2 | L22: =J22+K22 -> 87.934694 | M22: =VLOOKUP(F22,[4]Sheet1!$A:$B,2,FALSE) -> 85.15 | N22: 0 | O22: =M22+N22 -> 85.15 | P22: 60 | Q22: 10 | R22: =P22+Q22 -> 70 | S22: 40 | T22: 60 | U22: =S22+T22 -> 100 | V22: =I22*0.1+L22*0.75+O22*0.05+R22*0.05+U22*0.05 -> 88.70852 | W22: 18 | X22: 26 | Y22: 否 | Z22: 136 | AA22: 二等奖学金
A23: 微电子学院（集成电路学院） | B23: 电子科学与技术 | C23: 2024 | D23: 电子科学242 | E23: 2437110034 | F23: 夏梦圆 | G23: 90.67 | H23: 4.5 | I23: =G23+H23 -> 95.17 | J23: =VLOOKUP(F23,[3]Sheet1!$A:$B,2,FALSE) -> 88.653061 | K23: 2 | L23: =J23+K23 -> 90.653061 | M23: =VLOOKUP(F23,[4]Sheet1!$A:$B,2,FALSE) -> 83.3 | N23: 0 | O23: =M23+N23 -> 83.3 | P23: 60 | Q23: 10 | R23: =P23+Q23 -> 70 | S23: 40 | T23: 30 | U23: =S23+T23 -> 70 | V23: =I23*0.1+L23*0.75+O23*0.05+R23*0.05+U23*0.05 -> 88.671796 | W23: 19 | X23: 20 | Y23: 否 | Z23: 136 | AA23: 二等奖学金
A24: 微电子学院（集成电路学院） | B24: 电子科学与技术 | C24: 2024 | D24: 电子科学242 | E24: 2437110037 | F24: 陈品良 | G24: 90.67 | H24: 0 | I24: =G24+H24 -> 90.67 | J24: =VLOOKUP(F24,[3]Sheet1!$A:$B,2,FALSE) -> 89.734694 | K24: 3.45 | L24: =J24+K24 -> 93.184694 | M24: =VLOOKUP(F24,[4]Sheet1!$A:$B,2,FALSE) -> 77.9 | N24: 0 | O24: =M24+N24 -> 77.9 | P24: 60 | Q24: 0 | R24: =P24+Q24 -> 60 | S24: 40 | T24: 0 | U24: =S24+T24 -> 40 | V24: =I24*0.1+L24*0.75+O24*0.05+R24*0.05+U24*0.05 -> 87.85052 | W24: 20 | X24: 15 | Y24: 否 | Z24: 136 | AA24: 二等奖学金
A25: 微电子学院（集成电路学院） | B25: 电子科学与技术 | C25: 2024 | D25: 电子科学242 | E25: 2415110185 | F25: 夏韵涵 | G25: 91.33 | H25: 0 | I25: =G25+H25 -> 91.33 | J25: =VLOOKUP(F25,[3]Sheet1!$A:$B,2,FALSE) -> 88.55102 | K25: 1 | L25: =J25+K25 -> 89.55102 | M25: =VLOOKUP(F25,[4]Sheet1!$A:$B,2,FALSE) -> 79.95 | N25: 0 | O25: =M25+N25 -> 79.95 | P25: 60 | Q25: 0 | R25: =P25+Q25 -> 60 | S25: 40 | T25: 42 | U25: =S25+T25 -> 82 | V25: =I25*0.1+L25*0.75+O25*0.05+R25*0.05+U25*0.05 -> 87.393765 | W25: 21 | X25: 21 | Y25: 否 | Z25: 136 | AA25: 三等奖学金
A26: 微电子学院（集成电路学院） | B26: 电子科学与技术 | C26: 2024 | D26: 电子科学242 | E26: 2437110035 | F26: 周杭 | G26: 90.67 | H26: 0 | I26: =G26+H26 -> 90.67 | J26: =VLOOKUP(F26,[3]Sheet1!$A:$B,2,FALSE) -> 88.693878 | K26: 2.2 | L26: =J26+K26 -> 90.893878 | M26: =VLOOKUP(F26,[4]Sheet1!$A:$B,2,FALSE) -> 76 | N26: 0 | O26: =M26+N26 -> 76 | P26: 60 | Q26: 0 | R26: =P26+Q26 -> 60 | S26: 40 | T26: 24 | U26: =S26+T26 -> 64 | V26: =I26*0.1+L26*0.75+O26*0.05+R26*0.05+U26*0.05 -> 87.237408 | W26: 22 | X26: 19 | Y26: 否 | Z26: 136 | AA26: 三等奖学金
A27: 微电子学院（集成电路学院） | B27: 电子科学与技术 | C27: 2024 | D27: 电子科学241 | E27: 2437110004 | F27: 张曼 | G27: 92 | H27: 0 | I27: =G27+H27 -> 92 | J27: =VLOOKUP(F27,[3]Sheet1!$A:$B,2,FALSE) -> 91.408163 | K27: 1.2 | L27: =J27+K27 -> 92.608163 | M27: =VLOOKUP(F27,[4]Sheet1!$A:$B,2,FALSE) -> 66 | N27: 0 | O27: =M27+N27 -> 66 | P27: 60 | Q27: 0 | R27: =P27+Q27 -> 60 | S27: 40 | T27: 0 | U27: =S27+T27 -> 40 | V27: =I27*0.1+L27*0.75+O27*0.05+R27*0.05+U27*0.05 -> 86.956122 | W27: 23 | X27: 10 | Y27: 否 | Z27: 136 | AA27: 三等奖学金
A28: 微电子学院（集成电路学院） | B28: 电子科学与技术 | C28: 2024 | D28: 电子科学241 | E28: 2437110012 | F28: 黄畅 | G28: 91 | H28: 0.5 | I28: =G28+H28 -> 91.5 | J28: =VLOOKUP(F28,[3]Sheet1!$A:$B,2,FALSE) -> 86.102041 | K28: 4.2 | L28: =J28+K28 -> 90.302041 | M28: =VLOOKUP(F28,[4]Sheet1!$A:$B,2,FALSE) -> 82.55 | N28: 0 | O28: =M28+N28 -> 82.55 | P28: 60 | Q28: 0 | R28: =P28+Q28 -> 60 | S28: 40 | T28: 15 | U28: =S28+T28 -> 55 | V28: =I28*0.1+L28*0.75+O28*0.05+R28*0.05+U28*0.05 -> 86.754031 | W28: 24 | X28: 31 | Y28: 否 | Z28: 136 | AA28: 三等奖学金
A29: 微电子学院（集成电路学院） | B29: 电子科学与技术 | C29: 2024 | D29: 电子科学241 | E29: 2437110028 | F29: 赵万鹏 | G29: 91 | H29: 5 | I29: =G29+H29 -> 96 | J29: =VLOOKUP(F29,[3]Sheet1!$A:$B,2,FALSE) -> 85.571429 | K29: 1.5 | L29: =J29+K29 -> 87.071429 | M29: =VLOOKUP(F29,[4]Sheet1!$A:$B,2,FALSE) -> 85.9 | N29: 0 | O29: =M29+N29 -> 85.9 | P29: 60 | Q29: 0 | R29: =P29+Q29 -> 60 | S29: 40 | T29: 49 | U29: =S29+T29 -> 89 | V29: =I29*0.1+L29*0.75+O29*0.05+R29*0.05+U29*0.05 -> 86.648571 | W29: 25 | X29: 33 | Y29: 否 | Z29: 136 | AA29: 三等奖学金
A30: 微电子学院（集成电路学院） | B30: 电子科学与技术 | C30: 2024 | D30: 电子科学242 | E30: 2437110052 | F30: 邵羿嘉 | G30: 91.67 | H30: 4 | I30: =G30+H30 -> 95.67 | J30: =VLOOKUP(F30,[3]Sheet1!$A:$B,2,FALSE) -> 84.897959 | K30: 1.45 | L30: =J30+K30 -> 86.347959 | M30: =VLOOKUP(F30,[4]Sheet1!$A:$B,2,FALSE) -> 78.6 | N30: 0 | O30: =M30+N30 -> 78.6 | P30: 60 | Q30: 12 | R30: =P30+Q30 -> 72 | S30: 40 | T30: 52 | U30: =S30+T30 -> 92 | V30: =I30*0.1+L30*0.75+O30*0.05+R30*0.05+U30*0.05 -> 86.457969 | W30: 26 | X30: 35 | Y30: 否 | Z30: 136 | AA30: 三等奖学金
A31: 微电子学院（集成电路学院） | B31: 电子科学与技术 | C31: 2024 | D31: 电子科学244 | E31: 2437110091 | F31: 黄陈岚 | G31: 91.33 | H31: 2.5 | I31: =G31+H31 -> 93.83 | J31: =VLOOKUP(F31,[3]Sheet1!$A:$B,2,FALSE) -> 86.326531 | K31: 1 | L31: =J31+K31 -> 87.326531 | M31: =VLOOKUP(F31,[4]Sheet1!$A:$B,2,FALSE) -> 84.75 | N31: 0 | O31: =M31+N31 -> 84.75 | P31: 60 | Q31: 0 | R31: =P31+Q31 -> 60 | S31: 40 | T31: 44 | U31: =S31+T31 -> 84 | V31: =I31*0.1+L31*0.75+O31*0.05+R31*0.05+U31*0.05 -> 86.315398 | W31: 27 | X31: 29 | Y31: 否 | Z31: 136 | AA31: 三等奖学金
A32: 微电子学院（集成电路学院） | B32: 电子科学与技术 | C32: 2024 | D32: 电子科学242 | E32: 2321110202 | F32: 马骁骏 | G32: 90.67 | H32: 2 | I32: =G32+H32 -> 92.67 | J32: =VLOOKUP(F32,[3]Sheet1!$A:$B,2,FALSE) -> 88.857143 | K32: 1.2 | L32: =J32+K32 -> 90.057143 | M32: =VLOOKUP(F32,[4]Sheet1!$A:$B,2,FALSE) -> 70.4 | N32: 0 | O32: =M32+N32 -> 70.4 | P32: 60 | Q32: 0 | R32: =P32+Q32 -> 60 | S32: 40 | T32: 10 | U32: =S32+T32 -> 50 | V32: =I32*0.1+L32*0.75+O32*0.05+R32*0.05+U32*0.05 -> 85.829857 | W32: 28 | X32: 18 | Y32: 否 | Z32: 136 | AA32: 三等奖学金
A33: 微电子学院（集成电路学院） | B33: 电子科学与技术 | C33: 2024 | D33: 电子科学242 | E33: 2437110053 | F33: 孙榕 | G33: 91.67 | H33: 0 | I33: =G33+H33 -> 91.67 | J33: =VLOOKUP(F33,[3]Sheet1!$A:$B,2,FALSE) -> 89.122449 | K33: 0 | L33: =J33+K33 -> 89.122449 | M33: =VLOOKUP(F33,[4]Sheet1!$A:$B,2,FALSE) -> 74.45 | N33: 0 | O33: =M33+N33 -> 74.45 | P33: 60 | Q33: 0 | R33: =P33+Q33 -> 60 | S33: 40 | T33: 20 | U33: =S33+T33 -> 60 | V33: =I33*0.1+L33*0.75+O33*0.05+R33*0.05+U33*0.05 -> 85.731337 | W33: 29 | X33: 17 | Y33: 否 | Z33: 136 | AA33: 三等奖学金
